BEGIN:VCALENDAR
VERSION:2.0
PRODID:-//Thames Yacht Club - ECPv6.15.17//NONSGML v1.0//EN
CALSCALE:GREGORIAN
METHOD:PUBLISH
X-WR-CALNAME:Thames Yacht Club
X-ORIGINAL-URL:https://thamesyc.org
X-WR-CALDESC:Events for Thames Yacht Club
REFRESH-INTERVAL;VALUE=DURATION:PT1H
X-Robots-Tag:noindex
X-PUBLISHED-TTL:PT1H
BEGIN:VTIMEZONE
TZID:America/New_York
BEGIN:DAYLIGHT
TZOFFSETFROM:-0500
TZOFFSETTO:-0400
TZNAME:EDT
DTSTART:20250309T070000
END:DAYLIGHT
BEGIN:STANDARD
TZOFFSETFROM:-0400
TZOFFSETTO:-0500
TZNAME:EST
DTSTART:20251102T060000
END:STANDARD
BEGIN:DAYLIGHT
TZOFFSETFROM:-0500
TZOFFSETTO:-0400
TZNAME:EDT
DTSTART:20260308T070000
END:DAYLIGHT
BEGIN:STANDARD
TZOFFSETFROM:-0400
TZOFFSETTO:-0500
TZNAME:EST
DTSTART:20261101T060000
END:STANDARD
BEGIN:DAYLIGHT
TZOFFSETFROM:-0500
TZOFFSETTO:-0400
TZNAME:EDT
DTSTART:20270314T070000
END:DAYLIGHT
BEGIN:STANDARD
TZOFFSETFROM:-0400
TZOFFSETTO:-0500
TZNAME:EST
DTSTART:20271107T060000
END:STANDARD
END:VTIMEZONE
BEGIN:VEVENT
DTSTART;TZID=America/New_York:20260816T090000
DTEND;TZID=America/New_York:20260816T210000
DTSTAMP:20260424T111935
CREATED:20260421T003710Z
LAST-MODIFIED:20260421T003710Z
UID:10039703-1786870800-1786914000@thamesyc.org
SUMMARY:Launch Hours
DESCRIPTION:
URL:https://thamesyc.org/event/launch-hours-141/
CATEGORIES:TYC Launch Schedule
END:VEVENT
BEGIN:VEVENT
DTSTART;TZID=America/New_York:20260817T090000
DTEND;TZID=America/New_York:20260817T210000
DTSTAMP:20260424T111935
CREATED:20260421T003747Z
LAST-MODIFIED:20260421T003747Z
UID:10039704-1786957200-1787000400@thamesyc.org
SUMMARY:Launch Hours
DESCRIPTION:
URL:https://thamesyc.org/event/launch-hours-142/
CATEGORIES:TYC Launch Schedule
END:VEVENT
BEGIN:VEVENT
DTSTART;TZID=America/New_York:20260818T090000
DTEND;TZID=America/New_York:20260818T210000
DTSTAMP:20260424T111935
CREATED:20260421T003835Z
LAST-MODIFIED:20260421T003835Z
UID:10039705-1787043600-1787086800@thamesyc.org
SUMMARY:Launch Hours
DESCRIPTION:
URL:https://thamesyc.org/event/launch-hours-143/
CATEGORIES:TYC Launch Schedule
END:VEVENT
BEGIN:VEVENT
DTSTART;TZID=America/New_York:20260819T090000
DTEND;TZID=America/New_York:20260819T213000
DTSTAMP:20260424T111935
CREATED:20260421T003912Z
LAST-MODIFIED:20260421T003912Z
UID:10039706-1787130000-1787175000@thamesyc.org
SUMMARY:Launch Hours
DESCRIPTION:
URL:https://thamesyc.org/event/launch-hours-144/
CATEGORIES:TYC Launch Schedule
END:VEVENT
BEGIN:VEVENT
DTSTART;TZID=America/New_York:20260820T090000
DTEND;TZID=America/New_York:20260820T210000
DTSTAMP:20260424T111935
CREATED:20260421T003950Z
LAST-MODIFIED:20260421T003950Z
UID:10039707-1787216400-1787259600@thamesyc.org
SUMMARY:Launch Hours
DESCRIPTION:
URL:https://thamesyc.org/event/launch-hours-145/
CATEGORIES:TYC Launch Schedule
END:VEVENT
BEGIN:VEVENT
DTSTART;TZID=America/New_York:20260821T090000
DTEND;TZID=America/New_York:20260821T210000
DTSTAMP:20260424T111935
CREATED:20260421T004020Z
LAST-MODIFIED:20260421T004020Z
UID:10039708-1787302800-1787346000@thamesyc.org
SUMMARY:Launch Hours
DESCRIPTION:
URL:https://thamesyc.org/event/launch-hours-146/
CATEGORIES:TYC Launch Schedule
END:VEVENT
BEGIN:VEVENT
DTSTART;TZID=America/New_York:20260822T090000
DTEND;TZID=America/New_York:20260822T210000
DTSTAMP:20260424T111935
CREATED:20260421T004052Z
LAST-MODIFIED:20260421T004052Z
UID:10039709-1787389200-1787432400@thamesyc.org
SUMMARY:Launch Hours
DESCRIPTION:
URL:https://thamesyc.org/event/launch-hours-147/
CATEGORIES:TYC Launch Schedule
END:VEVENT
END:VCALENDAR