BEGIN:VCALENDAR
VERSION:2.0
PRODID:-//Thames Yacht Club - ECPv6.15.20//NONSGML v1.0//EN
CALSCALE:GREGORIAN
METHOD:PUBLISH
X-ORIGINAL-URL:https://thamesyc.org
X-WR-CALDESC:Events for Thames Yacht Club
REFRESH-INTERVAL;VALUE=DURATION:PT1H
X-Robots-Tag:noindex
X-PUBLISHED-TTL:PT1H
BEGIN:VTIMEZONE
TZID:America/New_York
BEGIN:DAYLIGHT
TZOFFSETFROM:-0500
TZOFFSETTO:-0400
TZNAME:EDT
DTSTART:20230312T070000
END:DAYLIGHT
BEGIN:STANDARD
TZOFFSETFROM:-0400
TZOFFSETTO:-0500
TZNAME:EST
DTSTART:20231105T060000
END:STANDARD
BEGIN:DAYLIGHT
TZOFFSETFROM:-0500
TZOFFSETTO:-0400
TZNAME:EDT
DTSTART:20240310T070000
END:DAYLIGHT
BEGIN:STANDARD
TZOFFSETFROM:-0400
TZOFFSETTO:-0500
TZNAME:EST
DTSTART:20241103T060000
END:STANDARD
BEGIN:DAYLIGHT
TZOFFSETFROM:-0500
TZOFFSETTO:-0400
TZNAME:EDT
DTSTART:20250309T070000
END:DAYLIGHT
BEGIN:STANDARD
TZOFFSETFROM:-0400
TZOFFSETTO:-0500
TZNAME:EST
DTSTART:20251102T060000
END:STANDARD
END:VTIMEZONE
BEGIN:VEVENT
DTSTART;TZID=America/New_York:20240602T090000
DTEND;TZID=America/New_York:20240602T204500
DTSTAMP:20260425T102532
CREATED:20240602T004601Z
LAST-MODIFIED:20240602T004601Z
UID:10038373-1717318800-1717361100@thamesyc.org
SUMMARY:Launch Hours
DESCRIPTION:
URL:https://thamesyc.org/event/launch-hours-3/
CATEGORIES:TYC Launch Schedule
END:VEVENT
BEGIN:VEVENT
DTSTART;TZID=America/New_York:20240603T090000
DTEND;TZID=America/New_York:20240603T204500
DTSTAMP:20260425T102532
CREATED:20240602T004656Z
LAST-MODIFIED:20240602T004656Z
UID:10038374-1717405200-1717447500@thamesyc.org
SUMMARY:Launch Hours
DESCRIPTION:
URL:https://thamesyc.org/event/launch-hours-4/
CATEGORIES:TYC Launch Schedule
END:VEVENT
BEGIN:VEVENT
DTSTART;TZID=America/New_York:20240604T090000
DTEND;TZID=America/New_York:20240604T204500
DTSTAMP:20260425T102532
CREATED:20240602T004823Z
LAST-MODIFIED:20240602T004823Z
UID:10038375-1717491600-1717533900@thamesyc.org
SUMMARY:Launch Hours
DESCRIPTION:
URL:https://thamesyc.org/event/launch-hours-5/
CATEGORIES:TYC Launch Schedule
END:VEVENT
BEGIN:VEVENT
DTSTART;TZID=America/New_York:20240605T090000
DTEND;TZID=America/New_York:20240605T204500
DTSTAMP:20260425T102532
CREATED:20240602T005001Z
LAST-MODIFIED:20240602T005001Z
UID:10038376-1717578000-1717620300@thamesyc.org
SUMMARY:Launch Hours
DESCRIPTION:
URL:https://thamesyc.org/event/launch-hours-6/
CATEGORIES:TYC Launch Schedule
END:VEVENT
BEGIN:VEVENT
DTSTART;TZID=America/New_York:20240606T090000
DTEND;TZID=America/New_York:20240606T204500
DTSTAMP:20260425T102532
CREATED:20240602T005100Z
LAST-MODIFIED:20240605T144713Z
UID:10038377-1717664400-1717706700@thamesyc.org
SUMMARY:Launch Hours
DESCRIPTION:
URL:https://thamesyc.org/event/launch-hours-7/
CATEGORIES:TYC Launch Schedule
END:VEVENT
BEGIN:VEVENT
DTSTART;TZID=America/New_York:20240607T080000
DTEND;TZID=America/New_York:20240607T204500
DTSTAMP:20260425T102532
CREATED:20240602T005148Z
LAST-MODIFIED:20240606T201535Z
UID:10038378-1717747200-1717793100@thamesyc.org
SUMMARY:Launch Hours
DESCRIPTION:
URL:https://thamesyc.org/event/launch-hours-8/
CATEGORIES:TYC Launch Schedule
END:VEVENT
BEGIN:VEVENT
DTSTART;TZID=America/New_York:20240608T090000
DTEND;TZID=America/New_York:20240608T204500
DTSTAMP:20260425T102532
CREATED:20240602T005234Z
LAST-MODIFIED:20240605T144438Z
UID:10038379-1717837200-1717879500@thamesyc.org
SUMMARY:Launch Hours
DESCRIPTION:
URL:https://thamesyc.org/event/launch-hours-9/
CATEGORIES:TYC Launch Schedule
END:VEVENT
END:VCALENDAR