BEGIN:VCALENDAR
VERSION:2.0
PRODID:-//Thames Yacht Club - ECPv6.15.20//NONSGML v1.0//EN
CALSCALE:GREGORIAN
METHOD:PUBLISH
X-ORIGINAL-URL:https://thamesyc.org
X-WR-CALDESC:Events for Thames Yacht Club
REFRESH-INTERVAL;VALUE=DURATION:PT1H
X-Robots-Tag:noindex
X-PUBLISHED-TTL:PT1H
BEGIN:VTIMEZONE
TZID:America/New_York
BEGIN:DAYLIGHT
TZOFFSETFROM:-0500
TZOFFSETTO:-0400
TZNAME:EDT
DTSTART:20220313T070000
END:DAYLIGHT
BEGIN:STANDARD
TZOFFSETFROM:-0400
TZOFFSETTO:-0500
TZNAME:EST
DTSTART:20221106T060000
END:STANDARD
BEGIN:DAYLIGHT
TZOFFSETFROM:-0500
TZOFFSETTO:-0400
TZNAME:EDT
DTSTART:20230312T070000
END:DAYLIGHT
BEGIN:STANDARD
TZOFFSETFROM:-0400
TZOFFSETTO:-0500
TZNAME:EST
DTSTART:20231105T060000
END:STANDARD
BEGIN:DAYLIGHT
TZOFFSETFROM:-0500
TZOFFSETTO:-0400
TZNAME:EDT
DTSTART:20240310T070000
END:DAYLIGHT
BEGIN:STANDARD
TZOFFSETFROM:-0400
TZOFFSETTO:-0500
TZNAME:EST
DTSTART:20241103T060000
END:STANDARD
END:VTIMEZONE
BEGIN:VEVENT
DTSTART;TZID=America/New_York:20230813T090000
DTEND;TZID=America/New_York:20230813T210000
DTSTAMP:20260426T002523
CREATED:20230530T234336Z
LAST-MODIFIED:20230530T234336Z
UID:10036245-1691917200-1691960400@thamesyc.org
SUMMARY:Launch Hours 0900-2100
DESCRIPTION:
URL:https://thamesyc.org/event/launch-hours-0900-2100-2-2/2023-08-13/
CATEGORIES:TYC Launch Schedule
END:VEVENT
BEGIN:VEVENT
DTSTART;TZID=America/New_York:20230814T090000
DTEND;TZID=America/New_York:20230814T210000
DTSTAMP:20260426T002523
CREATED:20230530T234336Z
LAST-MODIFIED:20230530T234336Z
UID:10036246-1692003600-1692046800@thamesyc.org
SUMMARY:Launch Hours 0900-2100
DESCRIPTION:
URL:https://thamesyc.org/event/launch-hours-0900-2100-2-2/2023-08-14/
CATEGORIES:TYC Launch Schedule
END:VEVENT
BEGIN:VEVENT
DTSTART;TZID=America/New_York:20230815T090000
DTEND;TZID=America/New_York:20230815T210000
DTSTAMP:20260426T002523
CREATED:20230530T234336Z
LAST-MODIFIED:20230530T234336Z
UID:10036247-1692090000-1692133200@thamesyc.org
SUMMARY:Launch Hours 0900-2100
DESCRIPTION:
URL:https://thamesyc.org/event/launch-hours-0900-2100-2-2/2023-08-15/
CATEGORIES:TYC Launch Schedule
END:VEVENT
BEGIN:VEVENT
DTSTART;TZID=America/New_York:20230816T090000
DTEND;TZID=America/New_York:20230816T210000
DTSTAMP:20260426T002523
CREATED:20230530T234336Z
LAST-MODIFIED:20230530T234336Z
UID:10036248-1692176400-1692219600@thamesyc.org
SUMMARY:Launch Hours 0900-2100
DESCRIPTION:
URL:https://thamesyc.org/event/launch-hours-0900-2100-2-2/2023-08-16/
CATEGORIES:TYC Launch Schedule
END:VEVENT
BEGIN:VEVENT
DTSTART;TZID=America/New_York:20230817T090000
DTEND;TZID=America/New_York:20230817T210000
DTSTAMP:20260426T002523
CREATED:20230530T234336Z
LAST-MODIFIED:20230530T234336Z
UID:10036249-1692262800-1692306000@thamesyc.org
SUMMARY:Launch Hours 0900-2100
DESCRIPTION:
URL:https://thamesyc.org/event/launch-hours-0900-2100-2-2/2023-08-17/
CATEGORIES:TYC Launch Schedule
END:VEVENT
BEGIN:VEVENT
DTSTART;TZID=America/New_York:20230818T090000
DTEND;TZID=America/New_York:20230818T210000
DTSTAMP:20260426T002523
CREATED:20230530T234336Z
LAST-MODIFIED:20230530T234336Z
UID:10036250-1692349200-1692392400@thamesyc.org
SUMMARY:Launch Hours 0900-2100
DESCRIPTION:
URL:https://thamesyc.org/event/launch-hours-0900-2100-2-2/2023-08-18/
CATEGORIES:TYC Launch Schedule
END:VEVENT
BEGIN:VEVENT
DTSTART;TZID=America/New_York:20230819T090000
DTEND;TZID=America/New_York:20230819T210000
DTSTAMP:20260426T002523
CREATED:20230530T234336Z
LAST-MODIFIED:20230530T234336Z
UID:10036251-1692435600-1692478800@thamesyc.org
SUMMARY:Launch Hours 0900-2100
DESCRIPTION:
URL:https://thamesyc.org/event/launch-hours-0900-2100-2-2/2023-08-19/
CATEGORIES:TYC Launch Schedule
END:VEVENT
END:VCALENDAR