BEGIN:VCALENDAR
VERSION:2.0
PRODID:-//Thames Yacht Club - ECPv6.15.17//NONSGML v1.0//EN
CALSCALE:GREGORIAN
METHOD:PUBLISH
X-WR-CALNAME:Thames Yacht Club
X-ORIGINAL-URL:https://thamesyc.org
X-WR-CALDESC:Events for Thames Yacht Club
REFRESH-INTERVAL;VALUE=DURATION:PT1H
X-Robots-Tag:noindex
X-PUBLISHED-TTL:PT1H
BEGIN:VTIMEZONE
TZID:America/New_York
BEGIN:DAYLIGHT
TZOFFSETFROM:-0500
TZOFFSETTO:-0400
TZNAME:EDT
DTSTART:20250309T070000
END:DAYLIGHT
BEGIN:STANDARD
TZOFFSETFROM:-0400
TZOFFSETTO:-0500
TZNAME:EST
DTSTART:20251102T060000
END:STANDARD
BEGIN:DAYLIGHT
TZOFFSETFROM:-0500
TZOFFSETTO:-0400
TZNAME:EDT
DTSTART:20260308T070000
END:DAYLIGHT
BEGIN:STANDARD
TZOFFSETFROM:-0400
TZOFFSETTO:-0500
TZNAME:EST
DTSTART:20261101T060000
END:STANDARD
BEGIN:DAYLIGHT
TZOFFSETFROM:-0500
TZOFFSETTO:-0400
TZNAME:EDT
DTSTART:20270314T070000
END:DAYLIGHT
BEGIN:STANDARD
TZOFFSETFROM:-0400
TZOFFSETTO:-0500
TZNAME:EST
DTSTART:20271107T060000
END:STANDARD
END:VTIMEZONE
BEGIN:VEVENT
DTSTART;TZID=America/New_York:20260622T090000
DTEND;TZID=America/New_York:20260622T210000
DTSTAMP:20260424T103444
CREATED:20260420T234855Z
LAST-MODIFIED:20260420T234855Z
UID:10039648-1782118800-1782162000@thamesyc.org
SUMMARY:Launch Hours
DESCRIPTION:
URL:https://thamesyc.org/event/launch-hours-86/
CATEGORIES:TYC Launch Schedule
END:VEVENT
BEGIN:VEVENT
DTSTART;TZID=America/New_York:20260623T090000
DTEND;TZID=America/New_York:20260623T210000
DTSTAMP:20260424T103444
CREATED:20260420T234930Z
LAST-MODIFIED:20260420T234930Z
UID:10039649-1782205200-1782248400@thamesyc.org
SUMMARY:Launch Hours
DESCRIPTION:
URL:https://thamesyc.org/event/launch-hours-87/
CATEGORIES:TYC Launch Schedule
END:VEVENT
BEGIN:VEVENT
DTSTART;TZID=America/New_York:20260624T090000
DTEND;TZID=America/New_York:20260624T213000
DTSTAMP:20260424T103444
CREATED:20260420T235004Z
LAST-MODIFIED:20260420T235004Z
UID:10039650-1782291600-1782336600@thamesyc.org
SUMMARY:Launch Hours
DESCRIPTION:
URL:https://thamesyc.org/event/launch-hours-88/
CATEGORIES:TYC Launch Schedule
END:VEVENT
BEGIN:VEVENT
DTSTART;TZID=America/New_York:20260625T090000
DTEND;TZID=America/New_York:20260625T210000
DTSTAMP:20260424T103444
CREATED:20260420T235042Z
LAST-MODIFIED:20260420T235042Z
UID:10039651-1782378000-1782421200@thamesyc.org
SUMMARY:Launch Hours
DESCRIPTION:
URL:https://thamesyc.org/event/launch-hours-89/
CATEGORIES:TYC Launch Schedule
END:VEVENT
BEGIN:VEVENT
DTSTART;TZID=America/New_York:20260626T090000
DTEND;TZID=America/New_York:20260626T210000
DTSTAMP:20260424T103444
CREATED:20260420T235126Z
LAST-MODIFIED:20260420T235126Z
UID:10039652-1782464400-1782507600@thamesyc.org
SUMMARY:Launch Hours
DESCRIPTION:
URL:https://thamesyc.org/event/launch-hours-90/
CATEGORIES:TYC Launch Schedule
END:VEVENT
BEGIN:VEVENT
DTSTART;TZID=America/New_York:20260627T090000
DTEND;TZID=America/New_York:20260627T210000
DTSTAMP:20260424T103444
CREATED:20260420T235208Z
LAST-MODIFIED:20260420T235242Z
UID:10039653-1782550800-1782594000@thamesyc.org
SUMMARY:Launch Hours
DESCRIPTION:
URL:https://thamesyc.org/event/launch-hours-91/
CATEGORIES:TYC Launch Schedule
END:VEVENT
BEGIN:VEVENT
DTSTART;TZID=America/New_York:20260628T090000
DTEND;TZID=America/New_York:20260628T210000
DTSTAMP:20260424T103444
CREATED:20260420T235527Z
LAST-MODIFIED:20260420T235552Z
UID:10039654-1782637200-1782680400@thamesyc.org
SUMMARY:Launch Hours
DESCRIPTION:
URL:https://thamesyc.org/event/launch-hours-92/
CATEGORIES:TYC Launch Schedule
END:VEVENT
BEGIN:VEVENT
DTSTART;TZID=America/New_York:20260629T090000
DTEND;TZID=America/New_York:20260629T210000
DTSTAMP:20260424T103444
CREATED:20260420T235619Z
LAST-MODIFIED:20260420T235619Z
UID:10039655-1782723600-1782766800@thamesyc.org
SUMMARY:Launch Hours
DESCRIPTION:
URL:https://thamesyc.org/event/launch-hours-93/
CATEGORIES:TYC Launch Schedule
END:VEVENT
BEGIN:VEVENT
DTSTART;TZID=America/New_York:20260630T090000
DTEND;TZID=America/New_York:20260630T210000
DTSTAMP:20260424T103444
CREATED:20260420T235706Z
LAST-MODIFIED:20260421T011120Z
UID:10039656-1782810000-1782853200@thamesyc.org
SUMMARY:Launch Hours
DESCRIPTION:
URL:https://thamesyc.org/event/launch-hours-94/
CATEGORIES:TYC Launch Schedule
END:VEVENT
BEGIN:VEVENT
DTSTART;TZID=America/New_York:20260701T090000
DTEND;TZID=America/New_York:20260701T213000
DTSTAMP:20260424T103444
CREATED:20260420T235737Z
LAST-MODIFIED:20260420T235737Z
UID:10039657-1782896400-1782941400@thamesyc.org
SUMMARY:Launch Hours
DESCRIPTION:
URL:https://thamesyc.org/event/launch-hours-95/
CATEGORIES:TYC Launch Schedule
END:VEVENT
BEGIN:VEVENT
DTSTART;TZID=America/New_York:20260702T090000
DTEND;TZID=America/New_York:20260702T210000
DTSTAMP:20260424T103444
CREATED:20260420T235817Z
LAST-MODIFIED:20260420T235817Z
UID:10039658-1782982800-1783026000@thamesyc.org
SUMMARY:Launch Hours
DESCRIPTION:
URL:https://thamesyc.org/event/launch-hours-96/
CATEGORIES:TYC Launch Schedule
END:VEVENT
BEGIN:VEVENT
DTSTART;TZID=America/New_York:20260703T090000
DTEND;TZID=America/New_York:20260703T210000
DTSTAMP:20260424T103444
CREATED:20260420T235848Z
LAST-MODIFIED:20260420T235848Z
UID:10039659-1783069200-1783112400@thamesyc.org
SUMMARY:Launch Hours
DESCRIPTION:
URL:https://thamesyc.org/event/launch-hours-97/
CATEGORIES:TYC Launch Schedule
END:VEVENT
BEGIN:VEVENT
DTSTART;TZID=America/New_York:20260704T090000
DTEND;TZID=America/New_York:20260704T210000
DTSTAMP:20260424T103444
CREATED:20260420T235919Z
LAST-MODIFIED:20260420T235919Z
UID:10039660-1783155600-1783198800@thamesyc.org
SUMMARY:Launch Hours
DESCRIPTION:
URL:https://thamesyc.org/event/launch-hours-98/
CATEGORIES:TYC Launch Schedule
END:VEVENT
BEGIN:VEVENT
DTSTART;TZID=America/New_York:20260705T090000
DTEND;TZID=America/New_York:20260705T210000
DTSTAMP:20260424T103444
CREATED:20260420T235952Z
LAST-MODIFIED:20260421T001231Z
UID:10039661-1783242000-1783285200@thamesyc.org
SUMMARY:Launch Hours
DESCRIPTION:
URL:https://thamesyc.org/event/launch-hours-99/
CATEGORIES:TYC Launch Schedule
END:VEVENT
BEGIN:VEVENT
DTSTART;TZID=America/New_York:20260706T090000
DTEND;TZID=America/New_York:20260706T210000
DTSTAMP:20260424T103444
CREATED:20260421T001306Z
LAST-MODIFIED:20260421T001306Z
UID:10039662-1783328400-1783371600@thamesyc.org
SUMMARY:Launch Hours
DESCRIPTION:
URL:https://thamesyc.org/event/launch-hours-100/
CATEGORIES:TYC Launch Schedule
END:VEVENT
BEGIN:VEVENT
DTSTART;TZID=America/New_York:20260707T090000
DTEND;TZID=America/New_York:20260707T210000
DTSTAMP:20260424T103444
CREATED:20260421T001340Z
LAST-MODIFIED:20260421T001340Z
UID:10039663-1783414800-1783458000@thamesyc.org
SUMMARY:Launch Hours
DESCRIPTION:
URL:https://thamesyc.org/event/launch-hours-101/
CATEGORIES:TYC Launch Schedule
END:VEVENT
BEGIN:VEVENT
DTSTART;TZID=America/New_York:20260708T090000
DTEND;TZID=America/New_York:20260708T213000
DTSTAMP:20260424T103444
CREATED:20260421T001428Z
LAST-MODIFIED:20260421T001428Z
UID:10039664-1783501200-1783546200@thamesyc.org
SUMMARY:Launch Hours
DESCRIPTION:
URL:https://thamesyc.org/event/launch-hours-102/
CATEGORIES:TYC Launch Schedule
END:VEVENT
BEGIN:VEVENT
DTSTART;TZID=America/New_York:20260709T090000
DTEND;TZID=America/New_York:20260709T210000
DTSTAMP:20260424T103444
CREATED:20260421T001502Z
LAST-MODIFIED:20260421T001502Z
UID:10039665-1783587600-1783630800@thamesyc.org
SUMMARY:Launch Hours
DESCRIPTION:
URL:https://thamesyc.org/event/launch-hours-103/
CATEGORIES:TYC Launch Schedule
END:VEVENT
BEGIN:VEVENT
DTSTART;TZID=America/New_York:20260710T090000
DTEND;TZID=America/New_York:20260710T210000
DTSTAMP:20260424T103444
CREATED:20260421T001539Z
LAST-MODIFIED:20260421T001539Z
UID:10039666-1783674000-1783717200@thamesyc.org
SUMMARY:Launch Hours
DESCRIPTION:
URL:https://thamesyc.org/event/launch-hours-104/
CATEGORIES:TYC Launch Schedule
END:VEVENT
BEGIN:VEVENT
DTSTART;TZID=America/New_York:20260711T090000
DTEND;TZID=America/New_York:20260711T210000
DTSTAMP:20260424T103444
CREATED:20260421T001612Z
LAST-MODIFIED:20260421T001612Z
UID:10039667-1783760400-1783803600@thamesyc.org
SUMMARY:Launch Hours
DESCRIPTION:
URL:https://thamesyc.org/event/launch-hours-105/
CATEGORIES:TYC Launch Schedule
END:VEVENT
BEGIN:VEVENT
DTSTART;TZID=America/New_York:20260712T090000
DTEND;TZID=America/New_York:20260712T210000
DTSTAMP:20260424T103444
CREATED:20260421T001646Z
LAST-MODIFIED:20260421T001703Z
UID:10039668-1783846800-1783890000@thamesyc.org
SUMMARY:Launch Hours
DESCRIPTION:
URL:https://thamesyc.org/event/launch-hours-106/
CATEGORIES:TYC Launch Schedule
END:VEVENT
BEGIN:VEVENT
DTSTART;TZID=America/New_York:20260713T090000
DTEND;TZID=America/New_York:20260713T210000
DTSTAMP:20260424T103444
CREATED:20260421T001734Z
LAST-MODIFIED:20260421T001734Z
UID:10039669-1783933200-1783976400@thamesyc.org
SUMMARY:Launch Hours
DESCRIPTION:
URL:https://thamesyc.org/event/launch-hours-107/
CATEGORIES:TYC Launch Schedule
END:VEVENT
BEGIN:VEVENT
DTSTART;TZID=America/New_York:20260714T090000
DTEND;TZID=America/New_York:20260714T210000
DTSTAMP:20260424T103444
CREATED:20260421T001804Z
LAST-MODIFIED:20260421T001804Z
UID:10039670-1784019600-1784062800@thamesyc.org
SUMMARY:Launch Hours
DESCRIPTION:
URL:https://thamesyc.org/event/launch-hours-108/
CATEGORIES:TYC Launch Schedule
END:VEVENT
BEGIN:VEVENT
DTSTART;TZID=America/New_York:20260715T090000
DTEND;TZID=America/New_York:20260715T213000
DTSTAMP:20260424T103444
CREATED:20260421T001834Z
LAST-MODIFIED:20260421T001834Z
UID:10039671-1784106000-1784151000@thamesyc.org
SUMMARY:Launch Hours
DESCRIPTION:
URL:https://thamesyc.org/event/launch-hours-109/
CATEGORIES:TYC Launch Schedule
END:VEVENT
BEGIN:VEVENT
DTSTART;TZID=America/New_York:20260716T090000
DTEND;TZID=America/New_York:20260716T210000
DTSTAMP:20260424T103444
CREATED:20260421T001918Z
LAST-MODIFIED:20260421T001918Z
UID:10039672-1784192400-1784235600@thamesyc.org
SUMMARY:Launch Hours
DESCRIPTION:
URL:https://thamesyc.org/event/launch-hours-110/
CATEGORIES:TYC Launch Schedule
END:VEVENT
BEGIN:VEVENT
DTSTART;TZID=America/New_York:20260717T090000
DTEND;TZID=America/New_York:20260717T210000
DTSTAMP:20260424T103444
CREATED:20260421T001949Z
LAST-MODIFIED:20260421T001949Z
UID:10039673-1784278800-1784322000@thamesyc.org
SUMMARY:Launch Hours
DESCRIPTION:
URL:https://thamesyc.org/event/launch-hours-111/
CATEGORIES:TYC Launch Schedule
END:VEVENT
BEGIN:VEVENT
DTSTART;TZID=America/New_York:20260718T090000
DTEND;TZID=America/New_York:20260718T210000
DTSTAMP:20260424T103444
CREATED:20260421T002027Z
LAST-MODIFIED:20260421T002027Z
UID:10039674-1784365200-1784408400@thamesyc.org
SUMMARY:Launch Hours
DESCRIPTION:
URL:https://thamesyc.org/event/launch-hours-112/
CATEGORIES:TYC Launch Schedule
END:VEVENT
BEGIN:VEVENT
DTSTART;TZID=America/New_York:20260719T090000
DTEND;TZID=America/New_York:20260719T210000
DTSTAMP:20260424T103444
CREATED:20260421T002101Z
LAST-MODIFIED:20260421T002101Z
UID:10039675-1784451600-1784494800@thamesyc.org
SUMMARY:Launch Hours
DESCRIPTION:
URL:https://thamesyc.org/event/launch-hours-113/
CATEGORIES:TYC Launch Schedule
END:VEVENT
BEGIN:VEVENT
DTSTART;TZID=America/New_York:20260720T090000
DTEND;TZID=America/New_York:20260720T210000
DTSTAMP:20260424T103444
CREATED:20260421T002137Z
LAST-MODIFIED:20260421T002137Z
UID:10039676-1784538000-1784581200@thamesyc.org
SUMMARY:Launch Hours
DESCRIPTION:
URL:https://thamesyc.org/event/launch-hours-114/
CATEGORIES:TYC Launch Schedule
END:VEVENT
BEGIN:VEVENT
DTSTART;TZID=America/New_York:20260721T090000
DTEND;TZID=America/New_York:20260721T210000
DTSTAMP:20260424T103444
CREATED:20260421T002207Z
LAST-MODIFIED:20260421T002207Z
UID:10039677-1784624400-1784667600@thamesyc.org
SUMMARY:Launch Hours
DESCRIPTION:
URL:https://thamesyc.org/event/launch-hours-115/
CATEGORIES:TYC Launch Schedule
END:VEVENT
END:VCALENDAR