BEGIN:VCALENDAR
VERSION:2.0
PRODID:-//Thames Yacht Club - ECPv6.15.17//NONSGML v1.0//EN
CALSCALE:GREGORIAN
METHOD:PUBLISH
X-WR-CALNAME:Thames Yacht Club
X-ORIGINAL-URL:https://thamesyc.org
X-WR-CALDESC:Events for Thames Yacht Club
REFRESH-INTERVAL;VALUE=DURATION:PT1H
X-Robots-Tag:noindex
X-PUBLISHED-TTL:PT1H
BEGIN:VTIMEZONE
TZID:America/New_York
BEGIN:DAYLIGHT
TZOFFSETFROM:-0500
TZOFFSETTO:-0400
TZNAME:EDT
DTSTART:20240310T070000
END:DAYLIGHT
BEGIN:STANDARD
TZOFFSETFROM:-0400
TZOFFSETTO:-0500
TZNAME:EST
DTSTART:20241103T060000
END:STANDARD
BEGIN:DAYLIGHT
TZOFFSETFROM:-0500
TZOFFSETTO:-0400
TZNAME:EDT
DTSTART:20250309T070000
END:DAYLIGHT
BEGIN:STANDARD
TZOFFSETFROM:-0400
TZOFFSETTO:-0500
TZNAME:EST
DTSTART:20251102T060000
END:STANDARD
BEGIN:DAYLIGHT
TZOFFSETFROM:-0500
TZOFFSETTO:-0400
TZNAME:EDT
DTSTART:20260308T070000
END:DAYLIGHT
BEGIN:STANDARD
TZOFFSETFROM:-0400
TZOFFSETTO:-0500
TZNAME:EST
DTSTART:20261101T060000
END:STANDARD
END:VTIMEZONE
BEGIN:VEVENT
DTSTART;TZID=America/New_York:20250628T090000
DTEND;TZID=America/New_York:20250628T210000
DTSTAMP:20260424T015021
CREATED:20250527T133034Z
LAST-MODIFIED:20250527T134227Z
UID:10039372-1751101200-1751144400@thamesyc.org
SUMMARY:Launch Schedule
DESCRIPTION:
URL:https://thamesyc.org/event/launch-schedule-20/2025-06-28/
CATEGORIES:TYC Launch Schedule
END:VEVENT
BEGIN:VEVENT
DTSTART;TZID=America/New_York:20250627T090000
DTEND;TZID=America/New_York:20250627T210000
DTSTAMP:20260424T015021
CREATED:20250527T133034Z
LAST-MODIFIED:20250527T134227Z
UID:10039371-1751014800-1751058000@thamesyc.org
SUMMARY:Launch Schedule
DESCRIPTION:
URL:https://thamesyc.org/event/launch-schedule-20/2025-06-27/
CATEGORIES:TYC Launch Schedule
END:VEVENT
BEGIN:VEVENT
DTSTART;TZID=America/New_York:20250626T090000
DTEND;TZID=America/New_York:20250626T210000
DTSTAMP:20260424T015021
CREATED:20250527T133034Z
LAST-MODIFIED:20250527T134227Z
UID:10039370-1750928400-1750971600@thamesyc.org
SUMMARY:Launch Schedule
DESCRIPTION:
URL:https://thamesyc.org/event/launch-schedule-20/2025-06-26/
CATEGORIES:TYC Launch Schedule
END:VEVENT
BEGIN:VEVENT
DTSTART;TZID=America/New_York:20250625T090000
DTEND;TZID=America/New_York:20250625T213000
DTSTAMP:20260424T015021
CREATED:20250527T133306Z
LAST-MODIFIED:20250527T134111Z
UID:10039375-1750842000-1750887000@thamesyc.org
SUMMARY:Launch Schedule
DESCRIPTION:
URL:https://thamesyc.org/event/launch-schedule-21/
CATEGORIES:TYC Launch Schedule
END:VEVENT
BEGIN:VEVENT
DTSTART;TZID=America/New_York:20250624T090000
DTEND;TZID=America/New_York:20250624T210000
DTSTAMP:20260424T015021
CREATED:20250527T133034Z
LAST-MODIFIED:20250527T134227Z
UID:10039369-1750755600-1750798800@thamesyc.org
SUMMARY:Launch Schedule
DESCRIPTION:
URL:https://thamesyc.org/event/launch-schedule-20/2025-06-24/
CATEGORIES:TYC Launch Schedule
END:VEVENT
BEGIN:VEVENT
DTSTART;TZID=America/New_York:20250623T090000
DTEND;TZID=America/New_York:20250623T210000
DTSTAMP:20260424T015021
CREATED:20250527T133034Z
LAST-MODIFIED:20250527T134227Z
UID:10039368-1750669200-1750712400@thamesyc.org
SUMMARY:Launch Schedule
DESCRIPTION:
URL:https://thamesyc.org/event/launch-schedule-20/2025-06-23/
CATEGORIES:TYC Launch Schedule
END:VEVENT
BEGIN:VEVENT
DTSTART;TZID=America/New_York:20250622T090000
DTEND;TZID=America/New_York:20250622T210000
DTSTAMP:20260424T015021
CREATED:20250527T133034Z
LAST-MODIFIED:20250527T134227Z
UID:10039367-1750582800-1750626000@thamesyc.org
SUMMARY:Launch Schedule
DESCRIPTION:
URL:https://thamesyc.org/event/launch-schedule-20/2025-06-22/
CATEGORIES:TYC Launch Schedule
END:VEVENT
BEGIN:VEVENT
DTSTART;TZID=America/New_York:20250621T100000
DTEND;TZID=America/New_York:20250621T200000
DTSTAMP:20260424T015021
CREATED:20250526T003035Z
LAST-MODIFIED:20250526T003423Z
UID:10039347-1750500000-1750536000@thamesyc.org
SUMMARY:Launch Schedule
DESCRIPTION:
URL:https://thamesyc.org/event/launch-schedule-18/
CATEGORIES:TYC Launch Schedule
END:VEVENT
BEGIN:VEVENT
DTSTART;TZID=America/New_York:20250620T100000
DTEND;TZID=America/New_York:20250620T200000
DTSTAMP:20260424T015021
CREATED:20250526T003035Z
LAST-MODIFIED:20250526T003423Z
UID:10039346-1750413600-1750449600@thamesyc.org
SUMMARY:Launch Schedule
DESCRIPTION:
URL:https://thamesyc.org/event/launch-schedule-18/
CATEGORIES:TYC Launch Schedule
END:VEVENT
BEGIN:VEVENT
DTSTART;TZID=America/New_York:20250619T100000
DTEND;TZID=America/New_York:20250619T200000
DTSTAMP:20260424T015021
CREATED:20250526T003035Z
LAST-MODIFIED:20250526T003423Z
UID:10039345-1750327200-1750363200@thamesyc.org
SUMMARY:Launch Schedule
DESCRIPTION:
URL:https://thamesyc.org/event/launch-schedule-18/
CATEGORIES:TYC Launch Schedule
END:VEVENT
BEGIN:VEVENT
DTSTART;TZID=America/New_York:20250618T110000
DTEND;TZID=America/New_York:20250618T213000
DTSTAMP:20260424T015021
CREATED:20250526T011550Z
LAST-MODIFIED:20250527T134309Z
UID:10039358-1750244400-1750282200@thamesyc.org
SUMMARY:Launch Schedule
DESCRIPTION:
URL:https://thamesyc.org/event/launch-schedule-19/2025-06-18/
CATEGORIES:TYC Launch Schedule
END:VEVENT
BEGIN:VEVENT
DTSTART;TZID=America/New_York:20250617T100000
DTEND;TZID=America/New_York:20250617T200000
DTSTAMP:20260424T015021
CREATED:20250526T003035Z
LAST-MODIFIED:20250526T003423Z
UID:10039344-1750154400-1750190400@thamesyc.org
SUMMARY:Launch Schedule
DESCRIPTION:
URL:https://thamesyc.org/event/launch-schedule-18/
CATEGORIES:TYC Launch Schedule
END:VEVENT
BEGIN:VEVENT
DTSTART;TZID=America/New_York:20250616T100000
DTEND;TZID=America/New_York:20250616T200000
DTSTAMP:20260424T015021
CREATED:20250526T003035Z
LAST-MODIFIED:20250526T003423Z
UID:10039343-1750068000-1750104000@thamesyc.org
SUMMARY:Launch Schedule
DESCRIPTION:
URL:https://thamesyc.org/event/launch-schedule-18/
CATEGORIES:TYC Launch Schedule
END:VEVENT
BEGIN:VEVENT
DTSTART;TZID=America/New_York:20250615T100000
DTEND;TZID=America/New_York:20250615T200000
DTSTAMP:20260424T015021
CREATED:20250526T003035Z
LAST-MODIFIED:20250526T003423Z
UID:10039342-1749981600-1750017600@thamesyc.org
SUMMARY:Launch Schedule
DESCRIPTION:
URL:https://thamesyc.org/event/launch-schedule-18/
CATEGORIES:TYC Launch Schedule
END:VEVENT
BEGIN:VEVENT
DTSTART;TZID=America/New_York:20250614T100000
DTEND;TZID=America/New_York:20250614T200000
DTSTAMP:20260424T015021
CREATED:20250526T003035Z
LAST-MODIFIED:20250526T003423Z
UID:10039341-1749895200-1749931200@thamesyc.org
SUMMARY:Launch Schedule
DESCRIPTION:
URL:https://thamesyc.org/event/launch-schedule-18/
CATEGORIES:TYC Launch Schedule
END:VEVENT
BEGIN:VEVENT
DTSTART;TZID=America/New_York:20250613T100000
DTEND;TZID=America/New_York:20250613T200000
DTSTAMP:20260424T015021
CREATED:20250526T003035Z
LAST-MODIFIED:20250526T003423Z
UID:10039340-1749808800-1749844800@thamesyc.org
SUMMARY:Launch Schedule
DESCRIPTION:
URL:https://thamesyc.org/event/launch-schedule-18/
CATEGORIES:TYC Launch Schedule
END:VEVENT
BEGIN:VEVENT
DTSTART;TZID=America/New_York:20250612T100000
DTEND;TZID=America/New_York:20250612T200000
DTSTAMP:20260424T015021
CREATED:20250526T003035Z
LAST-MODIFIED:20250526T003423Z
UID:10039339-1749722400-1749758400@thamesyc.org
SUMMARY:Launch Schedule
DESCRIPTION:
URL:https://thamesyc.org/event/launch-schedule-18/
CATEGORIES:TYC Launch Schedule
END:VEVENT
BEGIN:VEVENT
DTSTART;TZID=America/New_York:20250611T110000
DTEND;TZID=America/New_York:20250611T213000
DTSTAMP:20260424T015021
CREATED:20250526T011550Z
LAST-MODIFIED:20250527T134309Z
UID:10039357-1749639600-1749677400@thamesyc.org
SUMMARY:Launch Schedule
DESCRIPTION:
URL:https://thamesyc.org/event/launch-schedule-19/2025-06-11/
CATEGORIES:TYC Launch Schedule
END:VEVENT
BEGIN:VEVENT
DTSTART;TZID=America/New_York:20250610T100000
DTEND;TZID=America/New_York:20250610T200000
DTSTAMP:20260424T015021
CREATED:20250526T003035Z
LAST-MODIFIED:20250526T003423Z
UID:10039338-1749549600-1749585600@thamesyc.org
SUMMARY:Launch Schedule
DESCRIPTION:
URL:https://thamesyc.org/event/launch-schedule-18/
CATEGORIES:TYC Launch Schedule
END:VEVENT
BEGIN:VEVENT
DTSTART;TZID=America/New_York:20250609T100000
DTEND;TZID=America/New_York:20250609T200000
DTSTAMP:20260424T015021
CREATED:20250526T003035Z
LAST-MODIFIED:20250526T003423Z
UID:10039337-1749463200-1749499200@thamesyc.org
SUMMARY:Launch Schedule
DESCRIPTION:
URL:https://thamesyc.org/event/launch-schedule-18/
CATEGORIES:TYC Launch Schedule
END:VEVENT
BEGIN:VEVENT
DTSTART;TZID=America/New_York:20250608T100000
DTEND;TZID=America/New_York:20250608T200000
DTSTAMP:20260424T015021
CREATED:20250526T003035Z
LAST-MODIFIED:20250526T003423Z
UID:10039336-1749376800-1749412800@thamesyc.org
SUMMARY:Launch Schedule
DESCRIPTION:
URL:https://thamesyc.org/event/launch-schedule-18/
CATEGORIES:TYC Launch Schedule
END:VEVENT
BEGIN:VEVENT
DTSTART;TZID=America/New_York:20250607T100000
DTEND;TZID=America/New_York:20250607T200000
DTSTAMP:20260424T015021
CREATED:20250526T003035Z
LAST-MODIFIED:20250526T003423Z
UID:10039335-1749290400-1749326400@thamesyc.org
SUMMARY:Launch Schedule
DESCRIPTION:
URL:https://thamesyc.org/event/launch-schedule-18/
CATEGORIES:TYC Launch Schedule
END:VEVENT
BEGIN:VEVENT
DTSTART;TZID=America/New_York:20250606T100000
DTEND;TZID=America/New_York:20250606T200000
DTSTAMP:20260424T015021
CREATED:20250526T003035Z
LAST-MODIFIED:20250526T003423Z
UID:10039334-1749204000-1749240000@thamesyc.org
SUMMARY:Launch Schedule
DESCRIPTION:
URL:https://thamesyc.org/event/launch-schedule-18/
CATEGORIES:TYC Launch Schedule
END:VEVENT
BEGIN:VEVENT
DTSTART;TZID=America/New_York:20250605T100000
DTEND;TZID=America/New_York:20250605T200000
DTSTAMP:20260424T015021
CREATED:20250526T003035Z
LAST-MODIFIED:20250526T003423Z
UID:10039333-1749117600-1749153600@thamesyc.org
SUMMARY:Launch Schedule
DESCRIPTION:
URL:https://thamesyc.org/event/launch-schedule-18/
CATEGORIES:TYC Launch Schedule
END:VEVENT
BEGIN:VEVENT
DTSTART;TZID=America/New_York:20250604T110000
DTEND;TZID=America/New_York:20250604T213000
DTSTAMP:20260424T015021
CREATED:20250526T011550Z
LAST-MODIFIED:20250527T134309Z
UID:10039356-1749034800-1749072600@thamesyc.org
SUMMARY:Launch Schedule
DESCRIPTION:
URL:https://thamesyc.org/event/launch-schedule-19/2025-06-04/
CATEGORIES:TYC Launch Schedule
END:VEVENT
BEGIN:VEVENT
DTSTART;TZID=America/New_York:20250603T100000
DTEND;TZID=America/New_York:20250603T200000
DTSTAMP:20260424T015021
CREATED:20250526T003035Z
LAST-MODIFIED:20250526T003423Z
UID:10039331-1748944800-1748980800@thamesyc.org
SUMMARY:Launch Schedule
DESCRIPTION:
URL:https://thamesyc.org/event/launch-schedule-18/
CATEGORIES:TYC Launch Schedule
END:VEVENT
BEGIN:VEVENT
DTSTART;TZID=America/New_York:20250602T100000
DTEND;TZID=America/New_York:20250602T200000
DTSTAMP:20260424T015021
CREATED:20250526T003035Z
LAST-MODIFIED:20250526T003423Z
UID:10039330-1748858400-1748894400@thamesyc.org
SUMMARY:Launch Schedule
DESCRIPTION:
URL:https://thamesyc.org/event/launch-schedule-18/
CATEGORIES:TYC Launch Schedule
END:VEVENT
BEGIN:VEVENT
DTSTART;TZID=America/New_York:20250601T100000
DTEND;TZID=America/New_York:20250601T200000
DTSTAMP:20260424T015021
CREATED:20250526T003035Z
LAST-MODIFIED:20250526T003423Z
UID:10039329-1748772000-1748808000@thamesyc.org
SUMMARY:Launch Schedule
DESCRIPTION:
URL:https://thamesyc.org/event/launch-schedule-18/
CATEGORIES:TYC Launch Schedule
END:VEVENT
BEGIN:VEVENT
DTSTART;TZID=America/New_York:20250531T100000
DTEND;TZID=America/New_York:20250531T200000
DTSTAMP:20260424T015021
CREATED:20250525T025740Z
LAST-MODIFIED:20250525T025740Z
UID:10039327-1748685600-1748721600@thamesyc.org
SUMMARY:Launch Schedule
DESCRIPTION:
URL:https://thamesyc.org/event/launch-schedule-17/
CATEGORIES:TYC Launch Schedule
END:VEVENT
BEGIN:VEVENT
DTSTART;TZID=America/New_York:20250530T100000
DTEND;TZID=America/New_York:20250530T180000
DTSTAMP:20260424T015021
CREATED:20250525T025602Z
LAST-MODIFIED:20250525T025602Z
UID:10039326-1748599200-1748628000@thamesyc.org
SUMMARY:Launch Schedule
DESCRIPTION:
URL:https://thamesyc.org/event/launch-schedule-16/
CATEGORIES:TYC Launch Schedule
END:VEVENT
END:VCALENDAR