BEGIN:VCALENDAR
VERSION:2.0
PRODID:-//Thames Yacht Club - ECPv6.15.20//NONSGML v1.0//EN
CALSCALE:GREGORIAN
METHOD:PUBLISH
X-WR-CALNAME:Thames Yacht Club
X-ORIGINAL-URL:https://thamesyc.org
X-WR-CALDESC:Events for Thames Yacht Club
REFRESH-INTERVAL;VALUE=DURATION:PT1H
X-Robots-Tag:noindex
X-PUBLISHED-TTL:PT1H
BEGIN:VTIMEZONE
TZID:America/New_York
BEGIN:DAYLIGHT
TZOFFSETFROM:-0500
TZOFFSETTO:-0400
TZNAME:EDT
DTSTART:20180311T070000
END:DAYLIGHT
BEGIN:STANDARD
TZOFFSETFROM:-0400
TZOFFSETTO:-0500
TZNAME:EST
DTSTART:20181104T060000
END:STANDARD
BEGIN:DAYLIGHT
TZOFFSETFROM:-0500
TZOFFSETTO:-0400
TZNAME:EDT
DTSTART:20190310T070000
END:DAYLIGHT
BEGIN:STANDARD
TZOFFSETFROM:-0400
TZOFFSETTO:-0500
TZNAME:EST
DTSTART:20191103T060000
END:STANDARD
BEGIN:DAYLIGHT
TZOFFSETFROM:-0500
TZOFFSETTO:-0400
TZNAME:EDT
DTSTART:20200308T070000
END:DAYLIGHT
BEGIN:STANDARD
TZOFFSETFROM:-0400
TZOFFSETTO:-0500
TZNAME:EST
DTSTART:20201101T060000
END:STANDARD
BEGIN:DAYLIGHT
TZOFFSETFROM:-0500
TZOFFSETTO:-0400
TZNAME:EDT
DTSTART:20210314T070000
END:DAYLIGHT
BEGIN:STANDARD
TZOFFSETFROM:-0400
TZOFFSETTO:-0500
TZNAME:EST
DTSTART:20211107T060000
END:STANDARD
END:VTIMEZONE
BEGIN:VEVENT
DTSTART;TZID=America/New_York:20200612T120000
DTEND;TZID=America/New_York:20200612T180000
DTSTAMP:20260425T230421
CREATED:20200529T124811Z
LAST-MODIFIED:20200529T124811Z
UID:10034413-1591963200-1591984800@thamesyc.org
SUMMARY:TYC Launch Sched
DESCRIPTION:
URL:https://thamesyc.org/event/tyc-launch-sched-3/2020-06-12/
CATEGORIES:TYC Launch Schedule
END:VEVENT
BEGIN:VEVENT
DTSTART;TZID=America/New_York:20200611T120000
DTEND;TZID=America/New_York:20200611T180000
DTSTAMP:20260425T230421
CREATED:20200529T124811Z
LAST-MODIFIED:20200529T124811Z
UID:10034412-1591876800-1591898400@thamesyc.org
SUMMARY:TYC Launch Sched
DESCRIPTION:
URL:https://thamesyc.org/event/tyc-launch-sched-3/2020-06-11/
CATEGORIES:TYC Launch Schedule
END:VEVENT
BEGIN:VEVENT
DTSTART;TZID=America/New_York:20200610T120000
DTEND;TZID=America/New_York:20200610T180000
DTSTAMP:20260425T230421
CREATED:20200529T124811Z
LAST-MODIFIED:20200529T124811Z
UID:10034411-1591790400-1591812000@thamesyc.org
SUMMARY:TYC Launch Sched
DESCRIPTION:
URL:https://thamesyc.org/event/tyc-launch-sched-3/2020-06-10/
CATEGORIES:TYC Launch Schedule
END:VEVENT
BEGIN:VEVENT
DTSTART;TZID=America/New_York:20200609T120000
DTEND;TZID=America/New_York:20200609T180000
DTSTAMP:20260425T230421
CREATED:20200529T124811Z
LAST-MODIFIED:20200529T124811Z
UID:10034410-1591704000-1591725600@thamesyc.org
SUMMARY:TYC Launch Sched
DESCRIPTION:
URL:https://thamesyc.org/event/tyc-launch-sched-3/2020-06-09/
CATEGORIES:TYC Launch Schedule
END:VEVENT
BEGIN:VEVENT
DTSTART;TZID=America/New_York:20200608T120000
DTEND;TZID=America/New_York:20200608T180000
DTSTAMP:20260425T230421
CREATED:20200529T124811Z
LAST-MODIFIED:20200529T124811Z
UID:10034409-1591617600-1591639200@thamesyc.org
SUMMARY:TYC Launch Sched
DESCRIPTION:
URL:https://thamesyc.org/event/tyc-launch-sched-3/2020-06-08/
CATEGORIES:TYC Launch Schedule
END:VEVENT
BEGIN:VEVENT
DTSTART;TZID=America/New_York:20200531T100000
DTEND;TZID=America/New_York:20200531T200000
DTSTAMP:20260425T230421
CREATED:20200415T170932Z
LAST-MODIFIED:20200415T170932Z
UID:10034394-1590919200-1590955200@thamesyc.org
SUMMARY:Launch Sched
DESCRIPTION:
URL:https://thamesyc.org/event/launch-sched-13/2020-05-31/
CATEGORIES:TYC Launch Schedule
END:VEVENT
BEGIN:VEVENT
DTSTART;TZID=America/New_York:20200530T100000
DTEND;TZID=America/New_York:20200530T200000
DTSTAMP:20260425T230421
CREATED:20200529T122302Z
LAST-MODIFIED:20200529T122533Z
UID:10034406-1590832800-1590868800@thamesyc.org
SUMMARY:TYC Launch Sched
DESCRIPTION:
URL:https://thamesyc.org/event/tyc-launch-sched/
CATEGORIES:TYC Launch Schedule
END:VEVENT
BEGIN:VEVENT
DTSTART;TZID=America/New_York:20200530T100000
DTEND;TZID=America/New_York:20200530T200000
DTSTAMP:20260425T230421
CREATED:20200415T170932Z
LAST-MODIFIED:20200415T170932Z
UID:10034393-1590832800-1590868800@thamesyc.org
SUMMARY:Launch Sched
DESCRIPTION:
URL:https://thamesyc.org/event/launch-sched-13/2020-05-30/
CATEGORIES:TYC Launch Schedule
END:VEVENT
BEGIN:VEVENT
DTSTART;TZID=America/New_York:20200529T120000
DTEND;TZID=America/New_York:20200529T170000
DTSTAMP:20260425T230421
CREATED:20200415T170738Z
LAST-MODIFIED:20200529T121854Z
UID:10034390-1590753600-1590771600@thamesyc.org
SUMMARY:Launch Sched
DESCRIPTION:
URL:https://thamesyc.org/event/launch-sched-12/
CATEGORIES:TYC Launch Schedule
END:VEVENT
BEGIN:VEVENT
DTSTART;TZID=America/New_York:20200528T120000
DTEND;TZID=America/New_York:20200528T210000
DTSTAMP:20260425T230421
CREATED:20200415T170538Z
LAST-MODIFIED:20200415T170538Z
UID:10034387-1590667200-1590699600@thamesyc.org
SUMMARY:Launch Sched
DESCRIPTION:
URL:https://thamesyc.org/event/launch-sched-11/2020-05-28/
CATEGORIES:TYC Launch Schedule
END:VEVENT
BEGIN:VEVENT
DTSTART;TZID=America/New_York:20200527T120000
DTEND;TZID=America/New_York:20200527T210000
DTSTAMP:20260425T230421
CREATED:20200415T170538Z
LAST-MODIFIED:20200415T170538Z
UID:10034386-1590580800-1590613200@thamesyc.org
SUMMARY:Launch Sched
DESCRIPTION:
URL:https://thamesyc.org/event/launch-sched-11/2020-05-27/
CATEGORIES:TYC Launch Schedule
END:VEVENT
BEGIN:VEVENT
DTSTART;TZID=America/New_York:20200526T100000
DTEND;TZID=America/New_York:20200526T180000
DTSTAMP:20260425T230421
CREATED:20200415T170318Z
LAST-MODIFIED:20200415T170318Z
UID:10034383-1590487200-1590516000@thamesyc.org
SUMMARY:Launch Sched
DESCRIPTION:
URL:https://thamesyc.org/event/launch-sched-10/2020-05-26/
CATEGORIES:TYC Launch Schedule
END:VEVENT
BEGIN:VEVENT
DTSTART;TZID=America/New_York:20200525T100000
DTEND;TZID=America/New_York:20200525T180000
DTSTAMP:20260425T230421
CREATED:20200415T170318Z
LAST-MODIFIED:20200415T170318Z
UID:10034382-1590400800-1590429600@thamesyc.org
SUMMARY:Launch Sched
DESCRIPTION:
URL:https://thamesyc.org/event/launch-sched-10/2020-05-25/
CATEGORIES:TYC Launch Schedule
END:VEVENT
BEGIN:VEVENT
DTSTART;TZID=America/New_York:20200524T100000
DTEND;TZID=America/New_York:20200524T200000
DTSTAMP:20260425T230421
CREATED:20200415T165937Z
LAST-MODIFIED:20200415T165937Z
UID:10034379-1590314400-1590350400@thamesyc.org
SUMMARY:Launch Sched
DESCRIPTION:
URL:https://thamesyc.org/event/launch-sched-9/2020-05-24/
CATEGORIES:TYC Launch Schedule
END:VEVENT
BEGIN:VEVENT
DTSTART;TZID=America/New_York:20200523T100000
DTEND;TZID=America/New_York:20200523T200000
DTSTAMP:20260425T230421
CREATED:20200415T165937Z
LAST-MODIFIED:20200415T165937Z
UID:10034378-1590228000-1590264000@thamesyc.org
SUMMARY:Launch Sched
DESCRIPTION:
URL:https://thamesyc.org/event/launch-sched-9/2020-05-23/
CATEGORIES:TYC Launch Schedule
END:VEVENT
BEGIN:VEVENT
DTSTART;TZID=America/New_York:20200522T120000
DTEND;TZID=America/New_York:20200522T170000
DTSTAMP:20260425T230421
CREATED:20200415T165638Z
LAST-MODIFIED:20200415T165638Z
UID:10034446-1590148800-1590166800@thamesyc.org
SUMMARY:Launch Sched
DESCRIPTION:
URL:https://thamesyc.org/event/launch-sched-8/
CATEGORIES:TYC Launch Schedule
END:VEVENT
BEGIN:VEVENT
DTSTART;TZID=America/New_York:20200517T100000
DTEND;TZID=America/New_York:20200517T180000
DTSTAMP:20260425T230421
CREATED:20200415T165510Z
LAST-MODIFIED:20200415T165510Z
UID:10034445-1589709600-1589738400@thamesyc.org
SUMMARY:Launch Sched
DESCRIPTION:
URL:https://thamesyc.org/event/launch-sched-7/
CATEGORIES:TYC Launch Schedule
END:VEVENT
BEGIN:VEVENT
DTSTART;TZID=America/New_York:20200516T100000
DTEND;TZID=America/New_York:20200516T180000
DTSTAMP:20260425T230421
CREATED:20200415T165405Z
LAST-MODIFIED:20200415T165405Z
UID:10034444-1589623200-1589652000@thamesyc.org
SUMMARY:Launch Sched
DESCRIPTION:
URL:https://thamesyc.org/event/launch-sched-6/
CATEGORIES:TYC Launch Schedule
END:VEVENT
BEGIN:VEVENT
DTSTART;TZID=America/New_York:20200515T080000
DTEND;TZID=America/New_York:20200515T170000
DTSTAMP:20260425T230421
CREATED:20200415T165227Z
LAST-MODIFIED:20200415T165227Z
UID:10034443-1589529600-1589562000@thamesyc.org
SUMMARY:Launch Sched
DESCRIPTION:
URL:https://thamesyc.org/event/launch-sched-5/
CATEGORIES:TYC Launch Schedule
END:VEVENT
BEGIN:VEVENT
DTSTART;TZID=America/New_York:20200510T120000
DTEND;TZID=America/New_York:20200510T170000
DTSTAMP:20260425T230421
CREATED:20200415T164940Z
LAST-MODIFIED:20200415T164940Z
UID:10034442-1589112000-1589130000@thamesyc.org
SUMMARY:Launch Sched
DESCRIPTION:
URL:https://thamesyc.org/event/launch-sched-4/
CATEGORIES:TYC Launch Schedule
END:VEVENT
BEGIN:VEVENT
DTSTART;TZID=America/New_York:20200510T120000
DTEND;TZID=America/New_York:20200510T170000
DTSTAMP:20260425T230421
CREATED:20200415T164135Z
LAST-MODIFIED:20200415T164341Z
UID:10034439-1589112000-1589130000@thamesyc.org
SUMMARY:Launch Sched
DESCRIPTION:
URL:https://thamesyc.org/event/launch-sched/2020-05-10/
CATEGORIES:TYC Launch Schedule
END:VEVENT
BEGIN:VEVENT
DTSTART;TZID=America/New_York:20200509T120000
DTEND;TZID=America/New_York:20200509T170000
DTSTAMP:20260425T230421
CREATED:20200415T164824Z
LAST-MODIFIED:20200415T164824Z
UID:10034441-1589025600-1589043600@thamesyc.org
SUMMARY:Launch Sched
DESCRIPTION:
URL:https://thamesyc.org/event/launch-sched-3/
CATEGORIES:TYC Launch Schedule
END:VEVENT
BEGIN:VEVENT
DTSTART;TZID=America/New_York:20200508T120000
DTEND;TZID=America/New_York:20200508T170000
DTSTAMP:20260425T230422
CREATED:20200415T164713Z
LAST-MODIFIED:20200415T164713Z
UID:10034440-1588939200-1588957200@thamesyc.org
SUMMARY:Launch Sched
DESCRIPTION:
URL:https://thamesyc.org/event/launch-sched-2/
CATEGORIES:TYC Launch Schedule
END:VEVENT
BEGIN:VEVENT
DTSTART;TZID=America/New_York:20190927T120000
DTEND;TZID=America/New_York:20190927T180000
DTSTAMP:20260425T230422
CREATED:20190309T045743Z
LAST-MODIFIED:20190309T045743Z
UID:10034300-1569585600-1569607200@thamesyc.org
SUMMARY:TYC Launch Schedule
DESCRIPTION:The TYC Launch can be hailed via VHF on channel 71.
URL:https://thamesyc.org/event/tyc-launch-schedule-158/
LOCATION:Thames Yacht Club\, 396 Pequot Avenue\, New London\, CT\, 06320\, United States
CATEGORIES:TYC Launch Schedule
GEO:41.3308391;-72.0946565
X-APPLE-STRUCTURED-LOCATION;VALUE=URI;X-ADDRESS=Thames Yacht Club 396 Pequot Avenue New London CT 06320 United States;X-APPLE-RADIUS=500;X-TITLE=396 Pequot Avenue:geo:-72.0946565,41.3308391
END:VEVENT
BEGIN:VEVENT
DTSTART;TZID=America/New_York:20190920T120000
DTEND;TZID=America/New_York:20190920T180000
DTSTAMP:20260425T230422
CREATED:20190309T045424Z
LAST-MODIFIED:20190309T045424Z
UID:10034299-1568980800-1569002400@thamesyc.org
SUMMARY:TYC Launch Schedule
DESCRIPTION:The TYC Launch can be hailed via VHF on channel 71.
URL:https://thamesyc.org/event/tyc-launch-schedule-157/
LOCATION:Thames Yacht Club\, 396 Pequot Avenue\, New London\, CT\, 06320\, United States
CATEGORIES:TYC Launch Schedule
GEO:41.3308391;-72.0946565
X-APPLE-STRUCTURED-LOCATION;VALUE=URI;X-ADDRESS=Thames Yacht Club 396 Pequot Avenue New London CT 06320 United States;X-APPLE-RADIUS=500;X-TITLE=396 Pequot Avenue:geo:-72.0946565,41.3308391
END:VEVENT
BEGIN:VEVENT
DTSTART;TZID=America/New_York:20190919T100000
DTEND;TZID=America/New_York:20190919T190000
DTSTAMP:20260425T230422
CREATED:20190309T045245Z
LAST-MODIFIED:20190309T045245Z
UID:10034298-1568887200-1568919600@thamesyc.org
SUMMARY:TYC Launch Schedule
DESCRIPTION:The TYC Launch can be hailed via VHF on channel 71.
URL:https://thamesyc.org/event/tyc-launch-schedule-156/
LOCATION:Thames Yacht Club\, 396 Pequot Avenue\, New London\, CT\, 06320\, United States
CATEGORIES:TYC Launch Schedule
GEO:41.3308391;-72.0946565
X-APPLE-STRUCTURED-LOCATION;VALUE=URI;X-ADDRESS=Thames Yacht Club 396 Pequot Avenue New London CT 06320 United States;X-APPLE-RADIUS=500;X-TITLE=396 Pequot Avenue:geo:-72.0946565,41.3308391
END:VEVENT
BEGIN:VEVENT
DTSTART;TZID=America/New_York:20190618T100000
DTEND;TZID=America/New_York:20190618T180000
DTSTAMP:20260425T230422
CREATED:20190309T051601Z
LAST-MODIFIED:20190309T051601Z
UID:10034301-1560852000-1560880800@thamesyc.org
SUMMARY:TYC Launch Schedule
DESCRIPTION:The TYC Launch can be hailed via VHF on channel 71.
URL:https://thamesyc.org/event/tyc-launch-schedule-165/
LOCATION:Thames Yacht Club\, 396 Pequot Avenue\, New London\, CT\, 06320\, United States
CATEGORIES:TYC Launch Schedule
GEO:41.3308391;-72.0946565
X-APPLE-STRUCTURED-LOCATION;VALUE=URI;X-ADDRESS=Thames Yacht Club 396 Pequot Avenue New London CT 06320 United States;X-APPLE-RADIUS=500;X-TITLE=396 Pequot Avenue:geo:-72.0946565,41.3308391
END:VEVENT
BEGIN:VEVENT
DTSTART;TZID=America/New_York:20190611T100000
DTEND;TZID=America/New_York:20190611T180000
DTSTAMP:20260425T230422
CREATED:20190309T052204Z
LAST-MODIFIED:20190309T052204Z
UID:10034302-1560247200-1560276000@thamesyc.org
SUMMARY:TYC Launch Schedule
DESCRIPTION:The TYC Launch can be hailed via VHF on channel 71.
URL:https://thamesyc.org/event/tyc-launch-schedule-167/
LOCATION:Thames Yacht Club\, 396 Pequot Avenue\, New London\, CT\, 06320\, United States
CATEGORIES:TYC Launch Schedule
GEO:41.3308391;-72.0946565
X-APPLE-STRUCTURED-LOCATION;VALUE=URI;X-ADDRESS=Thames Yacht Club 396 Pequot Avenue New London CT 06320 United States;X-APPLE-RADIUS=500;X-TITLE=396 Pequot Avenue:geo:-72.0946565,41.3308391
END:VEVENT
BEGIN:VEVENT
DTSTART;TZID=America/New_York:20190607T120000
DTEND;TZID=America/New_York:20190607T200000
DTSTAMP:20260425T230422
CREATED:20190309T052828Z
LAST-MODIFIED:20190309T052828Z
UID:10034304-1559908800-1559937600@thamesyc.org
SUMMARY:TYC Launch Schedule
DESCRIPTION:The TYC Launch can be hailed via VHF on channel 71.
URL:https://thamesyc.org/event/tyc-launch-schedule-170/
LOCATION:Thames Yacht Club\, 396 Pequot Avenue\, New London\, CT\, 06320\, United States
CATEGORIES:TYC Launch Schedule
GEO:41.3308391;-72.0946565
X-APPLE-STRUCTURED-LOCATION;VALUE=URI;X-ADDRESS=Thames Yacht Club 396 Pequot Avenue New London CT 06320 United States;X-APPLE-RADIUS=500;X-TITLE=396 Pequot Avenue:geo:-72.0946565,41.3308391
END:VEVENT
BEGIN:VEVENT
DTSTART;TZID=America/New_York:20190607T070000
DTEND;TZID=America/New_York:20190607T090000
DTSTAMP:20260425T230422
CREATED:20190309T052640Z
LAST-MODIFIED:20190309T052701Z
UID:10034303-1559890800-1559898000@thamesyc.org
SUMMARY:TYC Launch Schedule
DESCRIPTION:The TYC Launch can be hailed via VHF on channel 71.
URL:https://thamesyc.org/event/tyc-launch-schedule-169/
LOCATION:Thames Yacht Club\, 396 Pequot Avenue\, New London\, CT\, 06320\, United States
CATEGORIES:TYC Launch Schedule
GEO:41.3308391;-72.0946565
X-APPLE-STRUCTURED-LOCATION;VALUE=URI;X-ADDRESS=Thames Yacht Club 396 Pequot Avenue New London CT 06320 United States;X-APPLE-RADIUS=500;X-TITLE=396 Pequot Avenue:geo:-72.0946565,41.3308391
END:VEVENT
END:VCALENDAR