BEGIN:VCALENDAR
VERSION:2.0
PRODID:-//Thames Yacht Club - ECPv6.15.20//NONSGML v1.0//EN
CALSCALE:GREGORIAN
METHOD:PUBLISH
X-ORIGINAL-URL:https://thamesyc.org
X-WR-CALDESC:Events for Thames Yacht Club
REFRESH-INTERVAL;VALUE=DURATION:PT1H
X-Robots-Tag:noindex
X-PUBLISHED-TTL:PT1H
BEGIN:VTIMEZONE
TZID:America/New_York
BEGIN:DAYLIGHT
TZOFFSETFROM:-0500
TZOFFSETTO:-0400
TZNAME:EDT
DTSTART:20190310T070000
END:DAYLIGHT
BEGIN:STANDARD
TZOFFSETFROM:-0400
TZOFFSETTO:-0500
TZNAME:EST
DTSTART:20191103T060000
END:STANDARD
BEGIN:DAYLIGHT
TZOFFSETFROM:-0500
TZOFFSETTO:-0400
TZNAME:EDT
DTSTART:20200308T070000
END:DAYLIGHT
BEGIN:STANDARD
TZOFFSETFROM:-0400
TZOFFSETTO:-0500
TZNAME:EST
DTSTART:20201101T060000
END:STANDARD
BEGIN:DAYLIGHT
TZOFFSETFROM:-0500
TZOFFSETTO:-0400
TZNAME:EDT
DTSTART:20210314T070000
END:DAYLIGHT
BEGIN:STANDARD
TZOFFSETFROM:-0400
TZOFFSETTO:-0500
TZNAME:EST
DTSTART:20211107T060000
END:STANDARD
BEGIN:DAYLIGHT
TZOFFSETFROM:-0500
TZOFFSETTO:-0400
TZNAME:EDT
DTSTART:20220313T070000
END:DAYLIGHT
BEGIN:STANDARD
TZOFFSETFROM:-0400
TZOFFSETTO:-0500
TZNAME:EST
DTSTART:20221106T060000
END:STANDARD
END:VTIMEZONE
BEGIN:VEVENT
DTSTART;TZID=America/New_York:20210526T130000
DTEND;TZID=America/New_York:20210526T210000
DTSTAMP:20260425T190011
CREATED:20210417T152521Z
LAST-MODIFIED:20210417T152521Z
UID:10034552-1622034000-1622062800@thamesyc.org
SUMMARY:Launch Sched Wed Night
DESCRIPTION:
URL:https://thamesyc.org/event/launch-sched-wed-night/
CATEGORIES:TYC Launch Schedule
END:VEVENT
BEGIN:VEVENT
DTSTART;TZID=America/New_York:20210523T120000
DTEND;TZID=America/New_York:20210523T180000
DTSTAMP:20260425T190011
CREATED:20210417T002120Z
LAST-MODIFIED:20210417T002120Z
UID:10034550-1621771200-1621792800@thamesyc.org
SUMMARY:Launch Sched
DESCRIPTION:
URL:https://thamesyc.org/event/launch-sched-16/2021-05-23/
CATEGORIES:TYC Launch Schedule
END:VEVENT
BEGIN:VEVENT
DTSTART;TZID=America/New_York:20210522T120000
DTEND;TZID=America/New_York:20210522T180000
DTSTAMP:20260425T190011
CREATED:20210417T002120Z
LAST-MODIFIED:20210417T002120Z
UID:10034549-1621684800-1621706400@thamesyc.org
SUMMARY:Launch Sched
DESCRIPTION:
URL:https://thamesyc.org/event/launch-sched-16/2021-05-22/
CATEGORIES:TYC Launch Schedule
END:VEVENT
BEGIN:VEVENT
DTSTART;TZID=America/New_York:20210516T120000
DTEND;TZID=America/New_York:20210516T180000
DTSTAMP:20260425T190011
CREATED:20210417T000750Z
LAST-MODIFIED:20210417T000750Z
UID:10034541-1621166400-1621188000@thamesyc.org
SUMMARY:Launch Sched
DESCRIPTION:
URL:https://thamesyc.org/event/launch-sched-14/2021-05-16/
CATEGORIES:TYC Launch Schedule
END:VEVENT
BEGIN:VEVENT
DTSTART;TZID=America/New_York:20210515T120000
DTEND;TZID=America/New_York:20210515T180000
DTSTAMP:20260425T190011
CREATED:20210417T000750Z
LAST-MODIFIED:20210417T000750Z
UID:10034540-1621080000-1621101600@thamesyc.org
SUMMARY:Launch Sched
DESCRIPTION:
URL:https://thamesyc.org/event/launch-sched-14/2021-05-15/
CATEGORIES:TYC Launch Schedule
END:VEVENT
BEGIN:VEVENT
DTSTART;TZID=America/New_York:20201030T100000
DTEND;TZID=America/New_York:20201031T180000
DTSTAMP:20260425T190011
CREATED:20200902T235006Z
LAST-MODIFIED:20200902T235006Z
UID:10034506-1604052000-1604167200@thamesyc.org
SUMMARY:Launch Schedule 10 am to 6 pm
DESCRIPTION:
URL:https://thamesyc.org/event/launch-schedule-10-am-to-6-pm-8/
CATEGORIES:TYC Launch Schedule
END:VEVENT
BEGIN:VEVENT
DTSTART;TZID=America/New_York:20201023T100000
DTEND;TZID=America/New_York:20201025T180000
DTSTAMP:20260425T190011
CREATED:20200902T234907Z
LAST-MODIFIED:20200902T234907Z
UID:10034505-1603447200-1603648800@thamesyc.org
SUMMARY:Launch Schedule 10 am to 6 pm
DESCRIPTION:
URL:https://thamesyc.org/event/launch-schedule-10-am-to-6-pm-7/
CATEGORIES:TYC Launch Schedule
END:VEVENT
BEGIN:VEVENT
DTSTART;TZID=America/New_York:20201016T100000
DTEND;TZID=America/New_York:20201018T180000
DTSTAMP:20260425T190011
CREATED:20200902T234808Z
LAST-MODIFIED:20200902T234808Z
UID:10034504-1602842400-1603044000@thamesyc.org
SUMMARY:Launch Schedule 10 am to 6 pm
DESCRIPTION:
URL:https://thamesyc.org/event/launch-schedule-10-am-to-6-pm-6/
CATEGORIES:TYC Launch Schedule
END:VEVENT
BEGIN:VEVENT
DTSTART;TZID=America/New_York:20201009T100000
DTEND;TZID=America/New_York:20201012T180000
DTSTAMP:20260425T190011
CREATED:20200902T234715Z
LAST-MODIFIED:20200902T234715Z
UID:10034503-1602237600-1602525600@thamesyc.org
SUMMARY:Launch Schedule 10 am to 6 pm
DESCRIPTION:
URL:https://thamesyc.org/event/launch-schedule-10-am-to-6-pm-5/
CATEGORIES:TYC Launch Schedule
END:VEVENT
BEGIN:VEVENT
DTSTART;TZID=America/New_York:20201001T100000
DTEND;TZID=America/New_York:20201004T180000
DTSTAMP:20260425T190011
CREATED:20200902T234558Z
LAST-MODIFIED:20200902T234558Z
UID:10034502-1601546400-1601834400@thamesyc.org
SUMMARY:Launch Schedule 10 am to 6 pm
DESCRIPTION:
URL:https://thamesyc.org/event/launch-schedule-10-am-to-6-pm-4/
CATEGORIES:TYC Launch Schedule
END:VEVENT
BEGIN:VEVENT
DTSTART;TZID=America/New_York:20200926T090000
DTEND;TZID=America/New_York:20200927T190000
DTSTAMP:20260425T190011
CREATED:20200902T234026Z
LAST-MODIFIED:20200902T234026Z
UID:10034501-1601110800-1601233200@thamesyc.org
SUMMARY:Launch Schedule 9 am to 7 pm
DESCRIPTION:
URL:https://thamesyc.org/event/launch-schedule-9-am-to-7-pm-3/
CATEGORIES:TYC Launch Schedule
END:VEVENT
BEGIN:VEVENT
DTSTART;TZID=America/New_York:20200924T100000
DTEND;TZID=America/New_York:20200925T180000
DTSTAMP:20260425T190011
CREATED:20200902T233914Z
LAST-MODIFIED:20200902T233914Z
UID:10034426-1600941600-1601056800@thamesyc.org
SUMMARY:Launch Schedule 10 am to 6 pm
DESCRIPTION:
URL:https://thamesyc.org/event/launch-schedule-10-am-to-6-pm-3/
CATEGORIES:TYC Launch Schedule
END:VEVENT
BEGIN:VEVENT
DTSTART;TZID=America/New_York:20200921T090000
DTEND;TZID=America/New_York:20200923T210000
DTSTAMP:20260425T190011
CREATED:20200902T233750Z
LAST-MODIFIED:20200902T233750Z
UID:10034418-1600678800-1600894800@thamesyc.org
SUMMARY:Launch Schedule No Service
DESCRIPTION:
URL:https://thamesyc.org/event/launch-schedule-no-service-2/
CATEGORIES:TYC Launch Schedule
END:VEVENT
BEGIN:VEVENT
DTSTART;TZID=America/New_York:20200919T090000
DTEND;TZID=America/New_York:20200920T190000
DTSTAMP:20260425T190011
CREATED:20200902T233638Z
LAST-MODIFIED:20200902T233638Z
UID:10034416-1600506000-1600628400@thamesyc.org
SUMMARY:Launch Schedule 9 am to 7 pm
DESCRIPTION:
URL:https://thamesyc.org/event/launch-schedule-9-am-to-7-pm-2/
CATEGORIES:TYC Launch Schedule
END:VEVENT
BEGIN:VEVENT
DTSTART;TZID=America/New_York:20200917T100000
DTEND;TZID=America/New_York:20200918T180000
DTSTAMP:20260425T190011
CREATED:20200902T233502Z
LAST-MODIFIED:20200902T233502Z
UID:10034464-1600336800-1600452000@thamesyc.org
SUMMARY:Launch Schedule 10 am to 6 pm
DESCRIPTION:
URL:https://thamesyc.org/event/launch-schedule-10-am-to-6-pm-2/
CATEGORIES:TYC Launch Schedule
END:VEVENT
BEGIN:VEVENT
DTSTART;TZID=America/New_York:20200914T090000
DTEND;TZID=America/New_York:20200916T210000
DTSTAMP:20260425T190011
CREATED:20200902T233314Z
LAST-MODIFIED:20200902T233314Z
UID:10034169-1600074000-1600290000@thamesyc.org
SUMMARY:Launch Schedule No Service
DESCRIPTION:
URL:https://thamesyc.org/event/launch-schedule-no-service/
CATEGORIES:TYC Launch Schedule
END:VEVENT
BEGIN:VEVENT
DTSTART;TZID=America/New_York:20200912T090000
DTEND;TZID=America/New_York:20200913T190000
DTSTAMP:20260425T190011
CREATED:20200902T233134Z
LAST-MODIFIED:20200902T233134Z
UID:10034168-1599901200-1600023600@thamesyc.org
SUMMARY:Launch Schedule 9 am to 7 pm
DESCRIPTION:
URL:https://thamesyc.org/event/launch-schedule-9-am-to-7-pm/
CATEGORIES:TYC Launch Schedule
END:VEVENT
BEGIN:VEVENT
DTSTART;TZID=America/New_York:20200908T100000
DTEND;TZID=America/New_York:20200911T180000
DTSTAMP:20260425T190011
CREATED:20200902T232957Z
LAST-MODIFIED:20200902T232957Z
UID:10034167-1599559200-1599847200@thamesyc.org
SUMMARY:Launch Schedule 10 am to 6 pm
DESCRIPTION:
URL:https://thamesyc.org/event/launch-schedule-10-am-to-6-pm/
CATEGORIES:TYC Launch Schedule
END:VEVENT
BEGIN:VEVENT
DTSTART;TZID=America/New_York:20200901T090000
DTEND;TZID=America/New_York:20200907T210000
DTSTAMP:20260425T190011
CREATED:20200902T232338Z
LAST-MODIFIED:20200902T232752Z
UID:10034166-1598950800-1599512400@thamesyc.org
SUMMARY:Launch Schedule 9 am to 9 pm
DESCRIPTION:
URL:https://thamesyc.org/event/launch-schedule-9-am-to-9-pm/
CATEGORIES:TYC Launch Schedule
END:VEVENT
BEGIN:VEVENT
DTSTART;TZID=America/New_York:20200830T090000
DTEND;TZID=America/New_York:20200830T210000
DTSTAMP:20260425T190011
CREATED:20200415T174215Z
LAST-MODIFIED:20200902T231816Z
UID:10034397-1598778000-1598821200@thamesyc.org
SUMMARY:Launch Sched
DESCRIPTION:
URL:https://thamesyc.org/event/launch-sched-25-2020-08-30/
CATEGORIES:TYC Launch Schedule
END:VEVENT
BEGIN:VEVENT
DTSTART;TZID=America/New_York:20200630T090000
DTEND;TZID=America/New_York:20200630T210000
DTSTAMP:20260425T190011
CREATED:20200529T130400Z
LAST-MODIFIED:20200529T130400Z
UID:10034462-1593507600-1593550800@thamesyc.org
SUMMARY:TYC Launch Sched
DESCRIPTION:
URL:https://thamesyc.org/event/tyc-launch-sched-9/2020-06-30/
CATEGORIES:TYC Launch Schedule
END:VEVENT
BEGIN:VEVENT
DTSTART;TZID=America/New_York:20200629T090000
DTEND;TZID=America/New_York:20200629T210000
DTSTAMP:20260425T190011
CREATED:20200529T130400Z
LAST-MODIFIED:20200529T130400Z
UID:10034461-1593421200-1593464400@thamesyc.org
SUMMARY:TYC Launch Sched
DESCRIPTION:
URL:https://thamesyc.org/event/tyc-launch-sched-9/2020-06-29/
CATEGORIES:TYC Launch Schedule
END:VEVENT
BEGIN:VEVENT
DTSTART;TZID=America/New_York:20200628T090000
DTEND;TZID=America/New_York:20200628T210000
DTSTAMP:20260425T190011
CREATED:20200529T130400Z
LAST-MODIFIED:20200529T130400Z
UID:10034460-1593334800-1593378000@thamesyc.org
SUMMARY:TYC Launch Sched
DESCRIPTION:
URL:https://thamesyc.org/event/tyc-launch-sched-9/2020-06-28/
CATEGORIES:TYC Launch Schedule
END:VEVENT
BEGIN:VEVENT
DTSTART;TZID=America/New_York:20200627T090000
DTEND;TZID=America/New_York:20200627T210000
DTSTAMP:20260425T190011
CREATED:20200529T130400Z
LAST-MODIFIED:20200529T130400Z
UID:10034459-1593248400-1593291600@thamesyc.org
SUMMARY:TYC Launch Sched
DESCRIPTION:
URL:https://thamesyc.org/event/tyc-launch-sched-9/2020-06-27/
CATEGORIES:TYC Launch Schedule
END:VEVENT
BEGIN:VEVENT
DTSTART;TZID=America/New_York:20200626T100000
DTEND;TZID=America/New_York:20200626T200000
DTSTAMP:20260425T190011
CREATED:20200529T130233Z
LAST-MODIFIED:20200529T130233Z
UID:10034458-1593165600-1593201600@thamesyc.org
SUMMARY:TYC Launch Sched
DESCRIPTION:
URL:https://thamesyc.org/event/tyc-launch-sched-8/
CATEGORIES:TYC Launch Schedule
END:VEVENT
BEGIN:VEVENT
DTSTART;TZID=America/New_York:20200625T120000
DTEND;TZID=America/New_York:20200625T180000
DTSTAMP:20260425T190011
CREATED:20200529T130015Z
LAST-MODIFIED:20200529T130015Z
UID:10034457-1593086400-1593108000@thamesyc.org
SUMMARY:TYC Launch Sched
DESCRIPTION:
URL:https://thamesyc.org/event/tyc-launch-sched-7/2020-06-25/
CATEGORIES:TYC Launch Schedule
END:VEVENT
BEGIN:VEVENT
DTSTART;TZID=America/New_York:20200624T120000
DTEND;TZID=America/New_York:20200624T180000
DTSTAMP:20260425T190011
CREATED:20200529T130015Z
LAST-MODIFIED:20200529T130015Z
UID:10034456-1593000000-1593021600@thamesyc.org
SUMMARY:TYC Launch Sched
DESCRIPTION:
URL:https://thamesyc.org/event/tyc-launch-sched-7/2020-06-24/
CATEGORIES:TYC Launch Schedule
END:VEVENT
BEGIN:VEVENT
DTSTART;TZID=America/New_York:20200623T120000
DTEND;TZID=America/New_York:20200623T180000
DTSTAMP:20260425T190011
CREATED:20200529T130015Z
LAST-MODIFIED:20200529T130015Z
UID:10034455-1592913600-1592935200@thamesyc.org
SUMMARY:TYC Launch Sched
DESCRIPTION:
URL:https://thamesyc.org/event/tyc-launch-sched-7/2020-06-23/
CATEGORIES:TYC Launch Schedule
END:VEVENT
BEGIN:VEVENT
DTSTART;TZID=America/New_York:20200622T120000
DTEND;TZID=America/New_York:20200622T180000
DTSTAMP:20260425T190011
CREATED:20200529T130015Z
LAST-MODIFIED:20200529T130015Z
UID:10034454-1592827200-1592848800@thamesyc.org
SUMMARY:TYC Launch Sched
DESCRIPTION:
URL:https://thamesyc.org/event/tyc-launch-sched-7/2020-06-22/
CATEGORIES:TYC Launch Schedule
END:VEVENT
BEGIN:VEVENT
DTSTART;TZID=America/New_York:20200621T100000
DTEND;TZID=America/New_York:20200621T200000
DTSTAMP:20260425T190011
CREATED:20200529T125558Z
LAST-MODIFIED:20200529T125558Z
UID:10034453-1592733600-1592769600@thamesyc.org
SUMMARY:TYC Launch Sched
DESCRIPTION:
URL:https://thamesyc.org/event/tyc-launch-sched-6/2020-06-21/
CATEGORIES:TYC Launch Schedule
END:VEVENT
END:VCALENDAR