BEGIN:VCALENDAR
VERSION:2.0
PRODID:-//Thames Yacht Club - ECPv6.15.20//NONSGML v1.0//EN
CALSCALE:GREGORIAN
METHOD:PUBLISH
X-ORIGINAL-URL:https://thamesyc.org
X-WR-CALDESC:Events for Thames Yacht Club
REFRESH-INTERVAL;VALUE=DURATION:PT1H
X-Robots-Tag:noindex
X-PUBLISHED-TTL:PT1H
BEGIN:VTIMEZONE
TZID:America/New_York
BEGIN:DAYLIGHT
TZOFFSETFROM:-0500
TZOFFSETTO:-0400
TZNAME:EDT
DTSTART:20190310T070000
END:DAYLIGHT
BEGIN:STANDARD
TZOFFSETFROM:-0400
TZOFFSETTO:-0500
TZNAME:EST
DTSTART:20191103T060000
END:STANDARD
BEGIN:DAYLIGHT
TZOFFSETFROM:-0500
TZOFFSETTO:-0400
TZNAME:EDT
DTSTART:20200308T070000
END:DAYLIGHT
BEGIN:STANDARD
TZOFFSETFROM:-0400
TZOFFSETTO:-0500
TZNAME:EST
DTSTART:20201101T060000
END:STANDARD
BEGIN:DAYLIGHT
TZOFFSETFROM:-0500
TZOFFSETTO:-0400
TZNAME:EDT
DTSTART:20210314T070000
END:DAYLIGHT
BEGIN:STANDARD
TZOFFSETFROM:-0400
TZOFFSETTO:-0500
TZNAME:EST
DTSTART:20211107T060000
END:STANDARD
BEGIN:DAYLIGHT
TZOFFSETFROM:-0500
TZOFFSETTO:-0400
TZNAME:EDT
DTSTART:20220313T070000
END:DAYLIGHT
BEGIN:STANDARD
TZOFFSETFROM:-0400
TZOFFSETTO:-0500
TZNAME:EST
DTSTART:20221106T060000
END:STANDARD
END:VTIMEZONE
BEGIN:VEVENT
DTSTART;TZID=America/New_York:20210701T090000
DTEND;TZID=America/New_York:20210731T210000
DTSTAMP:20260425T161612
CREATED:20210609T001202Z
LAST-MODIFIED:20210609T001202Z
UID:10034571-1625130000-1627765200@thamesyc.org
SUMMARY:Launch Sched for July
DESCRIPTION:
URL:https://thamesyc.org/event/launch-sched-for-july/
CATEGORIES:TYC Launch Schedule
END:VEVENT
BEGIN:VEVENT
DTSTART;TZID=America/New_York:20210630T120000
DTEND;TZID=America/New_York:20210630T210000
DTSTAMP:20260425T161612
CREATED:20210609T000921Z
LAST-MODIFIED:20210609T000921Z
UID:10034570-1625054400-1625086800@thamesyc.org
SUMMARY:Launch Sched
DESCRIPTION:
URL:https://thamesyc.org/event/launch-sched-31/
CATEGORIES:TYC Launch Schedule
END:VEVENT
BEGIN:VEVENT
DTSTART;TZID=America/New_York:20210628T120000
DTEND;TZID=America/New_York:20210629T200000
DTSTAMP:20260425T161612
CREATED:20210609T000839Z
LAST-MODIFIED:20210609T000839Z
UID:10034569-1624881600-1624996800@thamesyc.org
SUMMARY:Launch Sched
DESCRIPTION:
URL:https://thamesyc.org/event/launch-sched-30/
CATEGORIES:TYC Launch Schedule
END:VEVENT
BEGIN:VEVENT
DTSTART;TZID=America/New_York:20210626T090000
DTEND;TZID=America/New_York:20210627T210000
DTSTAMP:20260425T161612
CREATED:20210609T000757Z
LAST-MODIFIED:20210609T000757Z
UID:10034568-1624698000-1624827600@thamesyc.org
SUMMARY:Launch Sched
DESCRIPTION:
URL:https://thamesyc.org/event/launch-sched-29/
CATEGORIES:TYC Launch Schedule
END:VEVENT
BEGIN:VEVENT
DTSTART;TZID=America/New_York:20210625T120000
DTEND;TZID=America/New_York:20210625T200000
DTSTAMP:20260425T161612
CREATED:20210609T000522Z
LAST-MODIFIED:20210609T000522Z
UID:10034567-1624622400-1624651200@thamesyc.org
SUMMARY:Launch Sched
DESCRIPTION:
URL:https://thamesyc.org/event/launch-sched-28/
CATEGORIES:TYC Launch Schedule
END:VEVENT
BEGIN:VEVENT
DTSTART;TZID=America/New_York:20210623T120000
DTEND;TZID=America/New_York:20210624T210000
DTSTAMP:20260425T161612
CREATED:20210609T000440Z
LAST-MODIFIED:20210609T000440Z
UID:10034566-1624449600-1624568400@thamesyc.org
SUMMARY:Launch Sched
DESCRIPTION:
URL:https://thamesyc.org/event/launch-sched-27/
CATEGORIES:TYC Launch Schedule
END:VEVENT
BEGIN:VEVENT
DTSTART;TZID=America/New_York:20210621T120000
DTEND;TZID=America/New_York:20210622T200000
DTSTAMP:20260425T161612
CREATED:20210609T000349Z
LAST-MODIFIED:20210609T000349Z
UID:10034565-1624276800-1624392000@thamesyc.org
SUMMARY:Launch Sched
DESCRIPTION:
URL:https://thamesyc.org/event/launch-sched-26/
CATEGORIES:TYC Launch Schedule
END:VEVENT
BEGIN:VEVENT
DTSTART;TZID=America/New_York:20210619T090000
DTEND;TZID=America/New_York:20210620T210000
DTSTAMP:20260425T161612
CREATED:20210609T000255Z
LAST-MODIFIED:20210609T000255Z
UID:10034564-1624093200-1624222800@thamesyc.org
SUMMARY:Launch Sched
DESCRIPTION:
URL:https://thamesyc.org/event/launch-sched-24/
CATEGORIES:TYC Launch Schedule
END:VEVENT
BEGIN:VEVENT
DTSTART;TZID=America/New_York:20210618T120000
DTEND;TZID=America/New_York:20210618T210000
DTSTAMP:20260425T161612
CREATED:20210609T000214Z
LAST-MODIFIED:20210609T000214Z
UID:10034563-1624017600-1624050000@thamesyc.org
SUMMARY:Launch Sched
DESCRIPTION:
URL:https://thamesyc.org/event/launch-sched-23/
CATEGORIES:TYC Launch Schedule
END:VEVENT
BEGIN:VEVENT
DTSTART;TZID=America/New_York:20210616T120000
DTEND;TZID=America/New_York:20210617T210000
DTSTAMP:20260425T161612
CREATED:20210609T000125Z
LAST-MODIFIED:20210609T000125Z
UID:10034562-1623844800-1623963600@thamesyc.org
SUMMARY:Launch Sched
DESCRIPTION:
URL:https://thamesyc.org/event/launch-sched-22/
CATEGORIES:TYC Launch Schedule
END:VEVENT
BEGIN:VEVENT
DTSTART;TZID=America/New_York:20210614T120000
DTEND;TZID=America/New_York:20210615T200000
DTSTAMP:20260425T161612
CREATED:20210609T000033Z
LAST-MODIFIED:20210609T000033Z
UID:10034561-1623672000-1623787200@thamesyc.org
SUMMARY:Launch Sched
DESCRIPTION:
URL:https://thamesyc.org/event/launch-sched-21/
CATEGORIES:TYC Launch Schedule
END:VEVENT
BEGIN:VEVENT
DTSTART;TZID=America/New_York:20210612T090000
DTEND;TZID=America/New_York:20210613T210000
DTSTAMP:20260425T161612
CREATED:20210608T235806Z
LAST-MODIFIED:20210608T235806Z
UID:10034560-1623488400-1623618000@thamesyc.org
SUMMARY:Launch Sched
DESCRIPTION:
URL:https://thamesyc.org/event/launch-sched-20/
CATEGORIES:TYC Launch Schedule
END:VEVENT
BEGIN:VEVENT
DTSTART;TZID=America/New_York:20210611T120000
DTEND;TZID=America/New_York:20210611T200000
DTSTAMP:20260425T161612
CREATED:20210608T235602Z
LAST-MODIFIED:20210608T235602Z
UID:10034559-1623412800-1623441600@thamesyc.org
SUMMARY:Launch Sched
DESCRIPTION:
URL:https://thamesyc.org/event/launch-sched-19/
CATEGORIES:TYC Launch Schedule
END:VEVENT
BEGIN:VEVENT
DTSTART;TZID=America/New_York:20210611T070000
DTEND;TZID=America/New_York:20210611T090000
DTSTAMP:20260425T161612
CREATED:20210417T002411Z
LAST-MODIFIED:20210417T002411Z
UID:10034551-1623394800-1623402000@thamesyc.org
SUMMARY:Off Soundings Launch Sched
DESCRIPTION:
URL:https://thamesyc.org/event/off-soundings-launch-sched/
CATEGORIES:TYC Launch Schedule
END:VEVENT
BEGIN:VEVENT
DTSTART;TZID=America/New_York:20210610T120000
DTEND;TZID=America/New_York:20210610T200000
DTSTAMP:20260425T161612
CREATED:20210608T235052Z
LAST-MODIFIED:20210608T235052Z
UID:10034558-1623326400-1623355200@thamesyc.org
SUMMARY:Launch Sched
DESCRIPTION:
URL:https://thamesyc.org/event/launch-sched-18/
CATEGORIES:TYC Launch Schedule
END:VEVENT
BEGIN:VEVENT
DTSTART;TZID=America/New_York:20210609T120000
DTEND;TZID=America/New_York:20210609T210000
DTSTAMP:20260425T161612
CREATED:20210608T234555Z
LAST-MODIFIED:20210608T234641Z
UID:10034557-1623240000-1623272400@thamesyc.org
SUMMARY:Launch Sched
DESCRIPTION:
URL:https://thamesyc.org/event/launch-sched-17/
CATEGORIES:TYC Launch Schedule
END:VEVENT
BEGIN:VEVENT
DTSTART;TZID=America/New_York:20210609T090000
DTEND;TZID=America/New_York:20210609T210000
DTSTAMP:20260425T161612
CREATED:20210417T001750Z
LAST-MODIFIED:20210417T002914Z
UID:10034548-1623229200-1623272400@thamesyc.org
SUMMARY:Launch Sched Summer Hrs
DESCRIPTION:
URL:https://thamesyc.org/event/launch-sched-summer-hrs/2021-06-09/
CATEGORIES:TYC Launch Schedule
END:VEVENT
BEGIN:VEVENT
DTSTART;TZID=America/New_York:20210606T090000
DTEND;TZID=America/New_York:20210606T210000
DTSTAMP:20260425T161612
CREATED:20210417T001750Z
LAST-MODIFIED:20210417T002914Z
UID:10034547-1622970000-1623013200@thamesyc.org
SUMMARY:Launch Sched Summer Hrs
DESCRIPTION:
URL:https://thamesyc.org/event/launch-sched-summer-hrs/2021-06-06/
CATEGORIES:TYC Launch Schedule
END:VEVENT
BEGIN:VEVENT
DTSTART;TZID=America/New_York:20210605T090000
DTEND;TZID=America/New_York:20210605T210000
DTSTAMP:20260425T161612
CREATED:20210417T001750Z
LAST-MODIFIED:20210417T002914Z
UID:10034546-1622883600-1622926800@thamesyc.org
SUMMARY:Launch Sched Summer Hrs
DESCRIPTION:
URL:https://thamesyc.org/event/launch-sched-summer-hrs/2021-06-05/
CATEGORIES:TYC Launch Schedule
END:VEVENT
BEGIN:VEVENT
DTSTART;TZID=America/New_York:20210604T090000
DTEND;TZID=America/New_York:20210604T210000
DTSTAMP:20260425T161612
CREATED:20210417T001750Z
LAST-MODIFIED:20210417T002914Z
UID:10034545-1622797200-1622840400@thamesyc.org
SUMMARY:Launch Sched Summer Hrs
DESCRIPTION:
URL:https://thamesyc.org/event/launch-sched-summer-hrs/2021-06-04/
CATEGORIES:TYC Launch Schedule
END:VEVENT
BEGIN:VEVENT
DTSTART;TZID=America/New_York:20210603T090000
DTEND;TZID=America/New_York:20210603T210000
DTSTAMP:20260425T161612
CREATED:20210417T001750Z
LAST-MODIFIED:20210417T002914Z
UID:10034544-1622710800-1622754000@thamesyc.org
SUMMARY:Launch Sched Summer Hrs
DESCRIPTION:
URL:https://thamesyc.org/event/launch-sched-summer-hrs/2021-06-03/
CATEGORIES:TYC Launch Schedule
END:VEVENT
BEGIN:VEVENT
DTSTART;TZID=America/New_York:20210602T090000
DTEND;TZID=America/New_York:20210602T210000
DTSTAMP:20260425T161612
CREATED:20210417T001750Z
LAST-MODIFIED:20210417T002914Z
UID:10034543-1622624400-1622667600@thamesyc.org
SUMMARY:Launch Sched Summer Hrs
DESCRIPTION:
URL:https://thamesyc.org/event/launch-sched-summer-hrs/2021-06-02/
CATEGORIES:TYC Launch Schedule
END:VEVENT
BEGIN:VEVENT
DTSTART;TZID=America/New_York:20210601T090000
DTEND;TZID=America/New_York:20210601T210000
DTSTAMP:20260425T161612
CREATED:20210417T001750Z
LAST-MODIFIED:20210417T002914Z
UID:10034542-1622538000-1622581200@thamesyc.org
SUMMARY:Launch Sched Summer Hrs
DESCRIPTION:
URL:https://thamesyc.org/event/launch-sched-summer-hrs/2021-06-01/
CATEGORIES:TYC Launch Schedule
END:VEVENT
BEGIN:VEVENT
DTSTART;TZID=America/New_York:20210527T160000
DTEND;TZID=America/New_York:20210527T210000
DTSTAMP:20260425T161612
CREATED:20210417T152651Z
LAST-MODIFIED:20210417T152651Z
UID:10034553-1622131200-1622149200@thamesyc.org
SUMMARY:Launch Sched Thur. Night
DESCRIPTION:
URL:https://thamesyc.org/event/launch-sched-thur-night/
CATEGORIES:TYC Launch Schedule
END:VEVENT
BEGIN:VEVENT
DTSTART;TZID=America/New_York:20210526T130000
DTEND;TZID=America/New_York:20210526T210000
DTSTAMP:20260425T161612
CREATED:20210417T152521Z
LAST-MODIFIED:20210417T152521Z
UID:10034552-1622034000-1622062800@thamesyc.org
SUMMARY:Launch Sched Wed Night
DESCRIPTION:
URL:https://thamesyc.org/event/launch-sched-wed-night/
CATEGORIES:TYC Launch Schedule
END:VEVENT
BEGIN:VEVENT
DTSTART;TZID=America/New_York:20210523T120000
DTEND;TZID=America/New_York:20210523T180000
DTSTAMP:20260425T161612
CREATED:20210417T002120Z
LAST-MODIFIED:20210417T002120Z
UID:10034550-1621771200-1621792800@thamesyc.org
SUMMARY:Launch Sched
DESCRIPTION:
URL:https://thamesyc.org/event/launch-sched-16/2021-05-23/
CATEGORIES:TYC Launch Schedule
END:VEVENT
BEGIN:VEVENT
DTSTART;TZID=America/New_York:20210522T120000
DTEND;TZID=America/New_York:20210522T180000
DTSTAMP:20260425T161612
CREATED:20210417T002120Z
LAST-MODIFIED:20210417T002120Z
UID:10034549-1621684800-1621706400@thamesyc.org
SUMMARY:Launch Sched
DESCRIPTION:
URL:https://thamesyc.org/event/launch-sched-16/2021-05-22/
CATEGORIES:TYC Launch Schedule
END:VEVENT
BEGIN:VEVENT
DTSTART;TZID=America/New_York:20210516T120000
DTEND;TZID=America/New_York:20210516T180000
DTSTAMP:20260425T161612
CREATED:20210417T000750Z
LAST-MODIFIED:20210417T000750Z
UID:10034541-1621166400-1621188000@thamesyc.org
SUMMARY:Launch Sched
DESCRIPTION:
URL:https://thamesyc.org/event/launch-sched-14/2021-05-16/
CATEGORIES:TYC Launch Schedule
END:VEVENT
BEGIN:VEVENT
DTSTART;TZID=America/New_York:20210515T120000
DTEND;TZID=America/New_York:20210515T180000
DTSTAMP:20260425T161612
CREATED:20210417T000750Z
LAST-MODIFIED:20210417T000750Z
UID:10034540-1621080000-1621101600@thamesyc.org
SUMMARY:Launch Sched
DESCRIPTION:
URL:https://thamesyc.org/event/launch-sched-14/2021-05-15/
CATEGORIES:TYC Launch Schedule
END:VEVENT
BEGIN:VEVENT
DTSTART;TZID=America/New_York:20201030T100000
DTEND;TZID=America/New_York:20201031T180000
DTSTAMP:20260425T161612
CREATED:20200902T235006Z
LAST-MODIFIED:20200902T235006Z
UID:10034506-1604052000-1604167200@thamesyc.org
SUMMARY:Launch Schedule 10 am to 6 pm
DESCRIPTION:
URL:https://thamesyc.org/event/launch-schedule-10-am-to-6-pm-8/
CATEGORIES:TYC Launch Schedule
END:VEVENT
END:VCALENDAR