BEGIN:VCALENDAR
VERSION:2.0
PRODID:-//Thames Yacht Club - ECPv6.15.17//NONSGML v1.0//EN
CALSCALE:GREGORIAN
METHOD:PUBLISH
X-ORIGINAL-URL:https://thamesyc.org
X-WR-CALDESC:Events for Thames Yacht Club
REFRESH-INTERVAL;VALUE=DURATION:PT1H
X-Robots-Tag:noindex
X-PUBLISHED-TTL:PT1H
BEGIN:VTIMEZONE
TZID:America/New_York
BEGIN:DAYLIGHT
TZOFFSETFROM:-0500
TZOFFSETTO:-0400
TZNAME:EDT
DTSTART:20220313T070000
END:DAYLIGHT
BEGIN:STANDARD
TZOFFSETFROM:-0400
TZOFFSETTO:-0500
TZNAME:EST
DTSTART:20221106T060000
END:STANDARD
BEGIN:DAYLIGHT
TZOFFSETFROM:-0500
TZOFFSETTO:-0400
TZNAME:EDT
DTSTART:20230312T070000
END:DAYLIGHT
BEGIN:STANDARD
TZOFFSETFROM:-0400
TZOFFSETTO:-0500
TZNAME:EST
DTSTART:20231105T060000
END:STANDARD
BEGIN:DAYLIGHT
TZOFFSETFROM:-0500
TZOFFSETTO:-0400
TZNAME:EDT
DTSTART:20240310T070000
END:DAYLIGHT
BEGIN:STANDARD
TZOFFSETFROM:-0400
TZOFFSETTO:-0500
TZNAME:EST
DTSTART:20241103T060000
END:STANDARD
END:VTIMEZONE
BEGIN:VEVENT
DTSTART;TZID=America/New_York:20230704T090000
DTEND;TZID=America/New_York:20230704T210000
DTSTAMP:20260424T212653
CREATED:20230530T234336Z
LAST-MODIFIED:20230530T234336Z
UID:10036205-1688461200-1688504400@thamesyc.org
SUMMARY:Launch Hours 0900-2100
DESCRIPTION:
URL:https://thamesyc.org/event/launch-hours-0900-2100-2-2/2023-07-04/
CATEGORIES:TYC Launch Schedule
END:VEVENT
BEGIN:VEVENT
DTSTART;TZID=America/New_York:20230703T090000
DTEND;TZID=America/New_York:20230703T210000
DTSTAMP:20260424T212653
CREATED:20230530T234336Z
LAST-MODIFIED:20230530T234336Z
UID:10036204-1688374800-1688418000@thamesyc.org
SUMMARY:Launch Hours 0900-2100
DESCRIPTION:
URL:https://thamesyc.org/event/launch-hours-0900-2100-2-2/2023-07-03/
CATEGORIES:TYC Launch Schedule
END:VEVENT
BEGIN:VEVENT
DTSTART;TZID=America/New_York:20230702T090000
DTEND;TZID=America/New_York:20230702T210000
DTSTAMP:20260424T212653
CREATED:20230530T234336Z
LAST-MODIFIED:20230530T234336Z
UID:10036203-1688288400-1688331600@thamesyc.org
SUMMARY:Launch Hours 0900-2100
DESCRIPTION:
URL:https://thamesyc.org/event/launch-hours-0900-2100-2-2/2023-07-02/
CATEGORIES:TYC Launch Schedule
END:VEVENT
BEGIN:VEVENT
DTSTART;TZID=America/New_York:20230701T090000
DTEND;TZID=America/New_York:20230701T210000
DTSTAMP:20260424T212653
CREATED:20230530T234336Z
LAST-MODIFIED:20230530T234336Z
UID:10036202-1688202000-1688245200@thamesyc.org
SUMMARY:Launch Hours 0900-2100
DESCRIPTION:
URL:https://thamesyc.org/event/launch-hours-0900-2100-2-2/2023-07-01/
CATEGORIES:TYC Launch Schedule
END:VEVENT
BEGIN:VEVENT
DTSTART;TZID=America/New_York:20230630T090000
DTEND;TZID=America/New_York:20230630T210000
DTSTAMP:20260424T212653
CREATED:20230530T234336Z
LAST-MODIFIED:20230530T234336Z
UID:10036201-1688115600-1688158800@thamesyc.org
SUMMARY:Launch Hours 0900-2100
DESCRIPTION:
URL:https://thamesyc.org/event/launch-hours-0900-2100-2-2/2023-06-30/
CATEGORIES:TYC Launch Schedule
END:VEVENT
BEGIN:VEVENT
DTSTART;TZID=America/New_York:20230629T090000
DTEND;TZID=America/New_York:20230629T210000
DTSTAMP:20260424T212653
CREATED:20230530T234336Z
LAST-MODIFIED:20230530T234336Z
UID:10036200-1688029200-1688072400@thamesyc.org
SUMMARY:Launch Hours 0900-2100
DESCRIPTION:
URL:https://thamesyc.org/event/launch-hours-0900-2100-2-2/2023-06-29/
CATEGORIES:TYC Launch Schedule
END:VEVENT
BEGIN:VEVENT
DTSTART;TZID=America/New_York:20230628T090000
DTEND;TZID=America/New_York:20230628T210000
DTSTAMP:20260424T212653
CREATED:20230530T234336Z
LAST-MODIFIED:20230530T234336Z
UID:10036199-1687942800-1687986000@thamesyc.org
SUMMARY:Launch Hours 0900-2100
DESCRIPTION:
URL:https://thamesyc.org/event/launch-hours-0900-2100-2-2/2023-06-28/
CATEGORIES:TYC Launch Schedule
END:VEVENT
BEGIN:VEVENT
DTSTART;TZID=America/New_York:20230627T090000
DTEND;TZID=America/New_York:20230627T210000
DTSTAMP:20260424T212653
CREATED:20230530T234336Z
LAST-MODIFIED:20230530T234336Z
UID:10036198-1687856400-1687899600@thamesyc.org
SUMMARY:Launch Hours 0900-2100
DESCRIPTION:
URL:https://thamesyc.org/event/launch-hours-0900-2100-2-2/2023-06-27/
CATEGORIES:TYC Launch Schedule
END:VEVENT
BEGIN:VEVENT
DTSTART;TZID=America/New_York:20230626T090000
DTEND;TZID=America/New_York:20230626T210000
DTSTAMP:20260424T212653
CREATED:20230530T234336Z
LAST-MODIFIED:20230530T234336Z
UID:10036197-1687770000-1687813200@thamesyc.org
SUMMARY:Launch Hours 0900-2100
DESCRIPTION:
URL:https://thamesyc.org/event/launch-hours-0900-2100-2-2/2023-06-26/
CATEGORIES:TYC Launch Schedule
END:VEVENT
BEGIN:VEVENT
DTSTART;TZID=America/New_York:20230625T090000
DTEND;TZID=America/New_York:20230625T210000
DTSTAMP:20260424T212653
CREATED:20230530T234336Z
LAST-MODIFIED:20230530T234336Z
UID:10036196-1687683600-1687726800@thamesyc.org
SUMMARY:Launch Hours 0900-2100
DESCRIPTION:
URL:https://thamesyc.org/event/launch-hours-0900-2100-2-2/2023-06-25/
CATEGORIES:TYC Launch Schedule
END:VEVENT
BEGIN:VEVENT
DTSTART;TZID=America/New_York:20230624T090000
DTEND;TZID=America/New_York:20230624T210000
DTSTAMP:20260424T212653
CREATED:20230530T234336Z
LAST-MODIFIED:20230530T234336Z
UID:10036195-1687597200-1687640400@thamesyc.org
SUMMARY:Launch Hours 0900-2100
DESCRIPTION:
URL:https://thamesyc.org/event/launch-hours-0900-2100-2-2/2023-06-24/
CATEGORIES:TYC Launch Schedule
END:VEVENT
BEGIN:VEVENT
DTSTART;TZID=America/New_York:20230623T090000
DTEND;TZID=America/New_York:20230623T210000
DTSTAMP:20260424T212653
CREATED:20230530T234336Z
LAST-MODIFIED:20230530T234336Z
UID:10036194-1687510800-1687554000@thamesyc.org
SUMMARY:Launch Hours 0900-2100
DESCRIPTION:
URL:https://thamesyc.org/event/launch-hours-0900-2100-2-2/2023-06-23/
CATEGORIES:TYC Launch Schedule
END:VEVENT
BEGIN:VEVENT
DTSTART;TZID=America/New_York:20230622T090000
DTEND;TZID=America/New_York:20230622T210000
DTSTAMP:20260424T212653
CREATED:20230530T234336Z
LAST-MODIFIED:20230530T234336Z
UID:10036193-1687424400-1687467600@thamesyc.org
SUMMARY:Launch Hours 0900-2100
DESCRIPTION:
URL:https://thamesyc.org/event/launch-hours-0900-2100-2-2/2023-06-22/
CATEGORIES:TYC Launch Schedule
END:VEVENT
BEGIN:VEVENT
DTSTART;TZID=America/New_York:20230621T090000
DTEND;TZID=America/New_York:20230621T210000
DTSTAMP:20260424T212653
CREATED:20230530T234336Z
LAST-MODIFIED:20230530T234336Z
UID:10036192-1687338000-1687381200@thamesyc.org
SUMMARY:Launch Hours 0900-2100
DESCRIPTION:
URL:https://thamesyc.org/event/launch-hours-0900-2100-2-2/2023-06-21/
CATEGORIES:TYC Launch Schedule
END:VEVENT
BEGIN:VEVENT
DTSTART;TZID=America/New_York:20230620T090000
DTEND;TZID=America/New_York:20230620T210000
DTSTAMP:20260424T212653
CREATED:20230530T234336Z
LAST-MODIFIED:20230530T234336Z
UID:10036191-1687251600-1687294800@thamesyc.org
SUMMARY:Launch Hours 0900-2100
DESCRIPTION:
URL:https://thamesyc.org/event/launch-hours-0900-2100-2-2/2023-06-20/
CATEGORIES:TYC Launch Schedule
END:VEVENT
BEGIN:VEVENT
DTSTART;TZID=America/New_York:20230619T090000
DTEND;TZID=America/New_York:20230619T210000
DTSTAMP:20260424T212653
CREATED:20230530T234336Z
LAST-MODIFIED:20230530T234336Z
UID:10036190-1687165200-1687208400@thamesyc.org
SUMMARY:Launch Hours 0900-2100
DESCRIPTION:
URL:https://thamesyc.org/event/launch-hours-0900-2100-2-2/2023-06-19/
CATEGORIES:TYC Launch Schedule
END:VEVENT
BEGIN:VEVENT
DTSTART;TZID=America/New_York:20230618T090000
DTEND;TZID=America/New_York:20230618T210000
DTSTAMP:20260424T212653
CREATED:20230530T234336Z
LAST-MODIFIED:20230530T234336Z
UID:10036189-1687078800-1687122000@thamesyc.org
SUMMARY:Launch Hours 0900-2100
DESCRIPTION:
URL:https://thamesyc.org/event/launch-hours-0900-2100-2-2/2023-06-18/
CATEGORIES:TYC Launch Schedule
END:VEVENT
BEGIN:VEVENT
DTSTART;TZID=America/New_York:20230617T090000
DTEND;TZID=America/New_York:20230617T210000
DTSTAMP:20260424T212653
CREATED:20230530T234336Z
LAST-MODIFIED:20230530T234336Z
UID:10036188-1686992400-1687035600@thamesyc.org
SUMMARY:Launch Hours 0900-2100
DESCRIPTION:
URL:https://thamesyc.org/event/launch-hours-0900-2100-2-2/2023-06-17/
CATEGORIES:TYC Launch Schedule
END:VEVENT
BEGIN:VEVENT
DTSTART;TZID=America/New_York:20230616T090000
DTEND;TZID=America/New_York:20230616T210000
DTSTAMP:20260424T212653
CREATED:20230530T234336Z
LAST-MODIFIED:20230530T234336Z
UID:10036187-1686906000-1686949200@thamesyc.org
SUMMARY:Launch Hours 0900-2100
DESCRIPTION:
URL:https://thamesyc.org/event/launch-hours-0900-2100-2-2/2023-06-16/
CATEGORIES:TYC Launch Schedule
END:VEVENT
BEGIN:VEVENT
DTSTART;TZID=America/New_York:20230615T090000
DTEND;TZID=America/New_York:20230615T210000
DTSTAMP:20260424T212653
CREATED:20230530T234336Z
LAST-MODIFIED:20230530T234336Z
UID:10036186-1686819600-1686862800@thamesyc.org
SUMMARY:Launch Hours 0900-2100
DESCRIPTION:
URL:https://thamesyc.org/event/launch-hours-0900-2100-2-2/2023-06-15/
CATEGORIES:TYC Launch Schedule
END:VEVENT
BEGIN:VEVENT
DTSTART;TZID=America/New_York:20230614T090000
DTEND;TZID=America/New_York:20230614T210000
DTSTAMP:20260424T212653
CREATED:20230530T234336Z
LAST-MODIFIED:20230530T234336Z
UID:10036185-1686733200-1686776400@thamesyc.org
SUMMARY:Launch Hours 0900-2100
DESCRIPTION:
URL:https://thamesyc.org/event/launch-hours-0900-2100-2-2/2023-06-14/
CATEGORIES:TYC Launch Schedule
END:VEVENT
BEGIN:VEVENT
DTSTART;TZID=America/New_York:20230613T090000
DTEND;TZID=America/New_York:20230613T210000
DTSTAMP:20260424T212653
CREATED:20230530T234336Z
LAST-MODIFIED:20230530T234336Z
UID:10036184-1686646800-1686690000@thamesyc.org
SUMMARY:Launch Hours 0900-2100
DESCRIPTION:
URL:https://thamesyc.org/event/launch-hours-0900-2100-2-2/2023-06-13/
CATEGORIES:TYC Launch Schedule
END:VEVENT
BEGIN:VEVENT
DTSTART;TZID=America/New_York:20230612T090000
DTEND;TZID=America/New_York:20230612T210000
DTSTAMP:20260424T212653
CREATED:20230530T234336Z
LAST-MODIFIED:20230530T234336Z
UID:10036183-1686560400-1686603600@thamesyc.org
SUMMARY:Launch Hours 0900-2100
DESCRIPTION:
URL:https://thamesyc.org/event/launch-hours-0900-2100-2-2/2023-06-12/
CATEGORIES:TYC Launch Schedule
END:VEVENT
BEGIN:VEVENT
DTSTART;TZID=America/New_York:20230611T090000
DTEND;TZID=America/New_York:20230611T210000
DTSTAMP:20260424T212653
CREATED:20230530T234336Z
LAST-MODIFIED:20230530T234336Z
UID:10036182-1686474000-1686517200@thamesyc.org
SUMMARY:Launch Hours 0900-2100
DESCRIPTION:
URL:https://thamesyc.org/event/launch-hours-0900-2100-2-2/2023-06-11/
CATEGORIES:TYC Launch Schedule
END:VEVENT
BEGIN:VEVENT
DTSTART;TZID=America/New_York:20230610T090000
DTEND;TZID=America/New_York:20230610T210000
DTSTAMP:20260424T212653
CREATED:20230530T234336Z
LAST-MODIFIED:20230530T234336Z
UID:10036181-1686387600-1686430800@thamesyc.org
SUMMARY:Launch Hours 0900-2100
DESCRIPTION:
URL:https://thamesyc.org/event/launch-hours-0900-2100-2-2/2023-06-10/
CATEGORIES:TYC Launch Schedule
END:VEVENT
BEGIN:VEVENT
DTSTART;TZID=America/New_York:20230609T090000
DTEND;TZID=America/New_York:20230609T210000
DTSTAMP:20260424T212653
CREATED:20230530T234336Z
LAST-MODIFIED:20230530T234336Z
UID:10036180-1686301200-1686344400@thamesyc.org
SUMMARY:Launch Hours 0900-2100
DESCRIPTION:
URL:https://thamesyc.org/event/launch-hours-0900-2100-2-2/2023-06-09/
CATEGORIES:TYC Launch Schedule
END:VEVENT
BEGIN:VEVENT
DTSTART;TZID=America/New_York:20230608T090000
DTEND;TZID=America/New_York:20230608T210000
DTSTAMP:20260424T212653
CREATED:20230530T234336Z
LAST-MODIFIED:20230530T234336Z
UID:10036179-1686214800-1686258000@thamesyc.org
SUMMARY:Launch Hours 0900-2100
DESCRIPTION:
URL:https://thamesyc.org/event/launch-hours-0900-2100-2-2/2023-06-08/
CATEGORIES:TYC Launch Schedule
END:VEVENT
BEGIN:VEVENT
DTSTART;TZID=America/New_York:20230607T090000
DTEND;TZID=America/New_York:20230607T210000
DTSTAMP:20260424T212653
CREATED:20230530T234336Z
LAST-MODIFIED:20230530T234336Z
UID:10036178-1686128400-1686171600@thamesyc.org
SUMMARY:Launch Hours 0900-2100
DESCRIPTION:
URL:https://thamesyc.org/event/launch-hours-0900-2100-2-2/2023-06-07/
CATEGORIES:TYC Launch Schedule
END:VEVENT
BEGIN:VEVENT
DTSTART;TZID=America/New_York:20230606T090000
DTEND;TZID=America/New_York:20230606T210000
DTSTAMP:20260424T212653
CREATED:20230530T234336Z
LAST-MODIFIED:20230530T234336Z
UID:10036177-1686042000-1686085200@thamesyc.org
SUMMARY:Launch Hours 0900-2100
DESCRIPTION:
URL:https://thamesyc.org/event/launch-hours-0900-2100-2-2/2023-06-06/
CATEGORIES:TYC Launch Schedule
END:VEVENT
BEGIN:VEVENT
DTSTART;TZID=America/New_York:20230605T090000
DTEND;TZID=America/New_York:20230605T210000
DTSTAMP:20260424T212653
CREATED:20230530T234336Z
LAST-MODIFIED:20230530T234336Z
UID:10036176-1685955600-1685998800@thamesyc.org
SUMMARY:Launch Hours 0900-2100
DESCRIPTION:
URL:https://thamesyc.org/event/launch-hours-0900-2100-2-2/2023-06-05/
CATEGORIES:TYC Launch Schedule
END:VEVENT
END:VCALENDAR