BEGIN:VCALENDAR
VERSION:2.0
PRODID:-//Thames Yacht Club - ECPv6.15.17//NONSGML v1.0//EN
CALSCALE:GREGORIAN
METHOD:PUBLISH
X-WR-CALNAME:Thames Yacht Club
X-ORIGINAL-URL:https://thamesyc.org
X-WR-CALDESC:Events for Thames Yacht Club
REFRESH-INTERVAL;VALUE=DURATION:PT1H
X-Robots-Tag:noindex
X-PUBLISHED-TTL:PT1H
BEGIN:VTIMEZONE
TZID:America/New_York
BEGIN:DAYLIGHT
TZOFFSETFROM:-0500
TZOFFSETTO:-0400
TZNAME:EDT
DTSTART:20220313T070000
END:DAYLIGHT
BEGIN:STANDARD
TZOFFSETFROM:-0400
TZOFFSETTO:-0500
TZNAME:EST
DTSTART:20221106T060000
END:STANDARD
BEGIN:DAYLIGHT
TZOFFSETFROM:-0500
TZOFFSETTO:-0400
TZNAME:EDT
DTSTART:20230312T070000
END:DAYLIGHT
BEGIN:STANDARD
TZOFFSETFROM:-0400
TZOFFSETTO:-0500
TZNAME:EST
DTSTART:20231105T060000
END:STANDARD
BEGIN:DAYLIGHT
TZOFFSETFROM:-0500
TZOFFSETTO:-0400
TZNAME:EDT
DTSTART:20240310T070000
END:DAYLIGHT
BEGIN:STANDARD
TZOFFSETFROM:-0400
TZOFFSETTO:-0500
TZNAME:EST
DTSTART:20241103T060000
END:STANDARD
END:VTIMEZONE
BEGIN:VEVENT
DTSTART;TZID=America/New_York:20230809T090000
DTEND;TZID=America/New_York:20230809T210000
DTSTAMP:20260424T173704
CREATED:20230530T234336Z
LAST-MODIFIED:20230530T234336Z
UID:10036241-1691571600-1691614800@thamesyc.org
SUMMARY:Launch Hours 0900-2100
DESCRIPTION:
URL:https://thamesyc.org/event/launch-hours-0900-2100-2-2/2023-08-09/
CATEGORIES:TYC Launch Schedule
END:VEVENT
BEGIN:VEVENT
DTSTART;TZID=America/New_York:20230808T090000
DTEND;TZID=America/New_York:20230808T210000
DTSTAMP:20260424T173704
CREATED:20230530T234336Z
LAST-MODIFIED:20230530T234336Z
UID:10036240-1691485200-1691528400@thamesyc.org
SUMMARY:Launch Hours 0900-2100
DESCRIPTION:
URL:https://thamesyc.org/event/launch-hours-0900-2100-2-2/2023-08-08/
CATEGORIES:TYC Launch Schedule
END:VEVENT
BEGIN:VEVENT
DTSTART;TZID=America/New_York:20230807T090000
DTEND;TZID=America/New_York:20230807T210000
DTSTAMP:20260424T173704
CREATED:20230530T234336Z
LAST-MODIFIED:20230530T234336Z
UID:10036239-1691398800-1691442000@thamesyc.org
SUMMARY:Launch Hours 0900-2100
DESCRIPTION:
URL:https://thamesyc.org/event/launch-hours-0900-2100-2-2/2023-08-07/
CATEGORIES:TYC Launch Schedule
END:VEVENT
BEGIN:VEVENT
DTSTART;TZID=America/New_York:20230806T090000
DTEND;TZID=America/New_York:20230806T210000
DTSTAMP:20260424T173704
CREATED:20230530T234336Z
LAST-MODIFIED:20230530T234336Z
UID:10036238-1691312400-1691355600@thamesyc.org
SUMMARY:Launch Hours 0900-2100
DESCRIPTION:
URL:https://thamesyc.org/event/launch-hours-0900-2100-2-2/2023-08-06/
CATEGORIES:TYC Launch Schedule
END:VEVENT
BEGIN:VEVENT
DTSTART;TZID=America/New_York:20230805T090000
DTEND;TZID=America/New_York:20230805T210000
DTSTAMP:20260424T173704
CREATED:20230530T234336Z
LAST-MODIFIED:20230530T234336Z
UID:10036237-1691226000-1691269200@thamesyc.org
SUMMARY:Launch Hours 0900-2100
DESCRIPTION:
URL:https://thamesyc.org/event/launch-hours-0900-2100-2-2/2023-08-05/
CATEGORIES:TYC Launch Schedule
END:VEVENT
BEGIN:VEVENT
DTSTART;TZID=America/New_York:20230804T090000
DTEND;TZID=America/New_York:20230804T210000
DTSTAMP:20260424T173704
CREATED:20230530T234336Z
LAST-MODIFIED:20230530T234336Z
UID:10036236-1691139600-1691182800@thamesyc.org
SUMMARY:Launch Hours 0900-2100
DESCRIPTION:
URL:https://thamesyc.org/event/launch-hours-0900-2100-2-2/2023-08-04/
CATEGORIES:TYC Launch Schedule
END:VEVENT
BEGIN:VEVENT
DTSTART;TZID=America/New_York:20230803T090000
DTEND;TZID=America/New_York:20230803T210000
DTSTAMP:20260424T173704
CREATED:20230530T234336Z
LAST-MODIFIED:20230530T234336Z
UID:10036235-1691053200-1691096400@thamesyc.org
SUMMARY:Launch Hours 0900-2100
DESCRIPTION:
URL:https://thamesyc.org/event/launch-hours-0900-2100-2-2/2023-08-03/
CATEGORIES:TYC Launch Schedule
END:VEVENT
BEGIN:VEVENT
DTSTART;TZID=America/New_York:20230802T090000
DTEND;TZID=America/New_York:20230802T210000
DTSTAMP:20260424T173704
CREATED:20230530T234336Z
LAST-MODIFIED:20230530T234336Z
UID:10036234-1690966800-1691010000@thamesyc.org
SUMMARY:Launch Hours 0900-2100
DESCRIPTION:
URL:https://thamesyc.org/event/launch-hours-0900-2100-2-2/2023-08-02/
CATEGORIES:TYC Launch Schedule
END:VEVENT
BEGIN:VEVENT
DTSTART;TZID=America/New_York:20230801T090000
DTEND;TZID=America/New_York:20230801T210000
DTSTAMP:20260424T173704
CREATED:20230530T234336Z
LAST-MODIFIED:20230530T234336Z
UID:10036233-1690880400-1690923600@thamesyc.org
SUMMARY:Launch Hours 0900-2100
DESCRIPTION:
URL:https://thamesyc.org/event/launch-hours-0900-2100-2-2/2023-08-01/
CATEGORIES:TYC Launch Schedule
END:VEVENT
BEGIN:VEVENT
DTSTART;TZID=America/New_York:20230731T090000
DTEND;TZID=America/New_York:20230731T210000
DTSTAMP:20260424T173704
CREATED:20230530T234336Z
LAST-MODIFIED:20230530T234336Z
UID:10036232-1690794000-1690837200@thamesyc.org
SUMMARY:Launch Hours 0900-2100
DESCRIPTION:
URL:https://thamesyc.org/event/launch-hours-0900-2100-2-2/2023-07-31/
CATEGORIES:TYC Launch Schedule
END:VEVENT
BEGIN:VEVENT
DTSTART;TZID=America/New_York:20230730T090000
DTEND;TZID=America/New_York:20230730T210000
DTSTAMP:20260424T173704
CREATED:20230530T234336Z
LAST-MODIFIED:20230530T234336Z
UID:10036231-1690707600-1690750800@thamesyc.org
SUMMARY:Launch Hours 0900-2100
DESCRIPTION:
URL:https://thamesyc.org/event/launch-hours-0900-2100-2-2/2023-07-30/
CATEGORIES:TYC Launch Schedule
END:VEVENT
BEGIN:VEVENT
DTSTART;TZID=America/New_York:20230729T090000
DTEND;TZID=America/New_York:20230729T210000
DTSTAMP:20260424T173704
CREATED:20230530T234336Z
LAST-MODIFIED:20230530T234336Z
UID:10036230-1690621200-1690664400@thamesyc.org
SUMMARY:Launch Hours 0900-2100
DESCRIPTION:
URL:https://thamesyc.org/event/launch-hours-0900-2100-2-2/2023-07-29/
CATEGORIES:TYC Launch Schedule
END:VEVENT
BEGIN:VEVENT
DTSTART;TZID=America/New_York:20230728T090000
DTEND;TZID=America/New_York:20230728T210000
DTSTAMP:20260424T173704
CREATED:20230530T234336Z
LAST-MODIFIED:20230530T234336Z
UID:10036229-1690534800-1690578000@thamesyc.org
SUMMARY:Launch Hours 0900-2100
DESCRIPTION:
URL:https://thamesyc.org/event/launch-hours-0900-2100-2-2/2023-07-28/
CATEGORIES:TYC Launch Schedule
END:VEVENT
BEGIN:VEVENT
DTSTART;TZID=America/New_York:20230727T090000
DTEND;TZID=America/New_York:20230727T210000
DTSTAMP:20260424T173704
CREATED:20230530T234336Z
LAST-MODIFIED:20230530T234336Z
UID:10036228-1690448400-1690491600@thamesyc.org
SUMMARY:Launch Hours 0900-2100
DESCRIPTION:
URL:https://thamesyc.org/event/launch-hours-0900-2100-2-2/2023-07-27/
CATEGORIES:TYC Launch Schedule
END:VEVENT
BEGIN:VEVENT
DTSTART;TZID=America/New_York:20230726T090000
DTEND;TZID=America/New_York:20230726T210000
DTSTAMP:20260424T173704
CREATED:20230530T234336Z
LAST-MODIFIED:20230530T234336Z
UID:10036227-1690362000-1690405200@thamesyc.org
SUMMARY:Launch Hours 0900-2100
DESCRIPTION:
URL:https://thamesyc.org/event/launch-hours-0900-2100-2-2/2023-07-26/
CATEGORIES:TYC Launch Schedule
END:VEVENT
BEGIN:VEVENT
DTSTART;TZID=America/New_York:20230725T090000
DTEND;TZID=America/New_York:20230725T210000
DTSTAMP:20260424T173704
CREATED:20230530T234336Z
LAST-MODIFIED:20230530T234336Z
UID:10036226-1690275600-1690318800@thamesyc.org
SUMMARY:Launch Hours 0900-2100
DESCRIPTION:
URL:https://thamesyc.org/event/launch-hours-0900-2100-2-2/2023-07-25/
CATEGORIES:TYC Launch Schedule
END:VEVENT
BEGIN:VEVENT
DTSTART;TZID=America/New_York:20230724T090000
DTEND;TZID=America/New_York:20230724T210000
DTSTAMP:20260424T173704
CREATED:20230530T234336Z
LAST-MODIFIED:20230530T234336Z
UID:10036225-1690189200-1690232400@thamesyc.org
SUMMARY:Launch Hours 0900-2100
DESCRIPTION:
URL:https://thamesyc.org/event/launch-hours-0900-2100-2-2/2023-07-24/
CATEGORIES:TYC Launch Schedule
END:VEVENT
BEGIN:VEVENT
DTSTART;TZID=America/New_York:20230723T090000
DTEND;TZID=America/New_York:20230723T210000
DTSTAMP:20260424T173704
CREATED:20230530T234336Z
LAST-MODIFIED:20230530T234336Z
UID:10036224-1690102800-1690146000@thamesyc.org
SUMMARY:Launch Hours 0900-2100
DESCRIPTION:
URL:https://thamesyc.org/event/launch-hours-0900-2100-2-2/2023-07-23/
CATEGORIES:TYC Launch Schedule
END:VEVENT
BEGIN:VEVENT
DTSTART;TZID=America/New_York:20230722T090000
DTEND;TZID=America/New_York:20230722T210000
DTSTAMP:20260424T173704
CREATED:20230530T234336Z
LAST-MODIFIED:20230530T234336Z
UID:10036223-1690016400-1690059600@thamesyc.org
SUMMARY:Launch Hours 0900-2100
DESCRIPTION:
URL:https://thamesyc.org/event/launch-hours-0900-2100-2-2/2023-07-22/
CATEGORIES:TYC Launch Schedule
END:VEVENT
BEGIN:VEVENT
DTSTART;TZID=America/New_York:20230721T090000
DTEND;TZID=America/New_York:20230721T210000
DTSTAMP:20260424T173704
CREATED:20230530T234336Z
LAST-MODIFIED:20230530T234336Z
UID:10036222-1689930000-1689973200@thamesyc.org
SUMMARY:Launch Hours 0900-2100
DESCRIPTION:
URL:https://thamesyc.org/event/launch-hours-0900-2100-2-2/2023-07-21/
CATEGORIES:TYC Launch Schedule
END:VEVENT
BEGIN:VEVENT
DTSTART;TZID=America/New_York:20230720T090000
DTEND;TZID=America/New_York:20230720T210000
DTSTAMP:20260424T173704
CREATED:20230530T234336Z
LAST-MODIFIED:20230530T234336Z
UID:10036221-1689843600-1689886800@thamesyc.org
SUMMARY:Launch Hours 0900-2100
DESCRIPTION:
URL:https://thamesyc.org/event/launch-hours-0900-2100-2-2/2023-07-20/
CATEGORIES:TYC Launch Schedule
END:VEVENT
BEGIN:VEVENT
DTSTART;TZID=America/New_York:20230719T090000
DTEND;TZID=America/New_York:20230719T210000
DTSTAMP:20260424T173704
CREATED:20230530T234336Z
LAST-MODIFIED:20230530T234336Z
UID:10036220-1689757200-1689800400@thamesyc.org
SUMMARY:Launch Hours 0900-2100
DESCRIPTION:
URL:https://thamesyc.org/event/launch-hours-0900-2100-2-2/2023-07-19/
CATEGORIES:TYC Launch Schedule
END:VEVENT
BEGIN:VEVENT
DTSTART;TZID=America/New_York:20230718T090000
DTEND;TZID=America/New_York:20230718T210000
DTSTAMP:20260424T173704
CREATED:20230530T234336Z
LAST-MODIFIED:20230530T234336Z
UID:10036219-1689670800-1689714000@thamesyc.org
SUMMARY:Launch Hours 0900-2100
DESCRIPTION:
URL:https://thamesyc.org/event/launch-hours-0900-2100-2-2/2023-07-18/
CATEGORIES:TYC Launch Schedule
END:VEVENT
BEGIN:VEVENT
DTSTART;TZID=America/New_York:20230717T090000
DTEND;TZID=America/New_York:20230717T210000
DTSTAMP:20260424T173704
CREATED:20230530T234336Z
LAST-MODIFIED:20230530T234336Z
UID:10036218-1689584400-1689627600@thamesyc.org
SUMMARY:Launch Hours 0900-2100
DESCRIPTION:
URL:https://thamesyc.org/event/launch-hours-0900-2100-2-2/2023-07-17/
CATEGORIES:TYC Launch Schedule
END:VEVENT
BEGIN:VEVENT
DTSTART;TZID=America/New_York:20230716T090000
DTEND;TZID=America/New_York:20230716T210000
DTSTAMP:20260424T173704
CREATED:20230530T234336Z
LAST-MODIFIED:20230530T234336Z
UID:10036217-1689498000-1689541200@thamesyc.org
SUMMARY:Launch Hours 0900-2100
DESCRIPTION:
URL:https://thamesyc.org/event/launch-hours-0900-2100-2-2/2023-07-16/
CATEGORIES:TYC Launch Schedule
END:VEVENT
BEGIN:VEVENT
DTSTART;TZID=America/New_York:20230715T090000
DTEND;TZID=America/New_York:20230715T210000
DTSTAMP:20260424T173704
CREATED:20230530T234336Z
LAST-MODIFIED:20230530T234336Z
UID:10036216-1689411600-1689454800@thamesyc.org
SUMMARY:Launch Hours 0900-2100
DESCRIPTION:
URL:https://thamesyc.org/event/launch-hours-0900-2100-2-2/2023-07-15/
CATEGORIES:TYC Launch Schedule
END:VEVENT
BEGIN:VEVENT
DTSTART;TZID=America/New_York:20230714T090000
DTEND;TZID=America/New_York:20230714T210000
DTSTAMP:20260424T173704
CREATED:20230530T234336Z
LAST-MODIFIED:20230530T234336Z
UID:10036215-1689325200-1689368400@thamesyc.org
SUMMARY:Launch Hours 0900-2100
DESCRIPTION:
URL:https://thamesyc.org/event/launch-hours-0900-2100-2-2/2023-07-14/
CATEGORIES:TYC Launch Schedule
END:VEVENT
BEGIN:VEVENT
DTSTART;TZID=America/New_York:20230713T090000
DTEND;TZID=America/New_York:20230713T210000
DTSTAMP:20260424T173704
CREATED:20230530T234336Z
LAST-MODIFIED:20230530T234336Z
UID:10036214-1689238800-1689282000@thamesyc.org
SUMMARY:Launch Hours 0900-2100
DESCRIPTION:
URL:https://thamesyc.org/event/launch-hours-0900-2100-2-2/2023-07-13/
CATEGORIES:TYC Launch Schedule
END:VEVENT
BEGIN:VEVENT
DTSTART;TZID=America/New_York:20230712T090000
DTEND;TZID=America/New_York:20230712T210000
DTSTAMP:20260424T173704
CREATED:20230530T234336Z
LAST-MODIFIED:20230530T234336Z
UID:10036213-1689152400-1689195600@thamesyc.org
SUMMARY:Launch Hours 0900-2100
DESCRIPTION:
URL:https://thamesyc.org/event/launch-hours-0900-2100-2-2/2023-07-12/
CATEGORIES:TYC Launch Schedule
END:VEVENT
BEGIN:VEVENT
DTSTART;TZID=America/New_York:20230711T090000
DTEND;TZID=America/New_York:20230711T210000
DTSTAMP:20260424T173704
CREATED:20230530T234336Z
LAST-MODIFIED:20230530T234336Z
UID:10036212-1689066000-1689109200@thamesyc.org
SUMMARY:Launch Hours 0900-2100
DESCRIPTION:
URL:https://thamesyc.org/event/launch-hours-0900-2100-2-2/2023-07-11/
CATEGORIES:TYC Launch Schedule
END:VEVENT
END:VCALENDAR