BEGIN:VCALENDAR
VERSION:2.0
PRODID:-//Thames Yacht Club - ECPv6.15.17//NONSGML v1.0//EN
CALSCALE:GREGORIAN
METHOD:PUBLISH
X-WR-CALNAME:Thames Yacht Club
X-ORIGINAL-URL:https://thamesyc.org
X-WR-CALDESC:Events for Thames Yacht Club
REFRESH-INTERVAL;VALUE=DURATION:PT1H
X-Robots-Tag:noindex
X-PUBLISHED-TTL:PT1H
BEGIN:VTIMEZONE
TZID:America/New_York
BEGIN:DAYLIGHT
TZOFFSETFROM:-0500
TZOFFSETTO:-0400
TZNAME:EDT
DTSTART:20220313T070000
END:DAYLIGHT
BEGIN:STANDARD
TZOFFSETFROM:-0400
TZOFFSETTO:-0500
TZNAME:EST
DTSTART:20221106T060000
END:STANDARD
BEGIN:DAYLIGHT
TZOFFSETFROM:-0500
TZOFFSETTO:-0400
TZNAME:EDT
DTSTART:20230312T070000
END:DAYLIGHT
BEGIN:STANDARD
TZOFFSETFROM:-0400
TZOFFSETTO:-0500
TZNAME:EST
DTSTART:20231105T060000
END:STANDARD
BEGIN:DAYLIGHT
TZOFFSETFROM:-0500
TZOFFSETTO:-0400
TZNAME:EDT
DTSTART:20240310T070000
END:DAYLIGHT
BEGIN:STANDARD
TZOFFSETFROM:-0400
TZOFFSETTO:-0500
TZNAME:EST
DTSTART:20241103T060000
END:STANDARD
END:VTIMEZONE
BEGIN:VEVENT
DTSTART;TZID=America/New_York:20230916T090000
DTEND;TZID=America/New_York:20230916T190000
DTSTAMP:20260424T131753
CREATED:20230905T160219Z
LAST-MODIFIED:20230905T160219Z
UID:10036301-1694854800-1694890800@thamesyc.org
SUMMARY:Launch Hours 0900-1900
DESCRIPTION:
URL:https://thamesyc.org/event/launch-hours-0900-1900-3/
CATEGORIES:TYC Launch Schedule
END:VEVENT
BEGIN:VEVENT
DTSTART;TZID=America/New_York:20230915T080000
DTEND;TZID=America/New_York:20230915T180000
DTSTAMP:20260424T131753
CREATED:20230905T160045Z
LAST-MODIFIED:20230905T160045Z
UID:10036300-1694764800-1694800800@thamesyc.org
SUMMARY:Launch Hours 0800-1800
DESCRIPTION:
URL:https://thamesyc.org/event/launch-hours-0800-1800/
CATEGORIES:TYC Launch Schedule
END:VEVENT
BEGIN:VEVENT
DTSTART;TZID=America/New_York:20230914T100000
DTEND;TZID=America/New_York:20230914T180000
DTSTAMP:20260424T131753
CREATED:20230905T155935Z
LAST-MODIFIED:20230905T155935Z
UID:10036299-1694685600-1694714400@thamesyc.org
SUMMARY:Launch Hours 1000-1800
DESCRIPTION:
URL:https://thamesyc.org/event/launch-hours-1000-1800/
CATEGORIES:TYC Launch Schedule
END:VEVENT
BEGIN:VEVENT
DTSTART;TZID=America/New_York:20230910T080000
DTEND;TZID=America/New_York:20230910T170000
DTSTAMP:20260424T131753
CREATED:20230905T155704Z
LAST-MODIFIED:20230905T155704Z
UID:10036298-1694332800-1694365200@thamesyc.org
SUMMARY:Launch Hours 0900-1900
DESCRIPTION:
URL:https://thamesyc.org/event/launch-hours-0900-1900-2/
CATEGORIES:TYC Launch Schedule
END:VEVENT
BEGIN:VEVENT
DTSTART;TZID=America/New_York:20230909T090000
DTEND;TZID=America/New_York:20230909T190000
DTSTAMP:20260424T131753
CREATED:20230905T155607Z
LAST-MODIFIED:20230905T155607Z
UID:10036297-1694250000-1694286000@thamesyc.org
SUMMARY:Launch Hours 0900-1900
DESCRIPTION:
URL:https://thamesyc.org/event/launch-hours-0900-1900/
CATEGORIES:TYC Launch Schedule
END:VEVENT
BEGIN:VEVENT
DTSTART;TZID=America/New_York:20230908T100000
DTEND;TZID=America/New_York:20230908T180000
DTSTAMP:20260424T131753
CREATED:20230905T154305Z
LAST-MODIFIED:20230905T155427Z
UID:10036296-1694167200-1694196000@thamesyc.org
SUMMARY:Launch Hours 1000-1800
DESCRIPTION:
URL:https://thamesyc.org/event/launch-schedule-12/
CATEGORIES:TYC Launch Schedule
END:VEVENT
BEGIN:VEVENT
DTSTART;TZID=America/New_York:20230907T100000
DTEND;TZID=America/New_York:20230907T180000
DTSTAMP:20260424T131753
CREATED:20230905T154212Z
LAST-MODIFIED:20230905T155321Z
UID:10036295-1694080800-1694109600@thamesyc.org
SUMMARY:Launch Hours 1000-1800
DESCRIPTION:
URL:https://thamesyc.org/event/launch-schedule-11/
CATEGORIES:TYC Launch Schedule
END:VEVENT
BEGIN:VEVENT
DTSTART;TZID=America/New_York:20230906T100000
DTEND;TZID=America/New_York:20230906T213000
DTSTAMP:20260424T131753
CREATED:20230905T154102Z
LAST-MODIFIED:20230905T163051Z
UID:10036294-1693994400-1694035800@thamesyc.org
SUMMARY:Launch Hours 1000-2130 if required
DESCRIPTION:
URL:https://thamesyc.org/event/launch-schedule-10/
CATEGORIES:TYC Launch Schedule
END:VEVENT
BEGIN:VEVENT
DTSTART;TZID=America/New_York:20230905T090000
DTEND;TZID=America/New_York:20230905T213000
DTSTAMP:20260424T131753
CREATED:20230905T153853Z
LAST-MODIFIED:20230905T162946Z
UID:10036292-1693904400-1693949400@thamesyc.org
SUMMARY:Launch hours 0900-2100
DESCRIPTION:
URL:https://thamesyc.org/event/launch-schedule-9/
CATEGORIES:TYC Launch Schedule
END:VEVENT
BEGIN:VEVENT
DTSTART;TZID=America/New_York:20230905T090000
DTEND;TZID=America/New_York:20230905T210000
DTSTAMP:20260424T131753
CREATED:20230530T234336Z
LAST-MODIFIED:20230530T234336Z
UID:10036268-1693904400-1693947600@thamesyc.org
SUMMARY:Launch Hours 0900-2100
DESCRIPTION:
URL:https://thamesyc.org/event/launch-hours-0900-2100-2-2/2023-09-05/
CATEGORIES:TYC Launch Schedule
END:VEVENT
BEGIN:VEVENT
DTSTART;TZID=America/New_York:20230904T090000
DTEND;TZID=America/New_York:20230904T210000
DTSTAMP:20260424T131753
CREATED:20230530T234336Z
LAST-MODIFIED:20230530T234336Z
UID:10036267-1693818000-1693861200@thamesyc.org
SUMMARY:Launch Hours 0900-2100
DESCRIPTION:
URL:https://thamesyc.org/event/launch-hours-0900-2100-2-2/2023-09-04/
CATEGORIES:TYC Launch Schedule
END:VEVENT
BEGIN:VEVENT
DTSTART;TZID=America/New_York:20230903T090000
DTEND;TZID=America/New_York:20230903T210000
DTSTAMP:20260424T131753
CREATED:20230530T234336Z
LAST-MODIFIED:20230530T234336Z
UID:10036266-1693731600-1693774800@thamesyc.org
SUMMARY:Launch Hours 0900-2100
DESCRIPTION:
URL:https://thamesyc.org/event/launch-hours-0900-2100-2-2/2023-09-03/
CATEGORIES:TYC Launch Schedule
END:VEVENT
BEGIN:VEVENT
DTSTART;TZID=America/New_York:20230902T090000
DTEND;TZID=America/New_York:20230902T210000
DTSTAMP:20260424T131753
CREATED:20230530T234336Z
LAST-MODIFIED:20230530T234336Z
UID:10036265-1693645200-1693688400@thamesyc.org
SUMMARY:Launch Hours 0900-2100
DESCRIPTION:
URL:https://thamesyc.org/event/launch-hours-0900-2100-2-2/2023-09-02/
CATEGORIES:TYC Launch Schedule
END:VEVENT
BEGIN:VEVENT
DTSTART;TZID=America/New_York:20230901T090000
DTEND;TZID=America/New_York:20230901T210000
DTSTAMP:20260424T131753
CREATED:20230530T234336Z
LAST-MODIFIED:20230530T234336Z
UID:10036264-1693558800-1693602000@thamesyc.org
SUMMARY:Launch Hours 0900-2100
DESCRIPTION:
URL:https://thamesyc.org/event/launch-hours-0900-2100-2-2/2023-09-01/
CATEGORIES:TYC Launch Schedule
END:VEVENT
BEGIN:VEVENT
DTSTART;TZID=America/New_York:20230831T090000
DTEND;TZID=America/New_York:20230831T210000
DTSTAMP:20260424T131753
CREATED:20230530T234336Z
LAST-MODIFIED:20230530T234336Z
UID:10036263-1693472400-1693515600@thamesyc.org
SUMMARY:Launch Hours 0900-2100
DESCRIPTION:
URL:https://thamesyc.org/event/launch-hours-0900-2100-2-2/2023-08-31/
CATEGORIES:TYC Launch Schedule
END:VEVENT
BEGIN:VEVENT
DTSTART;TZID=America/New_York:20230830T090000
DTEND;TZID=America/New_York:20230830T210000
DTSTAMP:20260424T131753
CREATED:20230530T234336Z
LAST-MODIFIED:20230530T234336Z
UID:10036262-1693386000-1693429200@thamesyc.org
SUMMARY:Launch Hours 0900-2100
DESCRIPTION:
URL:https://thamesyc.org/event/launch-hours-0900-2100-2-2/2023-08-30/
CATEGORIES:TYC Launch Schedule
END:VEVENT
BEGIN:VEVENT
DTSTART;TZID=America/New_York:20230829T090000
DTEND;TZID=America/New_York:20230829T210000
DTSTAMP:20260424T131753
CREATED:20230530T234336Z
LAST-MODIFIED:20230530T234336Z
UID:10036261-1693299600-1693342800@thamesyc.org
SUMMARY:Launch Hours 0900-2100
DESCRIPTION:
URL:https://thamesyc.org/event/launch-hours-0900-2100-2-2/2023-08-29/
CATEGORIES:TYC Launch Schedule
END:VEVENT
BEGIN:VEVENT
DTSTART;TZID=America/New_York:20230828T090000
DTEND;TZID=America/New_York:20230828T210000
DTSTAMP:20260424T131753
CREATED:20230530T234336Z
LAST-MODIFIED:20230530T234336Z
UID:10036260-1693213200-1693256400@thamesyc.org
SUMMARY:Launch Hours 0900-2100
DESCRIPTION:
URL:https://thamesyc.org/event/launch-hours-0900-2100-2-2/2023-08-28/
CATEGORIES:TYC Launch Schedule
END:VEVENT
BEGIN:VEVENT
DTSTART;TZID=America/New_York:20230827T090000
DTEND;TZID=America/New_York:20230827T210000
DTSTAMP:20260424T131753
CREATED:20230530T234336Z
LAST-MODIFIED:20230530T234336Z
UID:10036259-1693126800-1693170000@thamesyc.org
SUMMARY:Launch Hours 0900-2100
DESCRIPTION:
URL:https://thamesyc.org/event/launch-hours-0900-2100-2-2/2023-08-27/
CATEGORIES:TYC Launch Schedule
END:VEVENT
BEGIN:VEVENT
DTSTART;TZID=America/New_York:20230826T090000
DTEND;TZID=America/New_York:20230826T210000
DTSTAMP:20260424T131753
CREATED:20230530T234336Z
LAST-MODIFIED:20230530T234336Z
UID:10036258-1693040400-1693083600@thamesyc.org
SUMMARY:Launch Hours 0900-2100
DESCRIPTION:
URL:https://thamesyc.org/event/launch-hours-0900-2100-2-2/2023-08-26/
CATEGORIES:TYC Launch Schedule
END:VEVENT
BEGIN:VEVENT
DTSTART;TZID=America/New_York:20230825T090000
DTEND;TZID=America/New_York:20230825T210000
DTSTAMP:20260424T131753
CREATED:20230530T234336Z
LAST-MODIFIED:20230530T234336Z
UID:10036257-1692954000-1692997200@thamesyc.org
SUMMARY:Launch Hours 0900-2100
DESCRIPTION:
URL:https://thamesyc.org/event/launch-hours-0900-2100-2-2/2023-08-25/
CATEGORIES:TYC Launch Schedule
END:VEVENT
BEGIN:VEVENT
DTSTART;TZID=America/New_York:20230824T090000
DTEND;TZID=America/New_York:20230824T210000
DTSTAMP:20260424T131753
CREATED:20230530T234336Z
LAST-MODIFIED:20230530T234336Z
UID:10036256-1692867600-1692910800@thamesyc.org
SUMMARY:Launch Hours 0900-2100
DESCRIPTION:
URL:https://thamesyc.org/event/launch-hours-0900-2100-2-2/2023-08-24/
CATEGORIES:TYC Launch Schedule
END:VEVENT
BEGIN:VEVENT
DTSTART;TZID=America/New_York:20230823T090000
DTEND;TZID=America/New_York:20230823T210000
DTSTAMP:20260424T131753
CREATED:20230530T234336Z
LAST-MODIFIED:20230530T234336Z
UID:10036255-1692781200-1692824400@thamesyc.org
SUMMARY:Launch Hours 0900-2100
DESCRIPTION:
URL:https://thamesyc.org/event/launch-hours-0900-2100-2-2/2023-08-23/
CATEGORIES:TYC Launch Schedule
END:VEVENT
BEGIN:VEVENT
DTSTART;TZID=America/New_York:20230822T090000
DTEND;TZID=America/New_York:20230822T210000
DTSTAMP:20260424T131753
CREATED:20230530T234336Z
LAST-MODIFIED:20230530T234336Z
UID:10036254-1692694800-1692738000@thamesyc.org
SUMMARY:Launch Hours 0900-2100
DESCRIPTION:
URL:https://thamesyc.org/event/launch-hours-0900-2100-2-2/2023-08-22/
CATEGORIES:TYC Launch Schedule
END:VEVENT
BEGIN:VEVENT
DTSTART;TZID=America/New_York:20230821T090000
DTEND;TZID=America/New_York:20230821T210000
DTSTAMP:20260424T131753
CREATED:20230530T234336Z
LAST-MODIFIED:20230530T234336Z
UID:10036253-1692608400-1692651600@thamesyc.org
SUMMARY:Launch Hours 0900-2100
DESCRIPTION:
URL:https://thamesyc.org/event/launch-hours-0900-2100-2-2/2023-08-21/
CATEGORIES:TYC Launch Schedule
END:VEVENT
BEGIN:VEVENT
DTSTART;TZID=America/New_York:20230820T090000
DTEND;TZID=America/New_York:20230820T210000
DTSTAMP:20260424T131753
CREATED:20230530T234336Z
LAST-MODIFIED:20230530T234336Z
UID:10036252-1692522000-1692565200@thamesyc.org
SUMMARY:Launch Hours 0900-2100
DESCRIPTION:
URL:https://thamesyc.org/event/launch-hours-0900-2100-2-2/2023-08-20/
CATEGORIES:TYC Launch Schedule
END:VEVENT
BEGIN:VEVENT
DTSTART;TZID=America/New_York:20230819T090000
DTEND;TZID=America/New_York:20230819T210000
DTSTAMP:20260424T131753
CREATED:20230530T234336Z
LAST-MODIFIED:20230530T234336Z
UID:10036251-1692435600-1692478800@thamesyc.org
SUMMARY:Launch Hours 0900-2100
DESCRIPTION:
URL:https://thamesyc.org/event/launch-hours-0900-2100-2-2/2023-08-19/
CATEGORIES:TYC Launch Schedule
END:VEVENT
BEGIN:VEVENT
DTSTART;TZID=America/New_York:20230818T090000
DTEND;TZID=America/New_York:20230818T210000
DTSTAMP:20260424T131753
CREATED:20230530T234336Z
LAST-MODIFIED:20230530T234336Z
UID:10036250-1692349200-1692392400@thamesyc.org
SUMMARY:Launch Hours 0900-2100
DESCRIPTION:
URL:https://thamesyc.org/event/launch-hours-0900-2100-2-2/2023-08-18/
CATEGORIES:TYC Launch Schedule
END:VEVENT
BEGIN:VEVENT
DTSTART;TZID=America/New_York:20230817T090000
DTEND;TZID=America/New_York:20230817T210000
DTSTAMP:20260424T131753
CREATED:20230530T234336Z
LAST-MODIFIED:20230530T234336Z
UID:10036249-1692262800-1692306000@thamesyc.org
SUMMARY:Launch Hours 0900-2100
DESCRIPTION:
URL:https://thamesyc.org/event/launch-hours-0900-2100-2-2/2023-08-17/
CATEGORIES:TYC Launch Schedule
END:VEVENT
BEGIN:VEVENT
DTSTART;TZID=America/New_York:20230816T090000
DTEND;TZID=America/New_York:20230816T210000
DTSTAMP:20260424T131753
CREATED:20230530T234336Z
LAST-MODIFIED:20230530T234336Z
UID:10036248-1692176400-1692219600@thamesyc.org
SUMMARY:Launch Hours 0900-2100
DESCRIPTION:
URL:https://thamesyc.org/event/launch-hours-0900-2100-2-2/2023-08-16/
CATEGORIES:TYC Launch Schedule
END:VEVENT
END:VCALENDAR