BEGIN:VCALENDAR
VERSION:2.0
PRODID:-//Thames Yacht Club - ECPv6.15.20//NONSGML v1.0//EN
CALSCALE:GREGORIAN
METHOD:PUBLISH
X-ORIGINAL-URL:https://thamesyc.org
X-WR-CALDESC:Events for Thames Yacht Club
REFRESH-INTERVAL;VALUE=DURATION:PT1H
X-Robots-Tag:noindex
X-PUBLISHED-TTL:PT1H
BEGIN:VTIMEZONE
TZID:America/New_York
BEGIN:DAYLIGHT
TZOFFSETFROM:-0500
TZOFFSETTO:-0400
TZNAME:EDT
DTSTART:20230312T070000
END:DAYLIGHT
BEGIN:STANDARD
TZOFFSETFROM:-0400
TZOFFSETTO:-0500
TZNAME:EST
DTSTART:20231105T060000
END:STANDARD
BEGIN:DAYLIGHT
TZOFFSETFROM:-0500
TZOFFSETTO:-0400
TZNAME:EDT
DTSTART:20240310T070000
END:DAYLIGHT
BEGIN:STANDARD
TZOFFSETFROM:-0400
TZOFFSETTO:-0500
TZNAME:EST
DTSTART:20241103T060000
END:STANDARD
BEGIN:DAYLIGHT
TZOFFSETFROM:-0500
TZOFFSETTO:-0400
TZNAME:EDT
DTSTART:20250309T070000
END:DAYLIGHT
BEGIN:STANDARD
TZOFFSETFROM:-0400
TZOFFSETTO:-0500
TZNAME:EST
DTSTART:20251102T060000
END:STANDARD
END:VTIMEZONE
BEGIN:VEVENT
DTSTART;TZID=America/New_York:20240616T090000
DTEND;TZID=America/New_York:20240616T150000
DTSTAMP:20260425T112019
CREATED:20231221T001811Z
LAST-MODIFIED:20231221T001811Z
UID:10036743-1718528400-1718550000@thamesyc.org
SUMMARY:Early Summer Weekend Adult Sailing
DESCRIPTION:
URL:https://thamesyc.org/event/early-summer-weekend-adult-sailing/2024-06-16/
CATEGORIES:Training
END:VEVENT
BEGIN:VEVENT
DTSTART;TZID=America/New_York:20240617T173000
DTEND;TZID=America/New_York:20240617T200000
DTSTAMP:20260425T112019
CREATED:20231220T234740Z
LAST-MODIFIED:20231220T234740Z
UID:10036722-1718645400-1718654400@thamesyc.org
SUMMARY:Spring Adult Sailing - Evenings
DESCRIPTION:
URL:https://thamesyc.org/event/spring-adult-sailing-evenings-2/2024-06-17/
CATEGORIES:Training
END:VEVENT
BEGIN:VEVENT
DTSTART;TZID=America/New_York:20240618T173000
DTEND;TZID=America/New_York:20240618T200000
DTSTAMP:20260425T112019
CREATED:20231220T234740Z
LAST-MODIFIED:20231220T234740Z
UID:10036723-1718731800-1718740800@thamesyc.org
SUMMARY:Spring Adult Sailing - Evenings
DESCRIPTION:
URL:https://thamesyc.org/event/spring-adult-sailing-evenings-2/2024-06-18/
CATEGORIES:Training
END:VEVENT
END:VCALENDAR