BEGIN:VCALENDAR
VERSION:2.0
PRODID:-//Thames Yacht Club - ECPv6.15.17//NONSGML v1.0//EN
CALSCALE:GREGORIAN
METHOD:PUBLISH
X-WR-CALNAME:Thames Yacht Club
X-ORIGINAL-URL:https://thamesyc.org
X-WR-CALDESC:Events for Thames Yacht Club
REFRESH-INTERVAL;VALUE=DURATION:PT1H
X-Robots-Tag:noindex
X-PUBLISHED-TTL:PT1H
BEGIN:VTIMEZONE
TZID:America/New_York
BEGIN:DAYLIGHT
TZOFFSETFROM:-0500
TZOFFSETTO:-0400
TZNAME:EDT
DTSTART:20220313T070000
END:DAYLIGHT
BEGIN:STANDARD
TZOFFSETFROM:-0400
TZOFFSETTO:-0500
TZNAME:EST
DTSTART:20221106T060000
END:STANDARD
BEGIN:DAYLIGHT
TZOFFSETFROM:-0500
TZOFFSETTO:-0400
TZNAME:EDT
DTSTART:20230312T070000
END:DAYLIGHT
BEGIN:STANDARD
TZOFFSETFROM:-0400
TZOFFSETTO:-0500
TZNAME:EST
DTSTART:20231105T060000
END:STANDARD
BEGIN:DAYLIGHT
TZOFFSETFROM:-0500
TZOFFSETTO:-0400
TZNAME:EDT
DTSTART:20240310T070000
END:DAYLIGHT
BEGIN:STANDARD
TZOFFSETFROM:-0400
TZOFFSETTO:-0500
TZNAME:EST
DTSTART:20241103T060000
END:STANDARD
BEGIN:DAYLIGHT
TZOFFSETFROM:-0500
TZOFFSETTO:-0400
TZNAME:EDT
DTSTART:20250309T070000
END:DAYLIGHT
BEGIN:STANDARD
TZOFFSETFROM:-0400
TZOFFSETTO:-0500
TZNAME:EST
DTSTART:20251102T060000
END:STANDARD
END:VTIMEZONE
BEGIN:VEVENT
DTSTART;TZID=America/New_York:20240616T090000
DTEND;TZID=America/New_York:20240616T150000
DTSTAMP:20260424T083757
CREATED:20231221T001811Z
LAST-MODIFIED:20231221T001811Z
UID:10036743-1718528400-1718550000@thamesyc.org
SUMMARY:Early Summer Weekend Adult Sailing
DESCRIPTION:
URL:https://thamesyc.org/event/early-summer-weekend-adult-sailing/2024-06-16/
CATEGORIES:Training
END:VEVENT
BEGIN:VEVENT
DTSTART;TZID=America/New_York:20240615T090000
DTEND;TZID=America/New_York:20240615T150000
DTSTAMP:20260424T083757
CREATED:20231221T001811Z
LAST-MODIFIED:20231221T001811Z
UID:10036742-1718442000-1718463600@thamesyc.org
SUMMARY:Early Summer Weekend Adult Sailing
DESCRIPTION:
URL:https://thamesyc.org/event/early-summer-weekend-adult-sailing/2024-06-15/
CATEGORIES:Training
END:VEVENT
BEGIN:VEVENT
DTSTART;TZID=America/New_York:20240611T173000
DTEND;TZID=America/New_York:20240611T200000
DTSTAMP:20260424T083757
CREATED:20231220T234149Z
LAST-MODIFIED:20231220T234149Z
UID:10036719-1718127000-1718136000@thamesyc.org
SUMMARY:Spring Adult Sailing - Evenings
DESCRIPTION:
URL:https://thamesyc.org/event/spring-adult-sailing-evenings/2024-06-11/
CATEGORIES:Training
END:VEVENT
BEGIN:VEVENT
DTSTART;TZID=America/New_York:20240610T173000
DTEND;TZID=America/New_York:20240610T200000
DTSTAMP:20260424T083757
CREATED:20231220T234149Z
LAST-MODIFIED:20231220T234149Z
UID:10036718-1718040600-1718049600@thamesyc.org
SUMMARY:Spring Adult Sailing - Evenings
DESCRIPTION:
URL:https://thamesyc.org/event/spring-adult-sailing-evenings/2024-06-10/
CATEGORIES:Training
END:VEVENT
BEGIN:VEVENT
DTSTART;VALUE=DATE:20240315
DTEND;VALUE=DATE:20240316
DTSTAMP:20260424T083757
CREATED:20231219T011125Z
LAST-MODIFIED:20231219T011125Z
UID:10036400-1710460800-1710547199@thamesyc.org
SUMMARY:DEADLINE: Discounted Camp Fees
DESCRIPTION:
URL:https://thamesyc.org/event/deadline-discounted-camp-fees/
CATEGORIES:Training
END:VEVENT
BEGIN:VEVENT
DTSTART;TZID=America/New_York:20230818T090000
DTEND;TZID=America/New_York:20230818T160000
DTSTAMP:20260424T083757
CREATED:20230113T213330Z
LAST-MODIFIED:20230523T205150Z
UID:10035867-1692349200-1692374400@thamesyc.org
SUMMARY:Youth Sailing Classes
DESCRIPTION:
URL:https://thamesyc.org/event/youth-sailing-classes/2023-08-18/
CATEGORIES:Training
END:VEVENT
BEGIN:VEVENT
DTSTART;TZID=America/New_York:20230817T090000
DTEND;TZID=America/New_York:20230817T160000
DTSTAMP:20260424T083757
CREATED:20230113T213330Z
LAST-MODIFIED:20230523T205150Z
UID:10035866-1692262800-1692288000@thamesyc.org
SUMMARY:Youth Sailing Classes
DESCRIPTION:
URL:https://thamesyc.org/event/youth-sailing-classes/2023-08-17/
CATEGORIES:Training
END:VEVENT
BEGIN:VEVENT
DTSTART;TZID=America/New_York:20230816T090000
DTEND;TZID=America/New_York:20230816T160000
DTSTAMP:20260424T083757
CREATED:20230113T213330Z
LAST-MODIFIED:20230523T205150Z
UID:10035865-1692176400-1692201600@thamesyc.org
SUMMARY:Youth Sailing Classes
DESCRIPTION:
URL:https://thamesyc.org/event/youth-sailing-classes/2023-08-16/
CATEGORIES:Training
END:VEVENT
BEGIN:VEVENT
DTSTART;TZID=America/New_York:20230815T090000
DTEND;TZID=America/New_York:20230815T160000
DTSTAMP:20260424T083757
CREATED:20230113T213330Z
LAST-MODIFIED:20230523T205150Z
UID:10035864-1692090000-1692115200@thamesyc.org
SUMMARY:Youth Sailing Classes
DESCRIPTION:
URL:https://thamesyc.org/event/youth-sailing-classes/2023-08-15/
CATEGORIES:Training
END:VEVENT
BEGIN:VEVENT
DTSTART;TZID=America/New_York:20230814T090000
DTEND;TZID=America/New_York:20230814T160000
DTSTAMP:20260424T083757
CREATED:20230113T213330Z
LAST-MODIFIED:20230523T205150Z
UID:10035863-1692003600-1692028800@thamesyc.org
SUMMARY:Youth Sailing Classes
DESCRIPTION:
URL:https://thamesyc.org/event/youth-sailing-classes/2023-08-14/
CATEGORIES:Training
END:VEVENT
BEGIN:VEVENT
DTSTART;TZID=America/New_York:20230811T090000
DTEND;TZID=America/New_York:20230811T160000
DTSTAMP:20260424T083757
CREATED:20230113T213330Z
LAST-MODIFIED:20230523T205150Z
UID:10035862-1691744400-1691769600@thamesyc.org
SUMMARY:Youth Sailing Classes
DESCRIPTION:
URL:https://thamesyc.org/event/youth-sailing-classes/2023-08-11/
CATEGORIES:Training
END:VEVENT
BEGIN:VEVENT
DTSTART;TZID=America/New_York:20230810T090000
DTEND;TZID=America/New_York:20230810T160000
DTSTAMP:20260424T083757
CREATED:20230113T213330Z
LAST-MODIFIED:20230523T205150Z
UID:10035861-1691658000-1691683200@thamesyc.org
SUMMARY:Youth Sailing Classes
DESCRIPTION:
URL:https://thamesyc.org/event/youth-sailing-classes/2023-08-10/
CATEGORIES:Training
END:VEVENT
BEGIN:VEVENT
DTSTART;TZID=America/New_York:20230809T090000
DTEND;TZID=America/New_York:20230809T160000
DTSTAMP:20260424T083757
CREATED:20230113T213330Z
LAST-MODIFIED:20230523T205150Z
UID:10035860-1691571600-1691596800@thamesyc.org
SUMMARY:Youth Sailing Classes
DESCRIPTION:
URL:https://thamesyc.org/event/youth-sailing-classes/2023-08-09/
CATEGORIES:Training
END:VEVENT
BEGIN:VEVENT
DTSTART;TZID=America/New_York:20230808T090000
DTEND;TZID=America/New_York:20230808T160000
DTSTAMP:20260424T083757
CREATED:20230113T213330Z
LAST-MODIFIED:20230523T205150Z
UID:10035859-1691485200-1691510400@thamesyc.org
SUMMARY:Youth Sailing Classes
DESCRIPTION:
URL:https://thamesyc.org/event/youth-sailing-classes/2023-08-08/
CATEGORIES:Training
END:VEVENT
BEGIN:VEVENT
DTSTART;TZID=America/New_York:20230807T090000
DTEND;TZID=America/New_York:20230807T160000
DTSTAMP:20260424T083757
CREATED:20230113T213330Z
LAST-MODIFIED:20230523T205150Z
UID:10035858-1691398800-1691424000@thamesyc.org
SUMMARY:Youth Sailing Classes
DESCRIPTION:
URL:https://thamesyc.org/event/youth-sailing-classes/2023-08-07/
CATEGORIES:Training
END:VEVENT
BEGIN:VEVENT
DTSTART;TZID=America/New_York:20230804T090000
DTEND;TZID=America/New_York:20230804T160000
DTSTAMP:20260424T083757
CREATED:20230113T213330Z
LAST-MODIFIED:20230523T205150Z
UID:10035857-1691139600-1691164800@thamesyc.org
SUMMARY:Youth Sailing Classes
DESCRIPTION:
URL:https://thamesyc.org/event/youth-sailing-classes/2023-08-04/
CATEGORIES:Training
END:VEVENT
BEGIN:VEVENT
DTSTART;TZID=America/New_York:20230803T090000
DTEND;TZID=America/New_York:20230803T160000
DTSTAMP:20260424T083757
CREATED:20230113T213330Z
LAST-MODIFIED:20230523T205150Z
UID:10035856-1691053200-1691078400@thamesyc.org
SUMMARY:Youth Sailing Classes
DESCRIPTION:
URL:https://thamesyc.org/event/youth-sailing-classes/2023-08-03/
CATEGORIES:Training
END:VEVENT
BEGIN:VEVENT
DTSTART;TZID=America/New_York:20230802T090000
DTEND;TZID=America/New_York:20230802T160000
DTSTAMP:20260424T083757
CREATED:20230113T213330Z
LAST-MODIFIED:20230523T205150Z
UID:10035855-1690966800-1690992000@thamesyc.org
SUMMARY:Youth Sailing Classes
DESCRIPTION:
URL:https://thamesyc.org/event/youth-sailing-classes/2023-08-02/
CATEGORIES:Training
END:VEVENT
BEGIN:VEVENT
DTSTART;TZID=America/New_York:20230801T090000
DTEND;TZID=America/New_York:20230801T160000
DTSTAMP:20260424T083757
CREATED:20230113T213330Z
LAST-MODIFIED:20230523T205150Z
UID:10035854-1690880400-1690905600@thamesyc.org
SUMMARY:Youth Sailing Classes
DESCRIPTION:
URL:https://thamesyc.org/event/youth-sailing-classes/2023-08-01/
CATEGORIES:Training
END:VEVENT
BEGIN:VEVENT
DTSTART;TZID=America/New_York:20230731T090000
DTEND;TZID=America/New_York:20230731T160000
DTSTAMP:20260424T083757
CREATED:20230113T213330Z
LAST-MODIFIED:20230523T205150Z
UID:10035853-1690794000-1690819200@thamesyc.org
SUMMARY:Youth Sailing Classes
DESCRIPTION:
URL:https://thamesyc.org/event/youth-sailing-classes/2023-07-31/
CATEGORIES:Training
END:VEVENT
BEGIN:VEVENT
DTSTART;TZID=America/New_York:20230728T090000
DTEND;TZID=America/New_York:20230728T160000
DTSTAMP:20260424T083757
CREATED:20230113T213330Z
LAST-MODIFIED:20230523T205150Z
UID:10035852-1690534800-1690560000@thamesyc.org
SUMMARY:Youth Sailing Classes
DESCRIPTION:
URL:https://thamesyc.org/event/youth-sailing-classes/2023-07-28/
CATEGORIES:Training
END:VEVENT
BEGIN:VEVENT
DTSTART;TZID=America/New_York:20230727T090000
DTEND;TZID=America/New_York:20230727T160000
DTSTAMP:20260424T083757
CREATED:20230113T213330Z
LAST-MODIFIED:20230523T205150Z
UID:10035851-1690448400-1690473600@thamesyc.org
SUMMARY:Youth Sailing Classes
DESCRIPTION:
URL:https://thamesyc.org/event/youth-sailing-classes/2023-07-27/
CATEGORIES:Training
END:VEVENT
BEGIN:VEVENT
DTSTART;TZID=America/New_York:20230726T090000
DTEND;TZID=America/New_York:20230726T160000
DTSTAMP:20260424T083757
CREATED:20230113T213330Z
LAST-MODIFIED:20230523T205150Z
UID:10035850-1690362000-1690387200@thamesyc.org
SUMMARY:Youth Sailing Classes
DESCRIPTION:
URL:https://thamesyc.org/event/youth-sailing-classes/2023-07-26/
CATEGORIES:Training
END:VEVENT
BEGIN:VEVENT
DTSTART;TZID=America/New_York:20230725T090000
DTEND;TZID=America/New_York:20230725T160000
DTSTAMP:20260424T083757
CREATED:20230113T213330Z
LAST-MODIFIED:20230523T205150Z
UID:10035849-1690275600-1690300800@thamesyc.org
SUMMARY:Youth Sailing Classes
DESCRIPTION:
URL:https://thamesyc.org/event/youth-sailing-classes/2023-07-25/
CATEGORIES:Training
END:VEVENT
BEGIN:VEVENT
DTSTART;TZID=America/New_York:20230724T090000
DTEND;TZID=America/New_York:20230724T160000
DTSTAMP:20260424T083757
CREATED:20230113T213330Z
LAST-MODIFIED:20230523T205150Z
UID:10035848-1690189200-1690214400@thamesyc.org
SUMMARY:Youth Sailing Classes
DESCRIPTION:
URL:https://thamesyc.org/event/youth-sailing-classes/2023-07-24/
CATEGORIES:Training
END:VEVENT
BEGIN:VEVENT
DTSTART;TZID=America/New_York:20230721T090000
DTEND;TZID=America/New_York:20230721T160000
DTSTAMP:20260424T083757
CREATED:20230113T213330Z
LAST-MODIFIED:20230523T205150Z
UID:10035847-1689930000-1689955200@thamesyc.org
SUMMARY:Youth Sailing Classes
DESCRIPTION:
URL:https://thamesyc.org/event/youth-sailing-classes/2023-07-21/
CATEGORIES:Training
END:VEVENT
BEGIN:VEVENT
DTSTART;TZID=America/New_York:20230720T090000
DTEND;TZID=America/New_York:20230720T160000
DTSTAMP:20260424T083757
CREATED:20230113T213330Z
LAST-MODIFIED:20230523T205150Z
UID:10035846-1689843600-1689868800@thamesyc.org
SUMMARY:Youth Sailing Classes
DESCRIPTION:
URL:https://thamesyc.org/event/youth-sailing-classes/2023-07-20/
CATEGORIES:Training
END:VEVENT
BEGIN:VEVENT
DTSTART;TZID=America/New_York:20230719T090000
DTEND;TZID=America/New_York:20230719T160000
DTSTAMP:20260424T083757
CREATED:20230113T213330Z
LAST-MODIFIED:20230523T205150Z
UID:10035845-1689757200-1689782400@thamesyc.org
SUMMARY:Youth Sailing Classes
DESCRIPTION:
URL:https://thamesyc.org/event/youth-sailing-classes/2023-07-19/
CATEGORIES:Training
END:VEVENT
BEGIN:VEVENT
DTSTART;TZID=America/New_York:20230718T090000
DTEND;TZID=America/New_York:20230718T160000
DTSTAMP:20260424T083757
CREATED:20230113T213330Z
LAST-MODIFIED:20230523T205150Z
UID:10035844-1689670800-1689696000@thamesyc.org
SUMMARY:Youth Sailing Classes
DESCRIPTION:
URL:https://thamesyc.org/event/youth-sailing-classes/2023-07-18/
CATEGORIES:Training
END:VEVENT
BEGIN:VEVENT
DTSTART;TZID=America/New_York:20230717T090000
DTEND;TZID=America/New_York:20230717T160000
DTSTAMP:20260424T083757
CREATED:20230113T213330Z
LAST-MODIFIED:20230523T205150Z
UID:10035843-1689584400-1689609600@thamesyc.org
SUMMARY:Youth Sailing Classes
DESCRIPTION:
URL:https://thamesyc.org/event/youth-sailing-classes/2023-07-17/
CATEGORIES:Training
END:VEVENT
END:VCALENDAR