BEGIN:VCALENDAR
VERSION:2.0
PRODID:-//Thames Yacht Club - ECPv6.15.20//NONSGML v1.0//EN
CALSCALE:GREGORIAN
METHOD:PUBLISH
X-ORIGINAL-URL:https://thamesyc.org
X-WR-CALDESC:Events for Thames Yacht Club
REFRESH-INTERVAL;VALUE=DURATION:PT1H
X-Robots-Tag:noindex
X-PUBLISHED-TTL:PT1H
BEGIN:VTIMEZONE
TZID:America/New_York
BEGIN:DAYLIGHT
TZOFFSETFROM:-0500
TZOFFSETTO:-0400
TZNAME:EDT
DTSTART:20230312T070000
END:DAYLIGHT
BEGIN:STANDARD
TZOFFSETFROM:-0400
TZOFFSETTO:-0500
TZNAME:EST
DTSTART:20231105T060000
END:STANDARD
BEGIN:DAYLIGHT
TZOFFSETFROM:-0500
TZOFFSETTO:-0400
TZNAME:EDT
DTSTART:20240310T070000
END:DAYLIGHT
BEGIN:STANDARD
TZOFFSETFROM:-0400
TZOFFSETTO:-0500
TZNAME:EST
DTSTART:20241103T060000
END:STANDARD
BEGIN:DAYLIGHT
TZOFFSETFROM:-0500
TZOFFSETTO:-0400
TZNAME:EDT
DTSTART:20250309T070000
END:DAYLIGHT
BEGIN:STANDARD
TZOFFSETFROM:-0400
TZOFFSETTO:-0500
TZNAME:EST
DTSTART:20251102T060000
END:STANDARD
BEGIN:DAYLIGHT
TZOFFSETFROM:-0500
TZOFFSETTO:-0400
TZNAME:EDT
DTSTART:20260308T070000
END:DAYLIGHT
BEGIN:STANDARD
TZOFFSETFROM:-0400
TZOFFSETTO:-0500
TZNAME:EST
DTSTART:20261101T060000
END:STANDARD
BEGIN:DAYLIGHT
TZOFFSETFROM:-0500
TZOFFSETTO:-0400
TZNAME:EDT
DTSTART:20270314T070000
END:DAYLIGHT
BEGIN:STANDARD
TZOFFSETFROM:-0400
TZOFFSETTO:-0500
TZNAME:EST
DTSTART:20271107T060000
END:STANDARD
END:VTIMEZONE
BEGIN:VEVENT
DTSTART;VALUE=DATE:20240812
DTEND;VALUE=DATE:20240813
DTSTAMP:20260425T124226
CREATED:20231227T035452Z
LAST-MODIFIED:20231227T035452Z
UID:10036781-1723420800-1723507199@thamesyc.org
SUMMARY:Youth Sailing
DESCRIPTION:
URL:https://thamesyc.org/event/youth-sailing-2/2024-08-12/
CATEGORIES:Training
END:VEVENT
BEGIN:VEVENT
DTSTART;VALUE=DATE:20240813
DTEND;VALUE=DATE:20240814
DTSTAMP:20260425T124226
CREATED:20231227T035452Z
LAST-MODIFIED:20231227T035452Z
UID:10036782-1723507200-1723593599@thamesyc.org
SUMMARY:Youth Sailing
DESCRIPTION:
URL:https://thamesyc.org/event/youth-sailing-2/2024-08-13/
CATEGORIES:Training
END:VEVENT
BEGIN:VEVENT
DTSTART;VALUE=DATE:20240814
DTEND;VALUE=DATE:20240815
DTSTAMP:20260425T124226
CREATED:20231227T035452Z
LAST-MODIFIED:20231227T035452Z
UID:10036783-1723593600-1723679999@thamesyc.org
SUMMARY:Youth Sailing
DESCRIPTION:
URL:https://thamesyc.org/event/youth-sailing-2/2024-08-14/
CATEGORIES:Training
END:VEVENT
BEGIN:VEVENT
DTSTART;VALUE=DATE:20240815
DTEND;VALUE=DATE:20240816
DTSTAMP:20260425T124226
CREATED:20231227T035452Z
LAST-MODIFIED:20231227T035452Z
UID:10036784-1723680000-1723766399@thamesyc.org
SUMMARY:Youth Sailing
DESCRIPTION:
URL:https://thamesyc.org/event/youth-sailing-2/2024-08-15/
CATEGORIES:Training
END:VEVENT
BEGIN:VEVENT
DTSTART;VALUE=DATE:20240816
DTEND;VALUE=DATE:20240817
DTSTAMP:20260425T124226
CREATED:20231227T035452Z
LAST-MODIFIED:20231227T035452Z
UID:10036785-1723766400-1723852799@thamesyc.org
SUMMARY:Youth Sailing
DESCRIPTION:
URL:https://thamesyc.org/event/youth-sailing-2/2024-08-16/
CATEGORIES:Training
END:VEVENT
BEGIN:VEVENT
DTSTART;VALUE=DATE:20250315
DTEND;VALUE=DATE:20250316
DTSTAMP:20260425T124226
CREATED:20250127T201835Z
LAST-MODIFIED:20250127T201835Z
UID:10039240-1741996800-1742083199@thamesyc.org
SUMMARY:DEADLINE: Discount Youth Sailing Fees
DESCRIPTION:
URL:https://thamesyc.org/event/deadline-discount-youth-sailing-fees/
CATEGORIES:Training
END:VEVENT
BEGIN:VEVENT
DTSTART;TZID=America/New_York:20250609T173000
DTEND;TZID=America/New_York:20250609T200000
DTSTAMP:20260425T124226
CREATED:20250127T205158Z
LAST-MODIFIED:20250127T211555Z
UID:10039252-1749490200-1749499200@thamesyc.org
SUMMARY:ADULT SAILING - SPRING
DESCRIPTION:
URL:https://thamesyc.org/event/adult-sailing/
CATEGORIES:Training
END:VEVENT
BEGIN:VEVENT
DTSTART;TZID=America/New_York:20250610T173000
DTEND;TZID=America/New_York:20250610T200000
DTSTAMP:20260425T124226
CREATED:20250127T205343Z
LAST-MODIFIED:20250127T211504Z
UID:10039253-1749576600-1749585600@thamesyc.org
SUMMARY:ADULT SAILING - SPRING
DESCRIPTION:
URL:https://thamesyc.org/event/adult-sailing-2/
CATEGORIES:Training
END:VEVENT
BEGIN:VEVENT
DTSTART;TZID=America/New_York:20250616T173000
DTEND;TZID=America/New_York:20250616T200000
DTSTAMP:20260425T124226
CREATED:20250127T205449Z
LAST-MODIFIED:20250127T211411Z
UID:10039254-1750095000-1750104000@thamesyc.org
SUMMARY:ADULT SAILING - SPRING
DESCRIPTION:
URL:https://thamesyc.org/event/adult-sailing-3/
CATEGORIES:Training
END:VEVENT
BEGIN:VEVENT
DTSTART;TZID=America/New_York:20250617T173000
DTEND;TZID=America/New_York:20250617T200000
DTSTAMP:20260425T124226
CREATED:20250127T205545Z
LAST-MODIFIED:20250127T211328Z
UID:10039255-1750181400-1750190400@thamesyc.org
SUMMARY:ADULT SAILING - SPRING
DESCRIPTION:
URL:https://thamesyc.org/event/adult-sailing-4/
CATEGORIES:Training
END:VEVENT
BEGIN:VEVENT
DTSTART;TZID=America/New_York:20250621T090000
DTEND;TZID=America/New_York:20250621T150000
DTSTAMP:20260425T124226
CREATED:20250127T211936Z
LAST-MODIFIED:20250127T211936Z
UID:10039263-1750496400-1750518000@thamesyc.org
SUMMARY:ADULT SAILING - EARLY SUMMER
DESCRIPTION:
URL:https://thamesyc.org/event/adult-sailing-early-summer/
CATEGORIES:Training
END:VEVENT
BEGIN:VEVENT
DTSTART;TZID=America/New_York:20250622T090000
DTEND;TZID=America/New_York:20250622T150000
DTSTAMP:20260425T124226
CREATED:20250127T212048Z
LAST-MODIFIED:20250127T212048Z
UID:10039264-1750582800-1750604400@thamesyc.org
SUMMARY:ADULT SAILING - EARLY SUMMER
DESCRIPTION:
URL:https://thamesyc.org/event/adult-sailing-early-summer-2/
CATEGORIES:Training
END:VEVENT
BEGIN:VEVENT
DTSTART;VALUE=DATE:20250623
DTEND;VALUE=DATE:20250628
DTSTAMP:20260425T124226
CREATED:20250127T202335Z
LAST-MODIFIED:20250127T202804Z
UID:10039243-1750636800-1751068799@thamesyc.org
SUMMARY:YOUTH SAILING
DESCRIPTION:
URL:https://thamesyc.org/event/deadline-removal-of-summer-marks/
CATEGORIES:Training
END:VEVENT
BEGIN:VEVENT
DTSTART;TZID=America/New_York:20250623T173000
DTEND;TZID=America/New_York:20250623T200000
DTSTAMP:20260425T124226
CREATED:20250127T205655Z
LAST-MODIFIED:20250127T211246Z
UID:10039256-1750699800-1750708800@thamesyc.org
SUMMARY:ADULT SAILING - SPRING
DESCRIPTION:
URL:https://thamesyc.org/event/adult-sailing-5/
CATEGORIES:Training
END:VEVENT
BEGIN:VEVENT
DTSTART;TZID=America/New_York:20250624T173000
DTEND;TZID=America/New_York:20250624T200000
DTSTAMP:20260425T124226
CREATED:20250127T205909Z
LAST-MODIFIED:20250127T211140Z
UID:10039257-1750786200-1750795200@thamesyc.org
SUMMARY:ADULT SAILING - SPRING - if needed
DESCRIPTION:
URL:https://thamesyc.org/event/adult-sailing-if-needed/
CATEGORIES:Training
END:VEVENT
BEGIN:VEVENT
DTSTART;VALUE=DATE:20250707
DTEND;VALUE=DATE:20250712
DTSTAMP:20260425T124226
CREATED:20250127T202915Z
LAST-MODIFIED:20250127T202915Z
UID:10039244-1751846400-1752278399@thamesyc.org
SUMMARY:YOUTH SAILING
DESCRIPTION:
URL:https://thamesyc.org/event/youth-sailing-3/
CATEGORIES:Training
END:VEVENT
BEGIN:VEVENT
DTSTART;VALUE=DATE:20250714
DTEND;VALUE=DATE:20250719
DTSTAMP:20260425T124226
CREATED:20250127T203006Z
LAST-MODIFIED:20250127T203006Z
UID:10039245-1752451200-1752883199@thamesyc.org
SUMMARY:YOUTH SAILING
DESCRIPTION:
URL:https://thamesyc.org/event/youth-sailing-4/
CATEGORIES:Training
END:VEVENT
BEGIN:VEVENT
DTSTART;VALUE=DATE:20250721
DTEND;VALUE=DATE:20250726
DTSTAMP:20260425T124226
CREATED:20250127T203050Z
LAST-MODIFIED:20250127T203050Z
UID:10039246-1753056000-1753487999@thamesyc.org
SUMMARY:YOUTH SAILING
DESCRIPTION:
URL:https://thamesyc.org/event/youth-sailing-5/
CATEGORIES:Training
END:VEVENT
BEGIN:VEVENT
DTSTART;TZID=America/New_York:20250721T173000
DTEND;TZID=America/New_York:20250721T200000
DTSTAMP:20260425T124226
CREATED:20250127T210542Z
LAST-MODIFIED:20250127T210542Z
UID:10039258-1753119000-1753128000@thamesyc.org
SUMMARY:ADULT SAILING - SUMMER
DESCRIPTION:
URL:https://thamesyc.org/event/adult-sailing-summer/
CATEGORIES:Training
END:VEVENT
BEGIN:VEVENT
DTSTART;TZID=America/New_York:20250722T173000
DTEND;TZID=America/New_York:20250722T200000
DTSTAMP:20260425T124226
CREATED:20250127T210654Z
LAST-MODIFIED:20250127T210654Z
UID:10039259-1753205400-1753214400@thamesyc.org
SUMMARY:ADULT SAILING - SUMMER
DESCRIPTION:
URL:https://thamesyc.org/event/adult-sailing-summer-2/
CATEGORIES:Training
END:VEVENT
BEGIN:VEVENT
DTSTART;TZID=America/New_York:20250726T090000
DTEND;TZID=America/New_York:20250726T150000
DTSTAMP:20260425T124226
CREATED:20250127T212207Z
LAST-MODIFIED:20250127T212207Z
UID:10039265-1753520400-1753542000@thamesyc.org
SUMMARY:ADULT SAILING - MID-SUMMER
DESCRIPTION:
URL:https://thamesyc.org/event/adult-sailing-mid-summer/
CATEGORIES:Training
END:VEVENT
BEGIN:VEVENT
DTSTART;TZID=America/New_York:20250727T090000
DTEND;TZID=America/New_York:20250727T150000
DTSTAMP:20260425T124226
CREATED:20250127T212254Z
LAST-MODIFIED:20250127T212254Z
UID:10039266-1753606800-1753628400@thamesyc.org
SUMMARY:ADULT SAILING - MID-SUMMER
DESCRIPTION:
URL:https://thamesyc.org/event/adult-sailing-mid-summer-2/
CATEGORIES:Training
END:VEVENT
BEGIN:VEVENT
DTSTART;VALUE=DATE:20250728
DTEND;VALUE=DATE:20250802
DTSTAMP:20260425T124226
CREATED:20250127T203136Z
LAST-MODIFIED:20250127T203136Z
UID:10039247-1753660800-1754092799@thamesyc.org
SUMMARY:YOUTH SAILING
DESCRIPTION:
URL:https://thamesyc.org/event/youth-sailing-6/
CATEGORIES:Training
END:VEVENT
BEGIN:VEVENT
DTSTART;TZID=America/New_York:20250728T173000
DTEND;TZID=America/New_York:20250728T200000
DTSTAMP:20260425T124226
CREATED:20250127T210751Z
LAST-MODIFIED:20250127T210751Z
UID:10039260-1753723800-1753732800@thamesyc.org
SUMMARY:ADULT SAILING - SUMMER
DESCRIPTION:
URL:https://thamesyc.org/event/adult-sailing-summer-3/
CATEGORIES:Training
END:VEVENT
BEGIN:VEVENT
DTSTART;TZID=America/New_York:20250729T173000
DTEND;TZID=America/New_York:20250729T200000
DTSTAMP:20260425T124226
CREATED:20250127T210847Z
LAST-MODIFIED:20250127T210847Z
UID:10039261-1753810200-1753819200@thamesyc.org
SUMMARY:ADULT SAILING - SUMMER
DESCRIPTION:
URL:https://thamesyc.org/event/adult-sailing-summer-4/
CATEGORIES:Training
END:VEVENT
BEGIN:VEVENT
DTSTART;VALUE=DATE:20250804
DTEND;VALUE=DATE:20250809
DTSTAMP:20260425T124226
CREATED:20250127T203226Z
LAST-MODIFIED:20250127T203240Z
UID:10039248-1754265600-1754697599@thamesyc.org
SUMMARY:YOUTH SAILING
DESCRIPTION:
URL:https://thamesyc.org/event/youth-sailing-7/
CATEGORIES:Training
END:VEVENT
BEGIN:VEVENT
DTSTART;TZID=America/New_York:20250804T173000
DTEND;TZID=America/New_York:20250804T200000
DTSTAMP:20260425T124226
CREATED:20250127T211019Z
LAST-MODIFIED:20250403T161129Z
UID:10039262-1754328600-1754337600@thamesyc.org
SUMMARY:ADULT SAILING - SUMMER
DESCRIPTION:
URL:https://thamesyc.org/event/adult-sailing-summer-if-needed/
CATEGORIES:Training
END:VEVENT
BEGIN:VEVENT
DTSTART;TZID=America/New_York:20250805T173000
DTEND;TZID=America/New_York:20250805T200000
DTSTAMP:20260425T124226
CREATED:20250403T161407Z
LAST-MODIFIED:20250403T161407Z
UID:10039316-1754415000-1754424000@thamesyc.org
SUMMARY:ADULT SAILING - SUMMER as needed
DESCRIPTION:
URL:https://thamesyc.org/event/adult-sailing-summer-as-needed/
CATEGORIES:Training
END:VEVENT
BEGIN:VEVENT
DTSTART;VALUE=DATE:20250811
DTEND;VALUE=DATE:20250816
DTSTAMP:20260425T124226
CREATED:20250127T203321Z
LAST-MODIFIED:20250127T203321Z
UID:10039249-1754870400-1755302399@thamesyc.org
SUMMARY:YOUTH SAILING
DESCRIPTION:
URL:https://thamesyc.org/event/youth-sailing-8/
CATEGORIES:Training
END:VEVENT
BEGIN:VEVENT
DTSTART;VALUE=DATE:20260315
DTEND;VALUE=DATE:20260316
DTSTAMP:20260425T124226
CREATED:20260120T204131Z
LAST-MODIFIED:20260120T204226Z
UID:10039545-1773532800-1773619199@thamesyc.org
SUMMARY:Deadline: Discounted Youth Sailing Fees
DESCRIPTION:
URL:https://thamesyc.org/event/discount-youth-sailing-fees/
CATEGORIES:Training
END:VEVENT
END:VCALENDAR