BEGIN:VCALENDAR
VERSION:2.0
PRODID:-//Thames Yacht Club - ECPv6.15.17//NONSGML v1.0//EN
CALSCALE:GREGORIAN
METHOD:PUBLISH
X-WR-CALNAME:Thames Yacht Club
X-ORIGINAL-URL:https://thamesyc.org
X-WR-CALDESC:Events for Thames Yacht Club
REFRESH-INTERVAL;VALUE=DURATION:PT1H
X-Robots-Tag:noindex
X-PUBLISHED-TTL:PT1H
BEGIN:VTIMEZONE
TZID:America/New_York
BEGIN:DAYLIGHT
TZOFFSETFROM:-0500
TZOFFSETTO:-0400
TZNAME:EDT
DTSTART:20250309T070000
END:DAYLIGHT
BEGIN:STANDARD
TZOFFSETFROM:-0400
TZOFFSETTO:-0500
TZNAME:EST
DTSTART:20251102T060000
END:STANDARD
BEGIN:DAYLIGHT
TZOFFSETFROM:-0500
TZOFFSETTO:-0400
TZNAME:EDT
DTSTART:20260308T070000
END:DAYLIGHT
BEGIN:STANDARD
TZOFFSETFROM:-0400
TZOFFSETTO:-0500
TZNAME:EST
DTSTART:20261101T060000
END:STANDARD
BEGIN:DAYLIGHT
TZOFFSETFROM:-0500
TZOFFSETTO:-0400
TZNAME:EDT
DTSTART:20270314T070000
END:DAYLIGHT
BEGIN:STANDARD
TZOFFSETFROM:-0400
TZOFFSETTO:-0500
TZNAME:EST
DTSTART:20271107T060000
END:STANDARD
END:VTIMEZONE
BEGIN:VEVENT
DTSTART;TZID=America/New_York:20260608T173000
DTEND;TZID=America/New_York:20260608T200000
DTSTAMP:20260423T210141
CREATED:20260120T201243Z
LAST-MODIFIED:20260120T201243Z
UID:10039531-1780939800-1780948800@thamesyc.org
SUMMARY:Adult Sailing
DESCRIPTION:
URL:https://thamesyc.org/event/adult-sailing-6/
CATEGORIES:Training
END:VEVENT
BEGIN:VEVENT
DTSTART;TZID=America/New_York:20260609T173000
DTEND;TZID=America/New_York:20260609T200000
DTSTAMP:20260423T210141
CREATED:20260120T201410Z
LAST-MODIFIED:20260120T201410Z
UID:10039532-1781026200-1781035200@thamesyc.org
SUMMARY:Adult Sailing
DESCRIPTION:
URL:https://thamesyc.org/event/adult-sailing-7/
CATEGORIES:Training
END:VEVENT
BEGIN:VEVENT
DTSTART;TZID=America/New_York:20260615T173000
DTEND;TZID=America/New_York:20260615T200000
DTSTAMP:20260423T210141
CREATED:20260120T201450Z
LAST-MODIFIED:20260120T201450Z
UID:10039533-1781544600-1781553600@thamesyc.org
SUMMARY:Adult Sailing
DESCRIPTION:
URL:https://thamesyc.org/event/adult-sailing-8/
CATEGORIES:Training
END:VEVENT
BEGIN:VEVENT
DTSTART;TZID=America/New_York:20260616T173000
DTEND;TZID=America/New_York:20260616T200000
DTSTAMP:20260423T210141
CREATED:20260120T201535Z
LAST-MODIFIED:20260120T201535Z
UID:10039534-1781631000-1781640000@thamesyc.org
SUMMARY:Adult Sailing
DESCRIPTION:
URL:https://thamesyc.org/event/adult-sailing-9/
CATEGORIES:Training
END:VEVENT
BEGIN:VEVENT
DTSTART;TZID=America/New_York:20260620T090000
DTEND;TZID=America/New_York:20260620T150000
DTSTAMP:20260423T210141
CREATED:20260120T203453Z
LAST-MODIFIED:20260120T203534Z
UID:10039541-1781946000-1781967600@thamesyc.org
SUMMARY:Adult Sailing
DESCRIPTION:
URL:https://thamesyc.org/event/adult-sailing-14/
CATEGORIES:Training
END:VEVENT
BEGIN:VEVENT
DTSTART;TZID=America/New_York:20260621T090000
DTEND;TZID=America/New_York:20260621T150000
DTSTAMP:20260423T210141
CREATED:20260120T203630Z
LAST-MODIFIED:20260120T203630Z
UID:10039542-1782032400-1782054000@thamesyc.org
SUMMARY:Adult Sailing
DESCRIPTION:
URL:https://thamesyc.org/event/adult-sailing-15/
CATEGORIES:Training
END:VEVENT
BEGIN:VEVENT
DTSTART;TZID=America/New_York:20260622T090000
DTEND;TZID=America/New_York:20260622T160000
DTSTAMP:20260423T210141
CREATED:20260120T182146Z
LAST-MODIFIED:20260120T182657Z
UID:10039492-1782118800-1782144000@thamesyc.org
SUMMARY:Youth Sailing
DESCRIPTION:
URL:https://thamesyc.org/event/youth-sailing-9/
CATEGORIES:Training
END:VEVENT
BEGIN:VEVENT
DTSTART;TZID=America/New_York:20260623T090000
DTEND;TZID=America/New_York:20260623T160000
DTSTAMP:20260423T210141
CREATED:20260120T191954Z
LAST-MODIFIED:20260120T191954Z
UID:10039497-1782205200-1782230400@thamesyc.org
SUMMARY:Youth Sailing
DESCRIPTION:
URL:https://thamesyc.org/event/youth-sailing-10/
CATEGORIES:Training
END:VEVENT
BEGIN:VEVENT
DTSTART;TZID=America/New_York:20260623T173000
DTEND;TZID=America/New_York:20260623T200000
DTSTAMP:20260423T210141
CREATED:20260120T201644Z
LAST-MODIFIED:20260120T201644Z
UID:10039535-1782235800-1782244800@thamesyc.org
SUMMARY:Adult Sailing if needed
DESCRIPTION:
URL:https://thamesyc.org/event/adult-sailing-if-needed-2/
CATEGORIES:Training
END:VEVENT
BEGIN:VEVENT
DTSTART;TZID=America/New_York:20260624T090000
DTEND;TZID=America/New_York:20260624T160000
DTSTAMP:20260423T210141
CREATED:20260120T192055Z
LAST-MODIFIED:20260120T192055Z
UID:10039498-1782291600-1782316800@thamesyc.org
SUMMARY:Youth Sailing
DESCRIPTION:
URL:https://thamesyc.org/event/youth-sailing-11/
CATEGORIES:Training
END:VEVENT
BEGIN:VEVENT
DTSTART;TZID=America/New_York:20260625T090000
DTEND;TZID=America/New_York:20260625T160000
DTSTAMP:20260423T210141
CREATED:20260120T192153Z
LAST-MODIFIED:20260120T192153Z
UID:10039499-1782378000-1782403200@thamesyc.org
SUMMARY:Youth Sailing
DESCRIPTION:
URL:https://thamesyc.org/event/youth-sailing-12/
CATEGORIES:Training
END:VEVENT
BEGIN:VEVENT
DTSTART;TZID=America/New_York:20260626T090000
DTEND;TZID=America/New_York:20260626T160000
DTSTAMP:20260423T210141
CREATED:20260120T192232Z
LAST-MODIFIED:20260120T192232Z
UID:10039500-1782464400-1782489600@thamesyc.org
SUMMARY:Youth Sailing
DESCRIPTION:
URL:https://thamesyc.org/event/youth-sailing-13/
CATEGORIES:Training
END:VEVENT
END:VCALENDAR