BEGIN:VCALENDAR
VERSION:2.0
PRODID:-//Thames Yacht Club - ECPv6.15.17//NONSGML v1.0//EN
CALSCALE:GREGORIAN
METHOD:PUBLISH
X-ORIGINAL-URL:https://thamesyc.org
X-WR-CALDESC:Events for Thames Yacht Club
REFRESH-INTERVAL;VALUE=DURATION:PT1H
X-Robots-Tag:noindex
X-PUBLISHED-TTL:PT1H
BEGIN:VTIMEZONE
TZID:America/New_York
BEGIN:DAYLIGHT
TZOFFSETFROM:-0500
TZOFFSETTO:-0400
TZNAME:EDT
DTSTART:20230312T070000
END:DAYLIGHT
BEGIN:STANDARD
TZOFFSETFROM:-0400
TZOFFSETTO:-0500
TZNAME:EST
DTSTART:20231105T060000
END:STANDARD
BEGIN:DAYLIGHT
TZOFFSETFROM:-0500
TZOFFSETTO:-0400
TZNAME:EDT
DTSTART:20240310T070000
END:DAYLIGHT
BEGIN:STANDARD
TZOFFSETFROM:-0400
TZOFFSETTO:-0500
TZNAME:EST
DTSTART:20241103T060000
END:STANDARD
BEGIN:DAYLIGHT
TZOFFSETFROM:-0500
TZOFFSETTO:-0400
TZNAME:EDT
DTSTART:20250309T070000
END:DAYLIGHT
BEGIN:STANDARD
TZOFFSETFROM:-0400
TZOFFSETTO:-0500
TZNAME:EST
DTSTART:20251102T060000
END:STANDARD
END:VTIMEZONE
BEGIN:VEVENT
DTSTART;VALUE=DATE:20240713
DTEND;VALUE=DATE:20240715
DTSTAMP:20260425T061842
CREATED:20231220T232439Z
LAST-MODIFIED:20231220T232439Z
UID:10036709-1720828800-1721001599@thamesyc.org
SUMMARY:Thames River Finn Championships
DESCRIPTION:
URL:https://thamesyc.org/event/thames-river-finn-championships/
CATEGORIES:Party,Racing
END:VEVENT
BEGIN:VEVENT
DTSTART;TZID=America/New_York:20240717T170000
DTEND;TZID=America/New_York:20240717T200000
DTSTAMP:20260425T061842
CREATED:20231219T005212Z
LAST-MODIFIED:20231219T005212Z
UID:10036355-1721235600-1721246400@thamesyc.org
SUMMARY:Wednesday Night Spring Series
DESCRIPTION:
URL:https://thamesyc.org/event/wednesday-night-spring-series-3/2024-07-17/
CATEGORIES:Racing
END:VEVENT
BEGIN:VEVENT
DTSTART;TZID=America/New_York:20240718T180000
DTEND;TZID=America/New_York:20240718T200000
DTSTAMP:20260425T061842
CREATED:20231220T231704Z
LAST-MODIFIED:20240604T125736Z
UID:10038471-1721325600-1721332800@thamesyc.org
SUMMARY:Force 5 Summer Series
DESCRIPTION:
URL:https://thamesyc.org/event/force-5-summer-series-4/2024-07-18/
CATEGORIES:Racing
END:VEVENT
END:VCALENDAR