BEGIN:VCALENDAR
VERSION:2.0
PRODID:-//Thames Yacht Club - ECPv6.15.20//NONSGML v1.0//EN
CALSCALE:GREGORIAN
METHOD:PUBLISH
X-ORIGINAL-URL:https://thamesyc.org
X-WR-CALDESC:Events for Thames Yacht Club
REFRESH-INTERVAL;VALUE=DURATION:PT1H
X-Robots-Tag:noindex
X-PUBLISHED-TTL:PT1H
BEGIN:VTIMEZONE
TZID:America/New_York
BEGIN:DAYLIGHT
TZOFFSETFROM:-0500
TZOFFSETTO:-0400
TZNAME:EDT
DTSTART:20220313T070000
END:DAYLIGHT
BEGIN:STANDARD
TZOFFSETFROM:-0400
TZOFFSETTO:-0500
TZNAME:EST
DTSTART:20221106T060000
END:STANDARD
BEGIN:DAYLIGHT
TZOFFSETFROM:-0500
TZOFFSETTO:-0400
TZNAME:EDT
DTSTART:20230312T070000
END:DAYLIGHT
BEGIN:STANDARD
TZOFFSETFROM:-0400
TZOFFSETTO:-0500
TZNAME:EST
DTSTART:20231105T060000
END:STANDARD
BEGIN:DAYLIGHT
TZOFFSETFROM:-0500
TZOFFSETTO:-0400
TZNAME:EDT
DTSTART:20240310T070000
END:DAYLIGHT
BEGIN:STANDARD
TZOFFSETFROM:-0400
TZOFFSETTO:-0500
TZNAME:EST
DTSTART:20241103T060000
END:STANDARD
END:VTIMEZONE
BEGIN:VEVENT
DTSTART;TZID=America/New_York:20230712T080000
DTEND;TZID=America/New_York:20230712T170000
DTSTAMP:20260426T002521
CREATED:20230113T214514Z
LAST-MODIFIED:20230113T214514Z
UID:10035311-1689148800-1689181200@thamesyc.org
SUMMARY:Spring Race Series
DESCRIPTION:
URL:https://thamesyc.org/event/spring-race-series/2023-07-12/
CATEGORIES:Racing
END:VEVENT
BEGIN:VEVENT
DTSTART;TZID=America/New_York:20230712T170000
DTEND;TZID=America/New_York:20230712T213000
DTSTAMP:20260426T002521
CREATED:20230113T215248Z
LAST-MODIFIED:20230113T215248Z
UID:10035327-1689181200-1689197400@thamesyc.org
SUMMARY:Hospice Regatta
DESCRIPTION:
URL:https://thamesyc.org/event/hospice-regatta-4/
CATEGORIES:Racing
END:VEVENT
BEGIN:VEVENT
DTSTART;TZID=America/New_York:20230713T080000
DTEND;TZID=America/New_York:20230713T170000
DTSTAMP:20260426T002521
CREATED:20230113T215429Z
LAST-MODIFIED:20240604T122403Z
UID:10035328-1689235200-1689267600@thamesyc.org
SUMMARY:Force 5/Finn Summer Series
DESCRIPTION:
URL:https://thamesyc.org/event/force-5-summer-series-4-2/2023-07-13/
CATEGORIES:Racing
END:VEVENT
END:VCALENDAR