BEGIN:VCALENDAR
VERSION:2.0
PRODID:-//Thames Yacht Club - ECPv6.15.20//NONSGML v1.0//EN
CALSCALE:GREGORIAN
METHOD:PUBLISH
X-WR-CALNAME:Thames Yacht Club
X-ORIGINAL-URL:https://thamesyc.org
X-WR-CALDESC:Events for Thames Yacht Club
REFRESH-INTERVAL;VALUE=DURATION:PT1H
X-Robots-Tag:noindex
X-PUBLISHED-TTL:PT1H
BEGIN:VTIMEZONE
TZID:America/New_York
BEGIN:DAYLIGHT
TZOFFSETFROM:-0500
TZOFFSETTO:-0400
TZNAME:EDT
DTSTART:20220313T070000
END:DAYLIGHT
BEGIN:STANDARD
TZOFFSETFROM:-0400
TZOFFSETTO:-0500
TZNAME:EST
DTSTART:20221106T060000
END:STANDARD
BEGIN:DAYLIGHT
TZOFFSETFROM:-0500
TZOFFSETTO:-0400
TZNAME:EDT
DTSTART:20230312T070000
END:DAYLIGHT
BEGIN:STANDARD
TZOFFSETFROM:-0400
TZOFFSETTO:-0500
TZNAME:EST
DTSTART:20231105T060000
END:STANDARD
BEGIN:DAYLIGHT
TZOFFSETFROM:-0500
TZOFFSETTO:-0400
TZNAME:EDT
DTSTART:20240310T070000
END:DAYLIGHT
BEGIN:STANDARD
TZOFFSETFROM:-0400
TZOFFSETTO:-0500
TZNAME:EST
DTSTART:20241103T060000
END:STANDARD
END:VTIMEZONE
BEGIN:VEVENT
DTSTART;TZID=America/New_York:20230621T080000
DTEND;TZID=America/New_York:20230621T170000
DTSTAMP:20260425T231100
CREATED:20230113T214514Z
LAST-MODIFIED:20230113T214514Z
UID:10035308-1687334400-1687366800@thamesyc.org
SUMMARY:Spring Race Series
DESCRIPTION:
URL:https://thamesyc.org/event/spring-race-series/2023-06-21/
CATEGORIES:Racing
END:VEVENT
BEGIN:VEVENT
DTSTART;TZID=America/New_York:20230622T080000
DTEND;TZID=America/New_York:20230622T170000
DTSTAMP:20260425T231100
CREATED:20230113T214716Z
LAST-MODIFIED:20230113T214716Z
UID:10035317-1687420800-1687453200@thamesyc.org
SUMMARY:Force 5 Spring Series
DESCRIPTION:
URL:https://thamesyc.org/event/force-5-spring-series-4-2/2023-06-22/
CATEGORIES:Racing
END:VEVENT
BEGIN:VEVENT
DTSTART;TZID=America/New_York:20230624T080000
DTEND;TZID=America/New_York:20230624T170000
DTSTAMP:20260425T231100
CREATED:20230113T213140Z
LAST-MODIFIED:20230113T213140Z
UID:10034999-1687593600-1687626000@thamesyc.org
SUMMARY:Cal Brouwer Memorial Regatta
DESCRIPTION:
URL:https://thamesyc.org/event/cal-brouwer-memorial-regatta-2/
CATEGORIES:Racing
END:VEVENT
END:VCALENDAR