BEGIN:VCALENDAR
VERSION:2.0
PRODID:-//Thames Yacht Club - ECPv6.15.17//NONSGML v1.0//EN
CALSCALE:GREGORIAN
METHOD:PUBLISH
X-WR-CALNAME:Thames Yacht Club
X-ORIGINAL-URL:https://thamesyc.org
X-WR-CALDESC:Events for Thames Yacht Club
REFRESH-INTERVAL;VALUE=DURATION:PT1H
X-Robots-Tag:noindex
X-PUBLISHED-TTL:PT1H
BEGIN:VTIMEZONE
TZID:America/New_York
BEGIN:DAYLIGHT
TZOFFSETFROM:-0500
TZOFFSETTO:-0400
TZNAME:EDT
DTSTART:20250309T070000
END:DAYLIGHT
BEGIN:STANDARD
TZOFFSETFROM:-0400
TZOFFSETTO:-0500
TZNAME:EST
DTSTART:20251102T060000
END:STANDARD
BEGIN:DAYLIGHT
TZOFFSETFROM:-0500
TZOFFSETTO:-0400
TZNAME:EDT
DTSTART:20260308T070000
END:DAYLIGHT
BEGIN:STANDARD
TZOFFSETFROM:-0400
TZOFFSETTO:-0500
TZNAME:EST
DTSTART:20261101T060000
END:STANDARD
BEGIN:DAYLIGHT
TZOFFSETFROM:-0500
TZOFFSETTO:-0400
TZNAME:EDT
DTSTART:20270314T070000
END:DAYLIGHT
BEGIN:STANDARD
TZOFFSETFROM:-0400
TZOFFSETTO:-0500
TZNAME:EST
DTSTART:20271107T060000
END:STANDARD
END:VTIMEZONE
BEGIN:VEVENT
DTSTART;TZID=America/New_York:20260730T170000
DTEND;TZID=America/New_York:20260730T200000
DTSTAMP:20260423T202446
CREATED:20260420T222842Z
LAST-MODIFIED:20260420T222842Z
UID:10039614-1785430800-1785441600@thamesyc.org
SUMMARY:Force 5 and Finn Summer Series
DESCRIPTION:
URL:https://thamesyc.org/event/force-5-and-finn-summer-series-2/
CATEGORIES:Racing
END:VEVENT
BEGIN:VEVENT
DTSTART;TZID=America/New_York:20260805T170000
DTEND;TZID=America/New_York:20260805T200000
DTSTAMP:20260423T202446
CREATED:20260420T222416Z
LAST-MODIFIED:20260420T222416Z
UID:10039608-1785949200-1785960000@thamesyc.org
SUMMARY:PHRF and Ensign Summer Series
DESCRIPTION:
URL:https://thamesyc.org/event/phrf-and-ensign-summer-series-3/
CATEGORIES:Racing
END:VEVENT
BEGIN:VEVENT
DTSTART;TZID=America/New_York:20260806T170000
DTEND;TZID=America/New_York:20260806T200000
DTSTAMP:20260423T202446
CREATED:20260420T222919Z
LAST-MODIFIED:20260420T222919Z
UID:10039615-1786035600-1786046400@thamesyc.org
SUMMARY:Force 5 and Finn Summer Series
DESCRIPTION:
URL:https://thamesyc.org/event/force-5-and-finn-summer-series-3/
CATEGORIES:Racing
END:VEVENT
BEGIN:VEVENT
DTSTART;TZID=America/New_York:20260812T170000
DTEND;TZID=America/New_York:20260812T200000
DTSTAMP:20260423T202446
CREATED:20260420T222459Z
LAST-MODIFIED:20260420T222459Z
UID:10039609-1786554000-1786564800@thamesyc.org
SUMMARY:PHRF and Ensign Summer Series
DESCRIPTION:
URL:https://thamesyc.org/event/phrf-and-ensign-summer-series-4/
CATEGORIES:Racing
END:VEVENT
BEGIN:VEVENT
DTSTART;TZID=America/New_York:20260813T170000
DTEND;TZID=America/New_York:20260813T200000
DTSTAMP:20260423T202446
CREATED:20260420T222959Z
LAST-MODIFIED:20260420T222959Z
UID:10039616-1786640400-1786651200@thamesyc.org
SUMMARY:Force 5 and Finn Summer Series
DESCRIPTION:
URL:https://thamesyc.org/event/force-5-and-finn-summer-series-4/
CATEGORIES:Racing
END:VEVENT
BEGIN:VEVENT
DTSTART;TZID=America/New_York:20260819T170000
DTEND;TZID=America/New_York:20260819T200000
DTSTAMP:20260423T202446
CREATED:20260420T222536Z
LAST-MODIFIED:20260420T222536Z
UID:10039610-1787158800-1787169600@thamesyc.org
SUMMARY:PHRF and Ensign Summer Series
DESCRIPTION:
URL:https://thamesyc.org/event/phrf-and-ensign-summer-series-5/
CATEGORIES:Racing
END:VEVENT
BEGIN:VEVENT
DTSTART;TZID=America/New_York:20260820T170000
DTEND;TZID=America/New_York:20260820T200000
DTSTAMP:20260423T202446
CREATED:20260420T223037Z
LAST-MODIFIED:20260420T223101Z
UID:10039617-1787245200-1787256000@thamesyc.org
SUMMARY:Force 5 and Finn Summer Series
DESCRIPTION:
URL:https://thamesyc.org/event/force-5-and-finn-summer-series-5/
CATEGORIES:Racing
END:VEVENT
BEGIN:VEVENT
DTSTART;TZID=America/New_York:20260826T170000
DTEND;TZID=America/New_York:20260826T200000
DTSTAMP:20260423T202446
CREATED:20260420T222611Z
LAST-MODIFIED:20260420T222611Z
UID:10039611-1787763600-1787774400@thamesyc.org
SUMMARY:PHRF and Ensign Summer Series
DESCRIPTION:
URL:https://thamesyc.org/event/phrf-and-ensign-summer-series-6/
CATEGORIES:Racing
END:VEVENT
BEGIN:VEVENT
DTSTART;TZID=America/New_York:20260827T170000
DTEND;TZID=America/New_York:20260827T200000
DTSTAMP:20260423T202446
CREATED:20260420T223141Z
LAST-MODIFIED:20260420T223151Z
UID:10039618-1787850000-1787860800@thamesyc.org
SUMMARY:Force 5 and Finn Summer Series
DESCRIPTION:
URL:https://thamesyc.org/event/force-5-and-finn-summer-series-6/
CATEGORIES:Racing
END:VEVENT
BEGIN:VEVENT
DTSTART;TZID=America/New_York:20260902T170000
DTEND;TZID=America/New_York:20260902T200000
DTSTAMP:20260423T202446
CREATED:20260420T222654Z
LAST-MODIFIED:20260420T222654Z
UID:10039612-1788368400-1788379200@thamesyc.org
SUMMARY:PHRF and Ensign Summer Series
DESCRIPTION:
URL:https://thamesyc.org/event/phrf-and-ensign-summer-series-7/
CATEGORIES:Racing
END:VEVENT
BEGIN:VEVENT
DTSTART;VALUE=DATE:20260913
DTEND;VALUE=DATE:20260914
DTSTAMP:20260423T202446
CREATED:20260120T183022Z
LAST-MODIFIED:20260120T183022Z
UID:10039494-1789257600-1789343999@thamesyc.org
SUMMARY:Commodore's Trophy Race
DESCRIPTION:
URL:https://thamesyc.org/event/commodores-trophy-race-10/
CATEGORIES:Racing
END:VEVENT
BEGIN:VEVENT
DTSTART;VALUE=DATE:20260920
DTEND;VALUE=DATE:20260921
DTSTAMP:20260423T202446
CREATED:20260420T223438Z
LAST-MODIFIED:20260420T223438Z
UID:10039620-1789862400-1789948799@thamesyc.org
SUMMARY:Fall Chowder Series - Afternoons
DESCRIPTION:
URL:https://thamesyc.org/event/fall-chowder-series-afternoons/
CATEGORIES:Racing
END:VEVENT
BEGIN:VEVENT
DTSTART;VALUE=DATE:20260927
DTEND;VALUE=DATE:20260928
DTSTAMP:20260423T202446
CREATED:20260420T223511Z
LAST-MODIFIED:20260420T223529Z
UID:10039621-1790467200-1790553599@thamesyc.org
SUMMARY:Fall Chowder Series - Afternoons
DESCRIPTION:
URL:https://thamesyc.org/event/fall-chowder-series-afternoons-2/
CATEGORIES:Racing
END:VEVENT
BEGIN:VEVENT
DTSTART;VALUE=DATE:20261004
DTEND;VALUE=DATE:20261005
DTSTAMP:20260423T202446
CREATED:20260420T223553Z
LAST-MODIFIED:20260420T223553Z
UID:10039622-1791072000-1791158399@thamesyc.org
SUMMARY:Fall Chowder Series - Afternoons
DESCRIPTION:
URL:https://thamesyc.org/event/fall-chowder-series-afternoons-3/
CATEGORIES:Racing
END:VEVENT
BEGIN:VEVENT
DTSTART;VALUE=DATE:20261011
DTEND;VALUE=DATE:20261012
DTSTAMP:20260423T202446
CREATED:20260420T223632Z
LAST-MODIFIED:20260420T223632Z
UID:10039623-1791676800-1791763199@thamesyc.org
SUMMARY:Fall Chowder Series - Afternoons
DESCRIPTION:
URL:https://thamesyc.org/event/fall-chowder-series-afternoons-4/
CATEGORIES:Racing
END:VEVENT
BEGIN:VEVENT
DTSTART;VALUE=DATE:20261018
DTEND;VALUE=DATE:20261019
DTSTAMP:20260423T202446
CREATED:20260420T223711Z
LAST-MODIFIED:20260420T223711Z
UID:10039624-1792281600-1792367999@thamesyc.org
SUMMARY:Fall Chowder Series - Afternoons
DESCRIPTION:
URL:https://thamesyc.org/event/fall-chowder-series-afternoons-5/
CATEGORIES:Racing
END:VEVENT
BEGIN:VEVENT
DTSTART;VALUE=DATE:20261025
DTEND;VALUE=DATE:20261026
DTSTAMP:20260423T202446
CREATED:20260420T223745Z
LAST-MODIFIED:20260420T223745Z
UID:10039625-1792886400-1792972799@thamesyc.org
SUMMARY:Fall Chowder Series - Afternoons
DESCRIPTION:
URL:https://thamesyc.org/event/fall-chowder-series-afternoons-6/
CATEGORIES:Racing
END:VEVENT
END:VCALENDAR