BEGIN:VCALENDAR
VERSION:2.0
PRODID:-//Thames Yacht Club - ECPv6.15.17//NONSGML v1.0//EN
CALSCALE:GREGORIAN
METHOD:PUBLISH
X-WR-CALNAME:Thames Yacht Club
X-ORIGINAL-URL:https://thamesyc.org
X-WR-CALDESC:Events for Thames Yacht Club
REFRESH-INTERVAL;VALUE=DURATION:PT1H
X-Robots-Tag:noindex
X-PUBLISHED-TTL:PT1H
BEGIN:VTIMEZONE
TZID:America/New_York
BEGIN:DAYLIGHT
TZOFFSETFROM:-0500
TZOFFSETTO:-0400
TZNAME:EDT
DTSTART:20160313T070000
END:DAYLIGHT
BEGIN:STANDARD
TZOFFSETFROM:-0400
TZOFFSETTO:-0500
TZNAME:EST
DTSTART:20161106T060000
END:STANDARD
BEGIN:DAYLIGHT
TZOFFSETFROM:-0500
TZOFFSETTO:-0400
TZNAME:EDT
DTSTART:20170312T070000
END:DAYLIGHT
BEGIN:STANDARD
TZOFFSETFROM:-0400
TZOFFSETTO:-0500
TZNAME:EST
DTSTART:20171105T060000
END:STANDARD
BEGIN:DAYLIGHT
TZOFFSETFROM:-0500
TZOFFSETTO:-0400
TZNAME:EDT
DTSTART:20180311T070000
END:DAYLIGHT
BEGIN:STANDARD
TZOFFSETFROM:-0400
TZOFFSETTO:-0500
TZNAME:EST
DTSTART:20181104T060000
END:STANDARD
BEGIN:DAYLIGHT
TZOFFSETFROM:-0500
TZOFFSETTO:-0400
TZNAME:EDT
DTSTART:20190310T070000
END:DAYLIGHT
BEGIN:STANDARD
TZOFFSETFROM:-0400
TZOFFSETTO:-0500
TZNAME:EST
DTSTART:20191103T060000
END:STANDARD
BEGIN:DAYLIGHT
TZOFFSETFROM:-0500
TZOFFSETTO:-0400
TZNAME:EDT
DTSTART:20200308T070000
END:DAYLIGHT
BEGIN:STANDARD
TZOFFSETFROM:-0400
TZOFFSETTO:-0500
TZNAME:EST
DTSTART:20201101T060000
END:STANDARD
BEGIN:DAYLIGHT
TZOFFSETFROM:-0500
TZOFFSETTO:-0400
TZNAME:EDT
DTSTART:20210314T070000
END:DAYLIGHT
BEGIN:STANDARD
TZOFFSETFROM:-0400
TZOFFSETTO:-0500
TZNAME:EST
DTSTART:20211107T060000
END:STANDARD
BEGIN:DAYLIGHT
TZOFFSETFROM:-0500
TZOFFSETTO:-0400
TZNAME:EDT
DTSTART:20220313T070000
END:DAYLIGHT
BEGIN:STANDARD
TZOFFSETFROM:-0400
TZOFFSETTO:-0500
TZNAME:EST
DTSTART:20221106T060000
END:STANDARD
BEGIN:DAYLIGHT
TZOFFSETFROM:-0500
TZOFFSETTO:-0400
TZNAME:EDT
DTSTART:20230312T070000
END:DAYLIGHT
BEGIN:STANDARD
TZOFFSETFROM:-0400
TZOFFSETTO:-0500
TZNAME:EST
DTSTART:20231105T060000
END:STANDARD
BEGIN:DAYLIGHT
TZOFFSETFROM:-0500
TZOFFSETTO:-0400
TZNAME:EDT
DTSTART:20240310T070000
END:DAYLIGHT
BEGIN:STANDARD
TZOFFSETFROM:-0400
TZOFFSETTO:-0500
TZNAME:EST
DTSTART:20241103T060000
END:STANDARD
END:VTIMEZONE
BEGIN:VEVENT
DTSTART;TZID=America/New_York:20231022T090000
DTEND;TZID=America/New_York:20231022T130000
DTSTAMP:20260424T014024
CREATED:20230517T230758Z
LAST-MODIFIED:20230517T230758Z
UID:10035788-1697965200-1697979600@thamesyc.org
SUMMARY:2nd Floor Rented (McCarthy)
DESCRIPTION:
URL:https://thamesyc.org/event/2nd-floor-rented-mccarthy/
CATEGORIES:Facility Rental
END:VEVENT
BEGIN:VEVENT
DTSTART;TZID=America/New_York:20231014T160000
DTEND;TZID=America/New_York:20231014T220000
DTSTAMP:20260424T014024
CREATED:20231004T151257Z
LAST-MODIFIED:20231004T151257Z
UID:10036327-1697299200-1697320800@thamesyc.org
SUMMARY:1st and 2nd Floor Rental for Stevens
DESCRIPTION:
URL:https://thamesyc.org/event/1st-and-2nd-floor-rental-for-stevens/
CATEGORIES:Facility Rental
END:VEVENT
BEGIN:VEVENT
DTSTART;TZID=America/New_York:20230924T130000
DTEND;TZID=America/New_York:20230924T210000
DTSTAMP:20260424T014024
CREATED:20230907T115420Z
LAST-MODIFIED:20230907T115420Z
UID:10036312-1695560400-1695589200@thamesyc.org
SUMMARY:1st and 2nd Floor reserved for the ENSIGN "Last Chance Regatta"
DESCRIPTION:
URL:https://thamesyc.org/event/1st-and-2nd-floor-reserved-for-the-ensign-last-chance-regatta/
CATEGORIES:Facility Rental
END:VEVENT
BEGIN:VEVENT
DTSTART;TZID=America/New_York:20230923T120000
DTEND;TZID=America/New_York:20230923T170000
DTSTAMP:20260424T014024
CREATED:20230818T161846Z
LAST-MODIFIED:20230818T161846Z
UID:10036289-1695470400-1695488400@thamesyc.org
SUMMARY:1st floor rented by C. Vardar
DESCRIPTION:
URL:https://thamesyc.org/event/1st-floor-rented-by-c-vardar/
CATEGORIES:Facility Rental
END:VEVENT
BEGIN:VEVENT
DTSTART;TZID=America/New_York:20230611T140000
DTEND;TZID=America/New_York:20230611T220000
DTSTAMP:20260424T014024
CREATED:20230606T223543Z
LAST-MODIFIED:20230606T223543Z
UID:10036269-1686492000-1686520800@thamesyc.org
SUMMARY:2nd Floor Reserved for N. Holley
DESCRIPTION:
URL:https://thamesyc.org/event/2nd-floor-reserved-for-n-holley/
CATEGORIES:Facility Rental
END:VEVENT
BEGIN:VEVENT
DTSTART;TZID=America/New_York:20230604T110000
DTEND;TZID=America/New_York:20230604T170000
DTSTAMP:20260424T014024
CREATED:20230506T131045Z
LAST-MODIFIED:20230506T131045Z
UID:10035786-1685876400-1685898000@thamesyc.org
SUMMARY:2nd Floor Rented (Wagman)
DESCRIPTION:
URL:https://thamesyc.org/event/2nd-floor-rented-wagman-2/
CATEGORIES:Facility Rental
END:VEVENT
BEGIN:VEVENT
DTSTART;TZID=America/New_York:20230603T100000
DTEND;TZID=America/New_York:20230603T220000
DTSTAMP:20260424T014024
CREATED:20230425T205920Z
LAST-MODIFIED:20230425T205920Z
UID:10035785-1685786400-1685829600@thamesyc.org
SUMMARY:1st and 2nd Floor Rented (Jeannotte)
DESCRIPTION:
URL:https://thamesyc.org/event/1st-and-2nd-floor-rented-jeannotte/
CATEGORIES:Facility Rental
END:VEVENT
BEGIN:VEVENT
DTSTART;TZID=America/New_York:20221029T140000
DTEND;TZID=America/New_York:20221029T220000
DTSTAMP:20260424T014024
CREATED:20220829T141507Z
LAST-MODIFIED:20220829T141507Z
UID:10034822-1667052000-1667080800@thamesyc.org
SUMMARY:2nd floor rented Maureen Scagliola
DESCRIPTION:
URL:https://thamesyc.org/event/2nd-floor-rented-maureen-scagliola/
CATEGORIES:Facility Rental
END:VEVENT
BEGIN:VEVENT
DTSTART;TZID=America/New_York:20221016T100000
DTEND;TZID=America/New_York:20221016T140000
DTSTAMP:20260424T014024
CREATED:20221003T132954Z
LAST-MODIFIED:20221003T132954Z
UID:10034831-1665914400-1665928800@thamesyc.org
SUMMARY:2nd Floor Reserved for B. Weekley
DESCRIPTION:
URL:https://thamesyc.org/event/2nd-floor-reserved-for-b-weekley/
CATEGORIES:Facility Rental
END:VEVENT
BEGIN:VEVENT
DTSTART;TZID=America/New_York:20221015T150000
DTEND;TZID=America/New_York:20221015T220000
DTSTAMP:20260424T014024
CREATED:20220829T141353Z
LAST-MODIFIED:20220829T141353Z
UID:10034820-1665846000-1665871200@thamesyc.org
SUMMARY:2nd floor rented Brian Weekly
DESCRIPTION:
URL:https://thamesyc.org/event/2nd-floor-rented-brian-weekly/
CATEGORIES:Facility Rental
END:VEVENT
BEGIN:VEVENT
DTSTART;TZID=America/New_York:20221013T120000
DTEND;TZID=America/New_York:20221013T170000
DTSTAMP:20260424T014024
CREATED:20220926T203720Z
LAST-MODIFIED:20220926T203720Z
UID:10034830-1665662400-1665680400@thamesyc.org
SUMMARY:TYC Club House Reserved
DESCRIPTION:
URL:https://thamesyc.org/event/tyc-club-house-reserved-2/
CATEGORIES:Facility Rental
END:VEVENT
BEGIN:VEVENT
DTSTART;TZID=America/New_York:20221012T120000
DTEND;TZID=America/New_York:20221012T170000
DTSTAMP:20260424T014024
CREATED:20220926T203636Z
LAST-MODIFIED:20220926T203804Z
UID:10034829-1665576000-1665594000@thamesyc.org
SUMMARY:TYC Club House Reserved
DESCRIPTION:
URL:https://thamesyc.org/event/tyc-club-house-reserved/
CATEGORIES:Facility Rental
END:VEVENT
BEGIN:VEVENT
DTSTART;TZID=America/New_York:20221001T160000
DTEND;TZID=America/New_York:20221001T220000
DTSTAMP:20260424T014024
CREATED:20220829T141238Z
LAST-MODIFIED:20220829T141238Z
UID:10034819-1664640000-1664661600@thamesyc.org
SUMMARY:2nd floor rented Sophia Gipstein
DESCRIPTION:
URL:https://thamesyc.org/event/2nd-floor-rented-sophia-gipstein/
CATEGORIES:Facility Rental
END:VEVENT
BEGIN:VEVENT
DTSTART;TZID=America/New_York:20220924T100000
DTEND;TZID=America/New_York:20220924T200000
DTSTAMP:20260424T014024
CREATED:20220829T141035Z
LAST-MODIFIED:20220829T141035Z
UID:10034818-1664013600-1664049600@thamesyc.org
SUMMARY:1st and 2nd floor rented Chris Cooper\, Nancy Perry
DESCRIPTION:
URL:https://thamesyc.org/event/1st-and-2nd-floor-rented-chris-cooper-nancy-perry/
CATEGORIES:Facility Rental
END:VEVENT
BEGIN:VEVENT
DTSTART;TZID=America/New_York:20220924T100000
DTEND;TZID=America/New_York:20220924T200000
DTSTAMP:20260424T014024
CREATED:20220322T143241Z
LAST-MODIFIED:20220322T143241Z
UID:10034385-1664013600-1664049600@thamesyc.org
SUMMARY:1st and 2nd Floor Reserved for Chris Cooper and Nancy Perry
DESCRIPTION:
URL:https://thamesyc.org/event/1st-and-2nd-floor-reserved-for-chris-cooper-and-nancy-perry/
CATEGORIES:Facility Rental
END:VEVENT
BEGIN:VEVENT
DTSTART;TZID=America/New_York:20220910T100000
DTEND;TZID=America/New_York:20220910T170000
DTSTAMP:20260424T014024
CREATED:20220829T140752Z
LAST-MODIFIED:20220907T005427Z
UID:10034815-1662804000-1662829200@thamesyc.org
SUMMARY:2nd Floor Rented Ed Nevi
DESCRIPTION:
URL:https://thamesyc.org/event/nd-floor-rented-ed-nevi/
CATEGORIES:Facility Rental
END:VEVENT
BEGIN:VEVENT
DTSTART;TZID=America/New_York:20220723T120000
DTEND;TZID=America/New_York:20220723T170000
DTSTAMP:20260424T014024
CREATED:20220616T125852Z
LAST-MODIFIED:20220616T125852Z
UID:10034786-1658577600-1658595600@thamesyc.org
SUMMARY:First Floor of Club House Rented to A. Johnson
DESCRIPTION:
URL:https://thamesyc.org/event/first-floor-of-club-house-rented-to-a-johnson/
CATEGORIES:Facility Rental
END:VEVENT
BEGIN:VEVENT
DTSTART;TZID=America/New_York:20220721T080000
DTEND;TZID=America/New_York:20220721T170000
DTSTAMP:20260424T014024
CREATED:20220322T142641Z
LAST-MODIFIED:20220322T142641Z
UID:10034381-1658390400-1658422800@thamesyc.org
SUMMARY:Tentative 1st and 2nd Floor Rental
DESCRIPTION:
URL:https://thamesyc.org/event/tentative-1st-and-2nd-floor-rental/
CATEGORIES:Facility Rental
END:VEVENT
BEGIN:VEVENT
DTSTART;TZID=America/New_York:20220709T090000
DTEND;TZID=America/New_York:20220709T140000
DTSTAMP:20260424T014024
CREATED:20220322T142508Z
LAST-MODIFIED:20220322T142508Z
UID:10034377-1657357200-1657375200@thamesyc.org
SUMMARY:2nd Floor Reserved for Amy Perry
DESCRIPTION:
URL:https://thamesyc.org/event/2nd-floor-reserved-for-amy-perry/
CATEGORIES:Facility Rental
END:VEVENT
BEGIN:VEVENT
DTSTART;TZID=America/New_York:20220626T100000
DTEND;TZID=America/New_York:20220626T150000
DTSTAMP:20260424T014024
CREATED:20220322T142122Z
LAST-MODIFIED:20220322T142122Z
UID:10034375-1656237600-1656255600@thamesyc.org
SUMMARY:2nd Floor reserved for Myra Gipstein
DESCRIPTION:
URL:https://thamesyc.org/event/2nd-floor-reserved-for-myra-gipstein/
CATEGORIES:Facility Rental
END:VEVENT
BEGIN:VEVENT
DTSTART;TZID=America/New_York:20220618T170000
DTEND;TZID=America/New_York:20220618T220000
DTSTAMP:20260424T014024
CREATED:20220322T141935Z
LAST-MODIFIED:20220322T141935Z
UID:10034783-1655571600-1655589600@thamesyc.org
SUMMARY:1st and 2nd Floor reserved for Corrine Sawyer
DESCRIPTION:
URL:https://thamesyc.org/event/1st-and-2nd-floor-reserved-for-corrine-sawyer/
CATEGORIES:Facility Rental
END:VEVENT
BEGIN:VEVENT
DTSTART;TZID=America/New_York:20220612T110000
DTEND;TZID=America/New_York:20220612T170000
DTSTAMP:20260424T014024
CREATED:20220322T141736Z
LAST-MODIFIED:20220322T141736Z
UID:10034782-1655031600-1655053200@thamesyc.org
SUMMARY:2nd Floor Reserved for Nancy Edwards
DESCRIPTION:
URL:https://thamesyc.org/event/2nd-floor-reserved-for-nancy-edwards/
CATEGORIES:Facility Rental
END:VEVENT
BEGIN:VEVENT
DTSTART;TZID=America/New_York:20220525T170000
DTEND;TZID=America/New_York:20220525T200000
DTSTAMP:20260424T014024
CREATED:20220420T153154Z
LAST-MODIFIED:20220420T153154Z
UID:10034389-1653498000-1653508800@thamesyc.org
SUMMARY:EB Open House Night
DESCRIPTION:
URL:https://thamesyc.org/event/eb-open-house-night/
CATEGORIES:Facility Rental
END:VEVENT
BEGIN:VEVENT
DTSTART;TZID=America/New_York:20220515T130000
DTEND;TZID=America/New_York:20220515T220000
DTSTAMP:20260424T014024
CREATED:20220322T135634Z
LAST-MODIFIED:20220322T135634Z
UID:10034781-1652619600-1652652000@thamesyc.org
SUMMARY:1st Floor Reserved for Roy Adamson
DESCRIPTION:
URL:https://thamesyc.org/event/1st-floor-reserved-for-roy-adamson/
CATEGORIES:Facility Rental
END:VEVENT
BEGIN:VEVENT
DTSTART;TZID=America/New_York:20220514T120000
DTEND;TZID=America/New_York:20220514T180000
DTSTAMP:20260424T014024
CREATED:20220420T153503Z
LAST-MODIFIED:20220425T150141Z
UID:10034392-1652529600-1652551200@thamesyc.org
SUMMARY:2nd Floor of Club Reserved for Greg Wagman
DESCRIPTION:
URL:https://thamesyc.org/event/club-reserved-for-greg-wagman-pending/
CATEGORIES:Facility Rental
END:VEVENT
BEGIN:VEVENT
DTSTART;TZID=America/New_York:20201003T080000
DTEND;TZID=America/New_York:20201003T170000
DTSTAMP:20260424T014024
CREATED:20200308T152153Z
LAST-MODIFIED:20200308T152153Z
UID:10034110-1601712000-1601744400@thamesyc.org
SUMMARY:MacDonald; Club Rental
DESCRIPTION:
URL:https://thamesyc.org/event/macdonald-club-rental/
CATEGORIES:Facility Rental
END:VEVENT
BEGIN:VEVENT
DTSTART;VALUE=DATE:20191019
DTEND;VALUE=DATE:20191020
DTSTAMP:20260424T014024
CREATED:20190806T120134Z
LAST-MODIFIED:20190806T120134Z
UID:10034364-1571443200-1571529599@thamesyc.org
SUMMARY:Cicchese Event
DESCRIPTION:Rental of 2nd floor and galley
URL:https://thamesyc.org/event/cicchese-event/
LOCATION:Thames Yacht Club\, 396 Pequot Avenue\, New London\, CT\, 06320\, United States
CATEGORIES:Facility Rental
GEO:41.3308391;-72.0946565
X-APPLE-STRUCTURED-LOCATION;VALUE=URI;X-ADDRESS=Thames Yacht Club 396 Pequot Avenue New London CT 06320 United States;X-APPLE-RADIUS=500;X-TITLE=396 Pequot Avenue:geo:-72.0946565,41.3308391
END:VEVENT
BEGIN:VEVENT
DTSTART;VALUE=DATE:20190914
DTEND;VALUE=DATE:20190915
DTSTAMP:20260424T014024
CREATED:20190729T110801Z
LAST-MODIFIED:20190729T110801Z
UID:10034361-1568419200-1568505599@thamesyc.org
SUMMARY:Club Rental - Wedding
DESCRIPTION:Katrina Markley event…  First and Second floor
URL:https://thamesyc.org/event/club-rental-wedding/
LOCATION:Thames Yacht Club\, 396 Pequot Avenue\, New London\, CT\, 06320\, United States
CATEGORIES:Facility Rental
GEO:41.3308391;-72.0946565
X-APPLE-STRUCTURED-LOCATION;VALUE=URI;X-ADDRESS=Thames Yacht Club 396 Pequot Avenue New London CT 06320 United States;X-APPLE-RADIUS=500;X-TITLE=396 Pequot Avenue:geo:-72.0946565,41.3308391
END:VEVENT
BEGIN:VEVENT
DTSTART;TZID=America/New_York:20190727T170000
DTEND;TZID=America/New_York:20190727T213000
DTSTAMP:20260424T014024
CREATED:20190729T111014Z
LAST-MODIFIED:20190729T111014Z
UID:10034362-1564246800-1564263000@thamesyc.org
SUMMARY:Sullivan/Samul event
DESCRIPTION:07/27 for Sullivan/Samul    first floor only  from 5-9:30pm
URL:https://thamesyc.org/event/sullivan-samul-event/
LOCATION:Thames Yacht Club\, 396 Pequot Avenue\, New London\, CT\, 06320\, United States
CATEGORIES:Facility Rental
GEO:41.3308391;-72.0946565
X-APPLE-STRUCTURED-LOCATION;VALUE=URI;X-ADDRESS=Thames Yacht Club 396 Pequot Avenue New London CT 06320 United States;X-APPLE-RADIUS=500;X-TITLE=396 Pequot Avenue:geo:-72.0946565,41.3308391
END:VEVENT
BEGIN:VEVENT
DTSTART;TZID=America/New_York:20171202T150000
DTEND;TZID=America/New_York:20171202T210000
DTSTAMP:20260424T014024
CREATED:20171106T235934Z
LAST-MODIFIED:20171106T235934Z
UID:10033812-1512226800-1512248400@thamesyc.org
SUMMARY:1st Floor Rental - DeMaio
DESCRIPTION:
URL:https://thamesyc.org/event/1st-floor-rental-demaio/
CATEGORIES:Facility Rental
END:VEVENT
END:VCALENDAR