BEGIN:VCALENDAR
VERSION:2.0
PRODID:-//Thames Yacht Club - ECPv6.15.17//NONSGML v1.0//EN
CALSCALE:GREGORIAN
METHOD:PUBLISH
X-ORIGINAL-URL:https://thamesyc.org
X-WR-CALDESC:Events for Thames Yacht Club
REFRESH-INTERVAL;VALUE=DURATION:PT1H
X-Robots-Tag:noindex
X-PUBLISHED-TTL:PT1H
BEGIN:VTIMEZONE
TZID:America/New_York
BEGIN:DAYLIGHT
TZOFFSETFROM:-0500
TZOFFSETTO:-0400
TZNAME:EDT
DTSTART:20240310T070000
END:DAYLIGHT
BEGIN:STANDARD
TZOFFSETFROM:-0400
TZOFFSETTO:-0500
TZNAME:EST
DTSTART:20241103T060000
END:STANDARD
BEGIN:DAYLIGHT
TZOFFSETFROM:-0500
TZOFFSETTO:-0400
TZNAME:EDT
DTSTART:20250309T070000
END:DAYLIGHT
BEGIN:STANDARD
TZOFFSETFROM:-0400
TZOFFSETTO:-0500
TZNAME:EST
DTSTART:20251102T060000
END:STANDARD
BEGIN:DAYLIGHT
TZOFFSETFROM:-0500
TZOFFSETTO:-0400
TZNAME:EDT
DTSTART:20260308T070000
END:DAYLIGHT
BEGIN:STANDARD
TZOFFSETFROM:-0400
TZOFFSETTO:-0500
TZNAME:EST
DTSTART:20261101T060000
END:STANDARD
END:VTIMEZONE
BEGIN:VEVENT
DTSTART;VALUE=DATE:20250808
DTEND;VALUE=DATE:20250811
DTSTAMP:20260424T073037
CREATED:20250127T020101Z
LAST-MODIFIED:20250127T020101Z
UID:10039236-1754611200-1754870399@thamesyc.org
SUMMARY:MEMBERS WEEKEND
DESCRIPTION:
URL:https://thamesyc.org/event/members-weekend-7/
CATEGORIES:Club Wide Event,Party
END:VEVENT
BEGIN:VEVENT
DTSTART;TZID=America/New_York:20250808T210000
DTEND;TZID=America/New_York:20250808T230000
DTSTAMP:20260424T073037
CREATED:20250715T135941Z
LAST-MODIFIED:20250729T163025Z
UID:10039399-1754686800-1754694000@thamesyc.org
SUMMARY:Movie Night on the Beach
DESCRIPTION:
URL:https://thamesyc.org/event/movie-night-on-the-beach-3/2025-08-08/
CATEGORIES:Club Wide Event
END:VEVENT
BEGIN:VEVENT
DTSTART;VALUE=DATE:20250809
DTEND;VALUE=DATE:20250810
DTSTAMP:20260424T073037
CREATED:20250127T223153Z
LAST-MODIFIED:20250127T223153Z
UID:10039288-1754697600-1754783999@thamesyc.org
SUMMARY:OSCAR KERMAN FUN RACE SERIES - TWO RACES ON SAME DAY
DESCRIPTION:
URL:https://thamesyc.org/event/oscar-kerman-fun-race-series-two-races-on-same-day/
CATEGORIES:Club Wide Event,Party,Racing
END:VEVENT
END:VCALENDAR