BEGIN:VCALENDAR
VERSION:2.0
PRODID:-//Thames Yacht Club - ECPv6.15.17//NONSGML v1.0//EN
CALSCALE:GREGORIAN
METHOD:PUBLISH
X-ORIGINAL-URL:https://thamesyc.org
X-WR-CALDESC:Events for Thames Yacht Club
REFRESH-INTERVAL;VALUE=DURATION:PT1H
X-Robots-Tag:noindex
X-PUBLISHED-TTL:PT1H
BEGIN:VTIMEZONE
TZID:America/New_York
BEGIN:DAYLIGHT
TZOFFSETFROM:-0500
TZOFFSETTO:-0400
TZNAME:EDT
DTSTART:20200308T070000
END:DAYLIGHT
BEGIN:STANDARD
TZOFFSETFROM:-0400
TZOFFSETTO:-0500
TZNAME:EST
DTSTART:20201101T060000
END:STANDARD
BEGIN:DAYLIGHT
TZOFFSETFROM:-0500
TZOFFSETTO:-0400
TZNAME:EDT
DTSTART:20210314T070000
END:DAYLIGHT
BEGIN:STANDARD
TZOFFSETFROM:-0400
TZOFFSETTO:-0500
TZNAME:EST
DTSTART:20211107T060000
END:STANDARD
BEGIN:DAYLIGHT
TZOFFSETFROM:-0500
TZOFFSETTO:-0400
TZNAME:EDT
DTSTART:20220313T070000
END:DAYLIGHT
BEGIN:STANDARD
TZOFFSETFROM:-0400
TZOFFSETTO:-0500
TZNAME:EST
DTSTART:20221106T060000
END:STANDARD
BEGIN:DAYLIGHT
TZOFFSETFROM:-0500
TZOFFSETTO:-0400
TZNAME:EDT
DTSTART:20230312T070000
END:DAYLIGHT
BEGIN:STANDARD
TZOFFSETFROM:-0400
TZOFFSETTO:-0500
TZNAME:EST
DTSTART:20231105T060000
END:STANDARD
END:VTIMEZONE
BEGIN:VEVENT
DTSTART;TZID=America/New_York:20220812T200000
DTEND;TZID=America/New_York:20220812T223000
DTSTAMP:20260424T013434
CREATED:20220716T050917Z
LAST-MODIFIED:20220902T141614Z
UID:10034804-1660334400-1660343400@thamesyc.org
SUMMARY:Movie Night at the Beach
DESCRIPTION:
URL:https://thamesyc.org/event/movie-night-at-the-beach-2/2022-08-12/
LOCATION:Thames Yacht Club\, 396 Pequot Avenue\, New London\, CT\, 06320\, United States
CATEGORIES:Club Wide Event,Sub Committee Mtg
GEO:41.3308391;-72.0946565
X-APPLE-STRUCTURED-LOCATION;VALUE=URI;X-ADDRESS=Thames Yacht Club 396 Pequot Avenue New London CT 06320 United States;X-APPLE-RADIUS=500;X-TITLE=396 Pequot Avenue:geo:-72.0946565,41.3308391
END:VEVENT
BEGIN:VEVENT
DTSTART;TZID=America/New_York:20220805T200000
DTEND;TZID=America/New_York:20220805T223000
DTSTAMP:20260424T013434
CREATED:20220716T050917Z
LAST-MODIFIED:20220902T141614Z
UID:10034803-1659729600-1659738600@thamesyc.org
SUMMARY:Movie Night at the Beach
DESCRIPTION:
URL:https://thamesyc.org/event/movie-night-at-the-beach-2/2022-08-05/
LOCATION:Thames Yacht Club\, 396 Pequot Avenue\, New London\, CT\, 06320\, United States
CATEGORIES:Club Wide Event,Sub Committee Mtg
GEO:41.3308391;-72.0946565
X-APPLE-STRUCTURED-LOCATION;VALUE=URI;X-ADDRESS=Thames Yacht Club 396 Pequot Avenue New London CT 06320 United States;X-APPLE-RADIUS=500;X-TITLE=396 Pequot Avenue:geo:-72.0946565,41.3308391
END:VEVENT
BEGIN:VEVENT
DTSTART;TZID=America/New_York:20220729T200000
DTEND;TZID=America/New_York:20220729T223000
DTSTAMP:20260424T013434
CREATED:20220716T050917Z
LAST-MODIFIED:20220902T141614Z
UID:10034802-1659124800-1659133800@thamesyc.org
SUMMARY:Movie Night at the Beach
DESCRIPTION:
URL:https://thamesyc.org/event/movie-night-at-the-beach-2/2022-07-29/
LOCATION:Thames Yacht Club\, 396 Pequot Avenue\, New London\, CT\, 06320\, United States
CATEGORIES:Club Wide Event,Sub Committee Mtg
GEO:41.3308391;-72.0946565
X-APPLE-STRUCTURED-LOCATION;VALUE=URI;X-ADDRESS=Thames Yacht Club 396 Pequot Avenue New London CT 06320 United States;X-APPLE-RADIUS=500;X-TITLE=396 Pequot Avenue:geo:-72.0946565,41.3308391
END:VEVENT
BEGIN:VEVENT
DTSTART;TZID=America/New_York:20220724T120000
DTEND;TZID=America/New_York:20220724T170000
DTSTAMP:20260424T013434
CREATED:20220105T152246Z
LAST-MODIFIED:20220105T152246Z
UID:10034647-1658664000-1658682000@thamesyc.org
SUMMARY:General Membership Meeting
DESCRIPTION:
URL:https://thamesyc.org/event/general-membership-meeting-13/
CATEGORIES:Club Wide Event
END:VEVENT
BEGIN:VEVENT
DTSTART;TZID=America/New_York:20220722T200000
DTEND;TZID=America/New_York:20220722T223000
DTSTAMP:20260424T013434
CREATED:20220716T050917Z
LAST-MODIFIED:20220902T141614Z
UID:10034801-1658520000-1658529000@thamesyc.org
SUMMARY:Movie Night at the Beach
DESCRIPTION:
URL:https://thamesyc.org/event/movie-night-at-the-beach-2/2022-07-22/
LOCATION:Thames Yacht Club\, 396 Pequot Avenue\, New London\, CT\, 06320\, United States
CATEGORIES:Club Wide Event,Sub Committee Mtg
GEO:41.3308391;-72.0946565
X-APPLE-STRUCTURED-LOCATION;VALUE=URI;X-ADDRESS=Thames Yacht Club 396 Pequot Avenue New London CT 06320 United States;X-APPLE-RADIUS=500;X-TITLE=396 Pequot Avenue:geo:-72.0946565,41.3308391
END:VEVENT
BEGIN:VEVENT
DTSTART;TZID=America/New_York:20220713T170000
DTEND;TZID=America/New_York:20220713T203000
DTSTAMP:20260424T013434
CREATED:20220105T150953Z
LAST-MODIFIED:20220105T150953Z
UID:10034628-1657731600-1657744200@thamesyc.org
SUMMARY:Hospice Race
DESCRIPTION:
URL:https://thamesyc.org/event/hospice-race/
CATEGORIES:Club Wide Event,Racing
END:VEVENT
BEGIN:VEVENT
DTSTART;TZID=America/New_York:20220709T190000
DTEND;TZID=America/New_York:20220709T220000
DTSTAMP:20260424T013434
CREATED:20220105T150130Z
LAST-MODIFIED:20220105T150130Z
UID:10034613-1657393200-1657404000@thamesyc.org
SUMMARY:Sailfest Fireworks
DESCRIPTION:
URL:https://thamesyc.org/event/sailfest-fireworks-3/
CATEGORIES:Club Wide Event
END:VEVENT
BEGIN:VEVENT
DTSTART;TZID=America/New_York:20220708T080000
DTEND;TZID=America/New_York:20220710T170000
DTSTAMP:20260424T013434
CREATED:20220105T150029Z
LAST-MODIFIED:20220105T150029Z
UID:10034612-1657267200-1657472400@thamesyc.org
SUMMARY:Sailfest Weekend (Tentative)
DESCRIPTION:
URL:https://thamesyc.org/event/sailfest-weekend-tentative/
CATEGORIES:Club Wide Event
END:VEVENT
BEGIN:VEVENT
DTSTART;TZID=America/New_York:20220701T080000
DTEND;TZID=America/New_York:20220701T170000
DTSTAMP:20260424T013434
CREATED:20220105T145542Z
LAST-MODIFIED:20220105T145542Z
UID:10034333-1656662400-1656694800@thamesyc.org
SUMMARY:Mooring Application Submission Deadline
DESCRIPTION:
URL:https://thamesyc.org/event/mooring-application-submission-deadline/
CATEGORIES:Club Wide Event
END:VEVENT
BEGIN:VEVENT
DTSTART;TZID=America/New_York:20220424T120000
DTEND;TZID=America/New_York:20220424T170000
DTSTAMP:20260424T013434
CREATED:20220105T152159Z
LAST-MODIFIED:20220105T152159Z
UID:10034646-1650801600-1650819600@thamesyc.org
SUMMARY:General Membership Meeting
DESCRIPTION:
URL:https://thamesyc.org/event/general-membership-meeting-12/
CATEGORIES:Club Wide Event
END:VEVENT
BEGIN:VEVENT
DTSTART;TZID=America/New_York:20220423T080000
DTEND;TZID=America/New_York:20220423T170000
DTSTAMP:20260424T013434
CREATED:20220105T144400Z
LAST-MODIFIED:20220105T144400Z
UID:10034315-1650700800-1650733200@thamesyc.org
SUMMARY:Spring Cleanup Day
DESCRIPTION:
URL:https://thamesyc.org/event/spring-cleanup-day-3/
CATEGORIES:Club Wide Event,Work Party Event
END:VEVENT
BEGIN:VEVENT
DTSTART;TZID=America/New_York:20211121T170000
DTEND;TZID=America/New_York:20211121T200000
DTSTAMP:20260424T013434
CREATED:20210411T204911Z
LAST-MODIFIED:20210411T204911Z
UID:10034244-1637514000-1637524800@thamesyc.org
SUMMARY:General Membership Meeting; Elections and Budget
DESCRIPTION:
URL:https://thamesyc.org/event/general-membership-meeting-elections-and-budget/
CATEGORIES:Club Wide Event
END:VEVENT
BEGIN:VEVENT
DTSTART;TZID=America/New_York:20211030T090000
DTEND;TZID=America/New_York:20211030T170000
DTSTAMP:20260424T013434
CREATED:20210411T204528Z
LAST-MODIFIED:20210411T204528Z
UID:10034238-1635584400-1635613200@thamesyc.org
SUMMARY:Fall Clean Up (Tentative)
DESCRIPTION:
URL:https://thamesyc.org/event/fall-clean-up-tentative/
CATEGORIES:Club Wide Event,Work Party Event
END:VEVENT
BEGIN:VEVENT
DTSTART;TZID=America/New_York:20210917T200000
DTEND;TZID=America/New_York:20210917T220000
DTSTAMP:20260424T013434
CREATED:20210707T044220Z
LAST-MODIFIED:20210707T204422Z
UID:10034584-1631908800-1631916000@thamesyc.org
SUMMARY:Movie Night on the Beach
DESCRIPTION:Click here for your copy!
URL:https://thamesyc.org/event/movie-night-on-the-beach/2021-09-17/
LOCATION:Thames Yacht Club\, 396 Pequot Avenue\, New London\, CT\, 06320\, United States
CATEGORIES:Club Wide Event
GEO:41.3308391;-72.0946565
X-APPLE-STRUCTURED-LOCATION;VALUE=URI;X-ADDRESS=Thames Yacht Club 396 Pequot Avenue New London CT 06320 United States;X-APPLE-RADIUS=500;X-TITLE=396 Pequot Avenue:geo:-72.0946565,41.3308391
END:VEVENT
BEGIN:VEVENT
DTSTART;TZID=America/New_York:20210910T200000
DTEND;TZID=America/New_York:20210910T220000
DTSTAMP:20260424T013434
CREATED:20210707T044220Z
LAST-MODIFIED:20210707T204422Z
UID:10034583-1631304000-1631311200@thamesyc.org
SUMMARY:Movie Night on the Beach
DESCRIPTION:Click here for your copy!
URL:https://thamesyc.org/event/movie-night-on-the-beach/2021-09-10/
LOCATION:Thames Yacht Club\, 396 Pequot Avenue\, New London\, CT\, 06320\, United States
CATEGORIES:Club Wide Event
GEO:41.3308391;-72.0946565
X-APPLE-STRUCTURED-LOCATION;VALUE=URI;X-ADDRESS=Thames Yacht Club 396 Pequot Avenue New London CT 06320 United States;X-APPLE-RADIUS=500;X-TITLE=396 Pequot Avenue:geo:-72.0946565,41.3308391
END:VEVENT
BEGIN:VEVENT
DTSTART;TZID=America/New_York:20210903T200000
DTEND;TZID=America/New_York:20210903T220000
DTSTAMP:20260424T013434
CREATED:20210707T044220Z
LAST-MODIFIED:20210707T204422Z
UID:10034582-1630699200-1630706400@thamesyc.org
SUMMARY:Movie Night on the Beach
DESCRIPTION:Click here for your copy!
URL:https://thamesyc.org/event/movie-night-on-the-beach/2021-09-03/
LOCATION:Thames Yacht Club\, 396 Pequot Avenue\, New London\, CT\, 06320\, United States
CATEGORIES:Club Wide Event
GEO:41.3308391;-72.0946565
X-APPLE-STRUCTURED-LOCATION;VALUE=URI;X-ADDRESS=Thames Yacht Club 396 Pequot Avenue New London CT 06320 United States;X-APPLE-RADIUS=500;X-TITLE=396 Pequot Avenue:geo:-72.0946565,41.3308391
END:VEVENT
BEGIN:VEVENT
DTSTART;TZID=America/New_York:20210827T200000
DTEND;TZID=America/New_York:20210827T220000
DTSTAMP:20260424T013434
CREATED:20210707T044220Z
LAST-MODIFIED:20210707T204422Z
UID:10034581-1630094400-1630101600@thamesyc.org
SUMMARY:Movie Night on the Beach
DESCRIPTION:Click here for your copy!
URL:https://thamesyc.org/event/movie-night-on-the-beach/2021-08-27/
LOCATION:Thames Yacht Club\, 396 Pequot Avenue\, New London\, CT\, 06320\, United States
CATEGORIES:Club Wide Event
GEO:41.3308391;-72.0946565
X-APPLE-STRUCTURED-LOCATION;VALUE=URI;X-ADDRESS=Thames Yacht Club 396 Pequot Avenue New London CT 06320 United States;X-APPLE-RADIUS=500;X-TITLE=396 Pequot Avenue:geo:-72.0946565,41.3308391
END:VEVENT
BEGIN:VEVENT
DTSTART;TZID=America/New_York:20210820T200000
DTEND;TZID=America/New_York:20210820T220000
DTSTAMP:20260424T013434
CREATED:20210707T044220Z
LAST-MODIFIED:20210707T204422Z
UID:10034580-1629489600-1629496800@thamesyc.org
SUMMARY:Movie Night on the Beach
DESCRIPTION:Click here for your copy!
URL:https://thamesyc.org/event/movie-night-on-the-beach/2021-08-20/
LOCATION:Thames Yacht Club\, 396 Pequot Avenue\, New London\, CT\, 06320\, United States
CATEGORIES:Club Wide Event
GEO:41.3308391;-72.0946565
X-APPLE-STRUCTURED-LOCATION;VALUE=URI;X-ADDRESS=Thames Yacht Club 396 Pequot Avenue New London CT 06320 United States;X-APPLE-RADIUS=500;X-TITLE=396 Pequot Avenue:geo:-72.0946565,41.3308391
END:VEVENT
BEGIN:VEVENT
DTSTART;VALUE=DATE:20210814
DTEND;VALUE=DATE:20210816
DTSTAMP:20260424T013434
CREATED:20210411T203934Z
LAST-MODIFIED:20210411T203934Z
UID:10034232-1628899200-1629071999@thamesyc.org
SUMMARY:Members Weekend
DESCRIPTION:
URL:https://thamesyc.org/event/members-weekend-3/
CATEGORIES:Club Wide Event
END:VEVENT
BEGIN:VEVENT
DTSTART;TZID=America/New_York:20210813T200000
DTEND;TZID=America/New_York:20210813T220000
DTSTAMP:20260424T013434
CREATED:20210707T044220Z
LAST-MODIFIED:20210707T204422Z
UID:10034579-1628884800-1628892000@thamesyc.org
SUMMARY:Movie Night on the Beach
DESCRIPTION:Click here for your copy!
URL:https://thamesyc.org/event/movie-night-on-the-beach/2021-08-13/
LOCATION:Thames Yacht Club\, 396 Pequot Avenue\, New London\, CT\, 06320\, United States
CATEGORIES:Club Wide Event
GEO:41.3308391;-72.0946565
X-APPLE-STRUCTURED-LOCATION;VALUE=URI;X-ADDRESS=Thames Yacht Club 396 Pequot Avenue New London CT 06320 United States;X-APPLE-RADIUS=500;X-TITLE=396 Pequot Avenue:geo:-72.0946565,41.3308391
END:VEVENT
BEGIN:VEVENT
DTSTART;TZID=America/New_York:20210806T200000
DTEND;TZID=America/New_York:20210806T220000
DTSTAMP:20260424T013434
CREATED:20210707T044220Z
LAST-MODIFIED:20210707T204422Z
UID:10034578-1628280000-1628287200@thamesyc.org
SUMMARY:Movie Night on the Beach
DESCRIPTION:Click here for your copy!
URL:https://thamesyc.org/event/movie-night-on-the-beach/2021-08-06/
LOCATION:Thames Yacht Club\, 396 Pequot Avenue\, New London\, CT\, 06320\, United States
CATEGORIES:Club Wide Event
GEO:41.3308391;-72.0946565
X-APPLE-STRUCTURED-LOCATION;VALUE=URI;X-ADDRESS=Thames Yacht Club 396 Pequot Avenue New London CT 06320 United States;X-APPLE-RADIUS=500;X-TITLE=396 Pequot Avenue:geo:-72.0946565,41.3308391
END:VEVENT
BEGIN:VEVENT
DTSTART;TZID=America/New_York:20210730T200000
DTEND;TZID=America/New_York:20210730T220000
DTSTAMP:20260424T013434
CREATED:20210707T044220Z
LAST-MODIFIED:20210707T204422Z
UID:10034577-1627675200-1627682400@thamesyc.org
SUMMARY:Movie Night on the Beach
DESCRIPTION:Click here for your copy!
URL:https://thamesyc.org/event/movie-night-on-the-beach/2021-07-30/
LOCATION:Thames Yacht Club\, 396 Pequot Avenue\, New London\, CT\, 06320\, United States
CATEGORIES:Club Wide Event
GEO:41.3308391;-72.0946565
X-APPLE-STRUCTURED-LOCATION;VALUE=URI;X-ADDRESS=Thames Yacht Club 396 Pequot Avenue New London CT 06320 United States;X-APPLE-RADIUS=500;X-TITLE=396 Pequot Avenue:geo:-72.0946565,41.3308391
END:VEVENT
BEGIN:VEVENT
DTSTART;TZID=America/New_York:20210725T160000
DTEND;TZID=America/New_York:20210725T180000
DTSTAMP:20260424T013434
CREATED:20210411T204753Z
LAST-MODIFIED:20210411T204753Z
UID:10034242-1627228800-1627236000@thamesyc.org
SUMMARY:General Membership Meeting
DESCRIPTION:
URL:https://thamesyc.org/event/general-membership-meeting-11/
CATEGORIES:Club Wide Event
END:VEVENT
BEGIN:VEVENT
DTSTART;TZID=America/New_York:20210723T200000
DTEND;TZID=America/New_York:20210723T220000
DTSTAMP:20260424T013434
CREATED:20210707T044220Z
LAST-MODIFIED:20210707T204422Z
UID:10034576-1627070400-1627077600@thamesyc.org
SUMMARY:Movie Night on the Beach
DESCRIPTION:Click here for your copy!
URL:https://thamesyc.org/event/movie-night-on-the-beach/2021-07-23/
LOCATION:Thames Yacht Club\, 396 Pequot Avenue\, New London\, CT\, 06320\, United States
CATEGORIES:Club Wide Event
GEO:41.3308391;-72.0946565
X-APPLE-STRUCTURED-LOCATION;VALUE=URI;X-ADDRESS=Thames Yacht Club 396 Pequot Avenue New London CT 06320 United States;X-APPLE-RADIUS=500;X-TITLE=396 Pequot Avenue:geo:-72.0946565,41.3308391
END:VEVENT
BEGIN:VEVENT
DTSTART;TZID=America/New_York:20210716T200000
DTEND;TZID=America/New_York:20210716T220000
DTSTAMP:20260424T013434
CREATED:20210707T044220Z
LAST-MODIFIED:20210707T204422Z
UID:10034575-1626465600-1626472800@thamesyc.org
SUMMARY:Movie Night on the Beach
DESCRIPTION:Click here for your copy!
URL:https://thamesyc.org/event/movie-night-on-the-beach/2021-07-16/
LOCATION:Thames Yacht Club\, 396 Pequot Avenue\, New London\, CT\, 06320\, United States
CATEGORIES:Club Wide Event
GEO:41.3308391;-72.0946565
X-APPLE-STRUCTURED-LOCATION;VALUE=URI;X-ADDRESS=Thames Yacht Club 396 Pequot Avenue New London CT 06320 United States;X-APPLE-RADIUS=500;X-TITLE=396 Pequot Avenue:geo:-72.0946565,41.3308391
END:VEVENT
BEGIN:VEVENT
DTSTART;VALUE=DATE:20210522
DTEND;VALUE=DATE:20210523
DTSTAMP:20260424T013434
CREATED:20210411T201118Z
LAST-MODIFIED:20210411T201118Z
UID:10034521-1621641600-1621727999@thamesyc.org
SUMMARY:Thames Yacht Club\, 2021 Commissioning Ceremony
DESCRIPTION:
URL:https://thamesyc.org/event/thames-yacht-club-2021-commissioning-ceremony/
CATEGORIES:Club Wide Event
END:VEVENT
BEGIN:VEVENT
DTSTART;TZID=America/New_York:20210508T110000
DTEND;TZID=America/New_York:20210508T140000
DTSTAMP:20260424T013434
CREATED:20210505T171906Z
LAST-MODIFIED:20210505T171906Z
UID:10034555-1620471600-1620482400@thamesyc.org
SUMMARY:Queen Merry Cleanup Day
DESCRIPTION:Bring shovels\, ice scrapers and snow shovels to clean the mussels and growth off the bottom of the Queen Merry.
URL:https://thamesyc.org/event/queen-merry-cleanup-day/
LOCATION:Fort Trumbull Marina\, 93 Trumbull St\, New London\, CT\, 06320\, United States
CATEGORIES:Club Wide Event
END:VEVENT
BEGIN:VEVENT
DTSTART;TZID=America/New_York:20210425T160000
DTEND;TZID=America/New_York:20210425T180000
DTSTAMP:20260424T013434
CREATED:20210411T204647Z
LAST-MODIFIED:20210418T215419Z
UID:10034240-1619366400-1619373600@thamesyc.org
SUMMARY:General Membership Meeting Via Zoom
DESCRIPTION:
URL:https://thamesyc.org/event/general-membership-meeting-10/
CATEGORIES:Club Wide Event
END:VEVENT
BEGIN:VEVENT
DTSTART;TZID=America/New_York:20210424T090000
DTEND;TZID=America/New_York:20210424T170000
DTSTAMP:20260424T013434
CREATED:20210411T200915Z
LAST-MODIFIED:20210411T200915Z
UID:10034520-1619254800-1619283600@thamesyc.org
SUMMARY:TYC Spring Cleanup
DESCRIPTION:
URL:https://thamesyc.org/event/tyc-spring-cleanup/
CATEGORIES:Club Wide Event,Work Party Event
END:VEVENT
BEGIN:VEVENT
DTSTART;VALUE=DATE:20210424
DTEND;VALUE=DATE:20210425
DTSTAMP:20260424T013434
CREATED:20210416T224149Z
LAST-MODIFIED:20210416T224149Z
UID:10034539-1619222400-1619308799@thamesyc.org
SUMMARY:Spring Cleanup
DESCRIPTION:
URL:https://thamesyc.org/event/spring-cleanup-3/
CATEGORIES:Club Wide Event,Work Party Event
END:VEVENT
END:VCALENDAR