BEGIN:VCALENDAR
VERSION:2.0
PRODID:-//Thames Yacht Club - ECPv6.15.17//NONSGML v1.0//EN
CALSCALE:GREGORIAN
METHOD:PUBLISH
X-ORIGINAL-URL:https://thamesyc.org
X-WR-CALDESC:Events for Thames Yacht Club
REFRESH-INTERVAL;VALUE=DURATION:PT1H
X-Robots-Tag:noindex
X-PUBLISHED-TTL:PT1H
BEGIN:VTIMEZONE
TZID:America/New_York
BEGIN:DAYLIGHT
TZOFFSETFROM:-0500
TZOFFSETTO:-0400
TZNAME:EDT
DTSTART:20210314T070000
END:DAYLIGHT
BEGIN:STANDARD
TZOFFSETFROM:-0400
TZOFFSETTO:-0500
TZNAME:EST
DTSTART:20211107T060000
END:STANDARD
BEGIN:DAYLIGHT
TZOFFSETFROM:-0500
TZOFFSETTO:-0400
TZNAME:EDT
DTSTART:20220313T070000
END:DAYLIGHT
BEGIN:STANDARD
TZOFFSETFROM:-0400
TZOFFSETTO:-0500
TZNAME:EST
DTSTART:20221106T060000
END:STANDARD
BEGIN:DAYLIGHT
TZOFFSETFROM:-0500
TZOFFSETTO:-0400
TZNAME:EDT
DTSTART:20230312T070000
END:DAYLIGHT
BEGIN:STANDARD
TZOFFSETFROM:-0400
TZOFFSETTO:-0500
TZNAME:EST
DTSTART:20231105T060000
END:STANDARD
BEGIN:DAYLIGHT
TZOFFSETFROM:-0500
TZOFFSETTO:-0400
TZNAME:EDT
DTSTART:20240310T070000
END:DAYLIGHT
BEGIN:STANDARD
TZOFFSETFROM:-0400
TZOFFSETTO:-0500
TZNAME:EST
DTSTART:20241103T060000
END:STANDARD
END:VTIMEZONE
BEGIN:VEVENT
DTSTART;TZID=America/New_York:20230901T203000
DTEND;TZID=America/New_York:20230901T223000
DTSTAMP:20260423T214855
CREATED:20230711T214452Z
LAST-MODIFIED:20230724T163029Z
UID:10036281-1693600200-1693607400@thamesyc.org
SUMMARY:Movie Night on the Beach!
DESCRIPTION:
URL:https://thamesyc.org/event/movie-night-on-the-beach-2-2/2023-09-01/
LOCATION:Thames Yacht Club\, 396 Pequot Avenue\, New London\, CT\, 06320\, United States
CATEGORIES:Club Wide Event
GEO:41.3308391;-72.0946565
X-APPLE-STRUCTURED-LOCATION;VALUE=URI;X-ADDRESS=Thames Yacht Club 396 Pequot Avenue New London CT 06320 United States;X-APPLE-RADIUS=500;X-TITLE=396 Pequot Avenue:geo:-72.0946565,41.3308391
END:VEVENT
BEGIN:VEVENT
DTSTART;TZID=America/New_York:20230825T203000
DTEND;TZID=America/New_York:20230825T223000
DTSTAMP:20260423T214855
CREATED:20230711T214452Z
LAST-MODIFIED:20230724T163029Z
UID:10036280-1692995400-1693002600@thamesyc.org
SUMMARY:Movie Night on the Beach!
DESCRIPTION:
URL:https://thamesyc.org/event/movie-night-on-the-beach-2-2/2023-08-25/
LOCATION:Thames Yacht Club\, 396 Pequot Avenue\, New London\, CT\, 06320\, United States
CATEGORIES:Club Wide Event
GEO:41.3308391;-72.0946565
X-APPLE-STRUCTURED-LOCATION;VALUE=URI;X-ADDRESS=Thames Yacht Club 396 Pequot Avenue New London CT 06320 United States;X-APPLE-RADIUS=500;X-TITLE=396 Pequot Avenue:geo:-72.0946565,41.3308391
END:VEVENT
BEGIN:VEVENT
DTSTART;TZID=America/New_York:20230818T203000
DTEND;TZID=America/New_York:20230818T223000
DTSTAMP:20260423T214855
CREATED:20230711T214452Z
LAST-MODIFIED:20230724T163029Z
UID:10036279-1692390600-1692397800@thamesyc.org
SUMMARY:Movie Night on the Beach!
DESCRIPTION:
URL:https://thamesyc.org/event/movie-night-on-the-beach-2-2/2023-08-18/
LOCATION:Thames Yacht Club\, 396 Pequot Avenue\, New London\, CT\, 06320\, United States
CATEGORIES:Club Wide Event
GEO:41.3308391;-72.0946565
X-APPLE-STRUCTURED-LOCATION;VALUE=URI;X-ADDRESS=Thames Yacht Club 396 Pequot Avenue New London CT 06320 United States;X-APPLE-RADIUS=500;X-TITLE=396 Pequot Avenue:geo:-72.0946565,41.3308391
END:VEVENT
BEGIN:VEVENT
DTSTART;VALUE=DATE:20230812
DTEND;VALUE=DATE:20230814
DTSTAMP:20260423T214855
CREATED:20230113T215700Z
LAST-MODIFIED:20230113T215700Z
UID:10035335-1691798400-1691971199@thamesyc.org
SUMMARY:Members Weekend
DESCRIPTION:
URL:https://thamesyc.org/event/members-weekend-5/
CATEGORIES:Club Wide Event
END:VEVENT
BEGIN:VEVENT
DTSTART;TZID=America/New_York:20230811T203000
DTEND;TZID=America/New_York:20230811T223000
DTSTAMP:20260423T214855
CREATED:20230711T214452Z
LAST-MODIFIED:20230724T163029Z
UID:10036278-1691785800-1691793000@thamesyc.org
SUMMARY:Movie Night on the Beach!
DESCRIPTION:
URL:https://thamesyc.org/event/movie-night-on-the-beach-2-2/2023-08-11/
LOCATION:Thames Yacht Club\, 396 Pequot Avenue\, New London\, CT\, 06320\, United States
CATEGORIES:Club Wide Event
GEO:41.3308391;-72.0946565
X-APPLE-STRUCTURED-LOCATION;VALUE=URI;X-ADDRESS=Thames Yacht Club 396 Pequot Avenue New London CT 06320 United States;X-APPLE-RADIUS=500;X-TITLE=396 Pequot Avenue:geo:-72.0946565,41.3308391
END:VEVENT
BEGIN:VEVENT
DTSTART;TZID=America/New_York:20230804T203000
DTEND;TZID=America/New_York:20230804T223000
DTSTAMP:20260423T214855
CREATED:20230711T214452Z
LAST-MODIFIED:20230724T163029Z
UID:10036277-1691181000-1691188200@thamesyc.org
SUMMARY:Movie Night on the Beach!
DESCRIPTION:
URL:https://thamesyc.org/event/movie-night-on-the-beach-2-2/2023-08-04/
LOCATION:Thames Yacht Club\, 396 Pequot Avenue\, New London\, CT\, 06320\, United States
CATEGORIES:Club Wide Event
GEO:41.3308391;-72.0946565
X-APPLE-STRUCTURED-LOCATION;VALUE=URI;X-ADDRESS=Thames Yacht Club 396 Pequot Avenue New London CT 06320 United States;X-APPLE-RADIUS=500;X-TITLE=396 Pequot Avenue:geo:-72.0946565,41.3308391
END:VEVENT
BEGIN:VEVENT
DTSTART;TZID=America/New_York:20230728T203000
DTEND;TZID=America/New_York:20230728T223000
DTSTAMP:20260423T214855
CREATED:20230711T214452Z
LAST-MODIFIED:20230724T163029Z
UID:10036276-1690576200-1690583400@thamesyc.org
SUMMARY:Movie Night on the Beach!
DESCRIPTION:
URL:https://thamesyc.org/event/movie-night-on-the-beach-2-2/2023-07-28/
LOCATION:Thames Yacht Club\, 396 Pequot Avenue\, New London\, CT\, 06320\, United States
CATEGORIES:Club Wide Event
GEO:41.3308391;-72.0946565
X-APPLE-STRUCTURED-LOCATION;VALUE=URI;X-ADDRESS=Thames Yacht Club 396 Pequot Avenue New London CT 06320 United States;X-APPLE-RADIUS=500;X-TITLE=396 Pequot Avenue:geo:-72.0946565,41.3308391
END:VEVENT
BEGIN:VEVENT
DTSTART;TZID=America/New_York:20230721T203000
DTEND;TZID=America/New_York:20230721T223000
DTSTAMP:20260423T214855
CREATED:20230711T214452Z
LAST-MODIFIED:20230724T163029Z
UID:10036275-1689971400-1689978600@thamesyc.org
SUMMARY:Movie Night on the Beach!
DESCRIPTION:
URL:https://thamesyc.org/event/movie-night-on-the-beach-2-2/2023-07-21/
LOCATION:Thames Yacht Club\, 396 Pequot Avenue\, New London\, CT\, 06320\, United States
CATEGORIES:Club Wide Event
GEO:41.3308391;-72.0946565
X-APPLE-STRUCTURED-LOCATION;VALUE=URI;X-ADDRESS=Thames Yacht Club 396 Pequot Avenue New London CT 06320 United States;X-APPLE-RADIUS=500;X-TITLE=396 Pequot Avenue:geo:-72.0946565,41.3308391
END:VEVENT
BEGIN:VEVENT
DTSTART;TZID=America/New_York:20230714T203000
DTEND;TZID=America/New_York:20230714T223000
DTSTAMP:20260423T214855
CREATED:20230711T214452Z
LAST-MODIFIED:20230724T163029Z
UID:10036274-1689366600-1689373800@thamesyc.org
SUMMARY:Movie Night on the Beach!
DESCRIPTION:
URL:https://thamesyc.org/event/movie-night-on-the-beach-2-2/2023-07-14/
LOCATION:Thames Yacht Club\, 396 Pequot Avenue\, New London\, CT\, 06320\, United States
CATEGORIES:Club Wide Event
GEO:41.3308391;-72.0946565
X-APPLE-STRUCTURED-LOCATION;VALUE=URI;X-ADDRESS=Thames Yacht Club 396 Pequot Avenue New London CT 06320 United States;X-APPLE-RADIUS=500;X-TITLE=396 Pequot Avenue:geo:-72.0946565,41.3308391
END:VEVENT
BEGIN:VEVENT
DTSTART;TZID=America/New_York:20230708T170000
DTEND;TZID=America/New_York:20230708T223000
DTSTAMP:20260423T214855
CREATED:20230113T214305Z
LAST-MODIFIED:20230113T214305Z
UID:10035305-1688835600-1688855400@thamesyc.org
SUMMARY:Sail Fest Fireworks
DESCRIPTION:
URL:https://thamesyc.org/event/sail-fest-fireworks/
CATEGORIES:Club Wide Event
END:VEVENT
BEGIN:VEVENT
DTSTART;TZID=America/New_York:20230520T160000
DTEND;TZID=America/New_York:20230520T230000
DTSTAMP:20260423T214855
CREATED:20230113T211351Z
LAST-MODIFIED:20230113T211351Z
UID:10034998-1684598400-1684623600@thamesyc.org
SUMMARY:Commissioning Day 2023
DESCRIPTION:
URL:https://thamesyc.org/event/commissioning-day-2023/
CATEGORIES:Club Wide Event,Party
END:VEVENT
BEGIN:VEVENT
DTSTART;TZID=America/New_York:20230506T150000
DTEND;TZID=America/New_York:20230506T220000
DTSTAMP:20260423T214855
CREATED:20230417T113712Z
LAST-MODIFIED:20230417T113712Z
UID:10035389-1683385200-1683410400@thamesyc.org
SUMMARY:Skippers Night
DESCRIPTION:
URL:https://thamesyc.org/event/skippers-night-3/
CATEGORIES:Club Wide Event
END:VEVENT
BEGIN:VEVENT
DTSTART;TZID=America/New_York:20230423T150000
DTEND;TZID=America/New_York:20230423T210000
DTSTAMP:20260423T214855
CREATED:20230417T114015Z
LAST-MODIFIED:20230417T114015Z
UID:10035390-1682262000-1682283600@thamesyc.org
SUMMARY:General Membership Meeting and Potluck
DESCRIPTION:
URL:https://thamesyc.org/event/general-membership-meeting-and-potluck/
CATEGORIES:Club Wide Event
END:VEVENT
BEGIN:VEVENT
DTSTART;TZID=America/New_York:20230422T080000
DTEND;TZID=America/New_York:20230422T170000
DTSTAMP:20260423T214855
CREATED:20230113T211232Z
LAST-MODIFIED:20230113T211232Z
UID:10034997-1682150400-1682182800@thamesyc.org
SUMMARY:Spring Clean Up Day
DESCRIPTION:
URL:https://thamesyc.org/event/spring-clean-up-day/
CATEGORIES:Club Wide Event,Work Party Event
END:VEVENT
BEGIN:VEVENT
DTSTART;TZID=America/New_York:20221210T180000
DTEND;TZID=America/New_York:20221210T230000
DTSTAMP:20260423T214855
CREATED:20221121T170041Z
LAST-MODIFIED:20221121T170041Z
UID:10034825-1670695200-1670713200@thamesyc.org
SUMMARY:TYC Holiday Party
DESCRIPTION:
URL:https://thamesyc.org/event/tyc-holiday-party/
CATEGORIES:Club Wide Event,Party
END:VEVENT
BEGIN:VEVENT
DTSTART;TZID=America/New_York:20221120T140000
DTEND;TZID=America/New_York:20221120T170000
DTSTAMP:20260423T214855
CREATED:20220105T152410Z
LAST-MODIFIED:20221120T004743Z
UID:10034648-1668952800-1668963600@thamesyc.org
SUMMARY:General Membership Meeting (Elections and Budget)
DESCRIPTION:
URL:https://thamesyc.org/event/general-membership-meeting-elections-and-budget-2/
CATEGORIES:Club Wide Event
END:VEVENT
BEGIN:VEVENT
DTSTART;TZID=America/New_York:20221105T080000
DTEND;TZID=America/New_York:20221105T170000
DTSTAMP:20260423T214855
CREATED:20220105T152027Z
LAST-MODIFIED:20220105T152027Z
UID:10034645-1667635200-1667667600@thamesyc.org
SUMMARY:Fall Cleanup day
DESCRIPTION:
URL:https://thamesyc.org/event/fall-cleanup-day-2/
CATEGORIES:Club Wide Event,Work Party Event
END:VEVENT
BEGIN:VEVENT
DTSTART;TZID=America/New_York:20220917T193000
DTEND;TZID=America/New_York:20220917T213000
DTSTAMP:20260423T214855
CREATED:20220916T181734Z
LAST-MODIFIED:20220916T181734Z
UID:10034828-1663443000-1663450200@thamesyc.org
SUMMARY:Movie on the beach "MAIDEN" at sunset
DESCRIPTION:
URL:https://thamesyc.org/event/movie-on-the-beach-maiden-at-sunset/
CATEGORIES:Club Wide Event
END:VEVENT
BEGIN:VEVENT
DTSTART;TZID=America/New_York:20220917T193000
DTEND;TZID=America/New_York:20220917T213000
DTSTAMP:20260423T214855
CREATED:20220915T174817Z
LAST-MODIFIED:20220915T175932Z
UID:10034827-1663443000-1663450200@thamesyc.org
SUMMARY:MOVIE NIGHT SATURDAY!!!
DESCRIPTION:
URL:https://thamesyc.org/event/movie-night-saturday/
LOCATION:Thames Yacht Club\, 396 Pequot Avenue\, New London\, CT\, 06320\, United States
CATEGORIES:Club Wide Event
GEO:41.3308391;-72.0946565
X-APPLE-STRUCTURED-LOCATION;VALUE=URI;X-ADDRESS=Thames Yacht Club 396 Pequot Avenue New London CT 06320 United States;X-APPLE-RADIUS=500;X-TITLE=396 Pequot Avenue:geo:-72.0946565,41.3308391
END:VEVENT
BEGIN:VEVENT
DTSTART;TZID=America/New_York:20220909T193000
DTEND;TZID=America/New_York:20220909T220000
DTSTAMP:20260423T214855
CREATED:20220905T183425Z
LAST-MODIFIED:20220905T183625Z
UID:10034826-1662751800-1662760800@thamesyc.org
SUMMARY:Movie Night on the Beach! Extended!!
DESCRIPTION:
URL:https://thamesyc.org/event/movie-night-on-the-beach-extended/
LOCATION:Thames Yacht Club\, 396 Pequot Avenue\, New London\, CT\, 06320\, United States
CATEGORIES:Club Wide Event
GEO:41.3308391;-72.0946565
X-APPLE-STRUCTURED-LOCATION;VALUE=URI;X-ADDRESS=Thames Yacht Club 396 Pequot Avenue New London CT 06320 United States;X-APPLE-RADIUS=500;X-TITLE=396 Pequot Avenue:geo:-72.0946565,41.3308391
END:VEVENT
BEGIN:VEVENT
DTSTART;TZID=America/New_York:20220902T200000
DTEND;TZID=America/New_York:20220902T223000
DTSTAMP:20260423T214855
CREATED:20220716T050917Z
LAST-MODIFIED:20220902T141614Z
UID:10034807-1662148800-1662157800@thamesyc.org
SUMMARY:Movie Night at the Beach
DESCRIPTION:
URL:https://thamesyc.org/event/movie-night-at-the-beach-2/2022-09-02/
LOCATION:Thames Yacht Club\, 396 Pequot Avenue\, New London\, CT\, 06320\, United States
CATEGORIES:Club Wide Event,Sub Committee Mtg
GEO:41.3308391;-72.0946565
X-APPLE-STRUCTURED-LOCATION;VALUE=URI;X-ADDRESS=Thames Yacht Club 396 Pequot Avenue New London CT 06320 United States;X-APPLE-RADIUS=500;X-TITLE=396 Pequot Avenue:geo:-72.0946565,41.3308391
END:VEVENT
BEGIN:VEVENT
DTSTART;TZID=America/New_York:20220826T200000
DTEND;TZID=America/New_York:20220826T223000
DTSTAMP:20260423T214855
CREATED:20220716T050917Z
LAST-MODIFIED:20220902T141614Z
UID:10034806-1661544000-1661553000@thamesyc.org
SUMMARY:Movie Night at the Beach
DESCRIPTION:
URL:https://thamesyc.org/event/movie-night-at-the-beach-2/2022-08-26/
LOCATION:Thames Yacht Club\, 396 Pequot Avenue\, New London\, CT\, 06320\, United States
CATEGORIES:Club Wide Event,Sub Committee Mtg
GEO:41.3308391;-72.0946565
X-APPLE-STRUCTURED-LOCATION;VALUE=URI;X-ADDRESS=Thames Yacht Club 396 Pequot Avenue New London CT 06320 United States;X-APPLE-RADIUS=500;X-TITLE=396 Pequot Avenue:geo:-72.0946565,41.3308391
END:VEVENT
BEGIN:VEVENT
DTSTART;TZID=America/New_York:20220819T200000
DTEND;TZID=America/New_York:20220819T223000
DTSTAMP:20260423T214855
CREATED:20220716T050917Z
LAST-MODIFIED:20220902T141614Z
UID:10034805-1660939200-1660948200@thamesyc.org
SUMMARY:Movie Night at the Beach
DESCRIPTION:
URL:https://thamesyc.org/event/movie-night-at-the-beach-2/2022-08-19/
LOCATION:Thames Yacht Club\, 396 Pequot Avenue\, New London\, CT\, 06320\, United States
CATEGORIES:Club Wide Event,Sub Committee Mtg
GEO:41.3308391;-72.0946565
X-APPLE-STRUCTURED-LOCATION;VALUE=URI;X-ADDRESS=Thames Yacht Club 396 Pequot Avenue New London CT 06320 United States;X-APPLE-RADIUS=500;X-TITLE=396 Pequot Avenue:geo:-72.0946565,41.3308391
END:VEVENT
BEGIN:VEVENT
DTSTART;VALUE=DATE:20220813
DTEND;VALUE=DATE:20220815
DTSTAMP:20260423T214855
CREATED:20220105T151624Z
LAST-MODIFIED:20220105T151624Z
UID:10034637-1660348800-1660521599@thamesyc.org
SUMMARY:Members Weekend
DESCRIPTION:
URL:https://thamesyc.org/event/members-weekend-4/
CATEGORIES:Club Wide Event
END:VEVENT
BEGIN:VEVENT
DTSTART;TZID=America/New_York:20220812T200000
DTEND;TZID=America/New_York:20220812T223000
DTSTAMP:20260423T214855
CREATED:20220716T050917Z
LAST-MODIFIED:20220902T141614Z
UID:10034804-1660334400-1660343400@thamesyc.org
SUMMARY:Movie Night at the Beach
DESCRIPTION:
URL:https://thamesyc.org/event/movie-night-at-the-beach-2/2022-08-12/
LOCATION:Thames Yacht Club\, 396 Pequot Avenue\, New London\, CT\, 06320\, United States
CATEGORIES:Club Wide Event,Sub Committee Mtg
GEO:41.3308391;-72.0946565
X-APPLE-STRUCTURED-LOCATION;VALUE=URI;X-ADDRESS=Thames Yacht Club 396 Pequot Avenue New London CT 06320 United States;X-APPLE-RADIUS=500;X-TITLE=396 Pequot Avenue:geo:-72.0946565,41.3308391
END:VEVENT
BEGIN:VEVENT
DTSTART;TZID=America/New_York:20220805T200000
DTEND;TZID=America/New_York:20220805T223000
DTSTAMP:20260423T214855
CREATED:20220716T050917Z
LAST-MODIFIED:20220902T141614Z
UID:10034803-1659729600-1659738600@thamesyc.org
SUMMARY:Movie Night at the Beach
DESCRIPTION:
URL:https://thamesyc.org/event/movie-night-at-the-beach-2/2022-08-05/
LOCATION:Thames Yacht Club\, 396 Pequot Avenue\, New London\, CT\, 06320\, United States
CATEGORIES:Club Wide Event,Sub Committee Mtg
GEO:41.3308391;-72.0946565
X-APPLE-STRUCTURED-LOCATION;VALUE=URI;X-ADDRESS=Thames Yacht Club 396 Pequot Avenue New London CT 06320 United States;X-APPLE-RADIUS=500;X-TITLE=396 Pequot Avenue:geo:-72.0946565,41.3308391
END:VEVENT
BEGIN:VEVENT
DTSTART;TZID=America/New_York:20220729T200000
DTEND;TZID=America/New_York:20220729T223000
DTSTAMP:20260423T214855
CREATED:20220716T050917Z
LAST-MODIFIED:20220902T141614Z
UID:10034802-1659124800-1659133800@thamesyc.org
SUMMARY:Movie Night at the Beach
DESCRIPTION:
URL:https://thamesyc.org/event/movie-night-at-the-beach-2/2022-07-29/
LOCATION:Thames Yacht Club\, 396 Pequot Avenue\, New London\, CT\, 06320\, United States
CATEGORIES:Club Wide Event,Sub Committee Mtg
GEO:41.3308391;-72.0946565
X-APPLE-STRUCTURED-LOCATION;VALUE=URI;X-ADDRESS=Thames Yacht Club 396 Pequot Avenue New London CT 06320 United States;X-APPLE-RADIUS=500;X-TITLE=396 Pequot Avenue:geo:-72.0946565,41.3308391
END:VEVENT
BEGIN:VEVENT
DTSTART;TZID=America/New_York:20220724T120000
DTEND;TZID=America/New_York:20220724T170000
DTSTAMP:20260423T214855
CREATED:20220105T152246Z
LAST-MODIFIED:20220105T152246Z
UID:10034647-1658664000-1658682000@thamesyc.org
SUMMARY:General Membership Meeting
DESCRIPTION:
URL:https://thamesyc.org/event/general-membership-meeting-13/
CATEGORIES:Club Wide Event
END:VEVENT
BEGIN:VEVENT
DTSTART;TZID=America/New_York:20220722T200000
DTEND;TZID=America/New_York:20220722T223000
DTSTAMP:20260423T214855
CREATED:20220716T050917Z
LAST-MODIFIED:20220902T141614Z
UID:10034801-1658520000-1658529000@thamesyc.org
SUMMARY:Movie Night at the Beach
DESCRIPTION:
URL:https://thamesyc.org/event/movie-night-at-the-beach-2/2022-07-22/
LOCATION:Thames Yacht Club\, 396 Pequot Avenue\, New London\, CT\, 06320\, United States
CATEGORIES:Club Wide Event,Sub Committee Mtg
GEO:41.3308391;-72.0946565
X-APPLE-STRUCTURED-LOCATION;VALUE=URI;X-ADDRESS=Thames Yacht Club 396 Pequot Avenue New London CT 06320 United States;X-APPLE-RADIUS=500;X-TITLE=396 Pequot Avenue:geo:-72.0946565,41.3308391
END:VEVENT
BEGIN:VEVENT
DTSTART;TZID=America/New_York:20220713T170000
DTEND;TZID=America/New_York:20220713T203000
DTSTAMP:20260423T214855
CREATED:20220105T150953Z
LAST-MODIFIED:20220105T150953Z
UID:10034628-1657731600-1657744200@thamesyc.org
SUMMARY:Hospice Race
DESCRIPTION:
URL:https://thamesyc.org/event/hospice-race/
CATEGORIES:Club Wide Event,Racing
END:VEVENT
END:VCALENDAR