BEGIN:VCALENDAR
VERSION:2.0
PRODID:-//Thames Yacht Club - ECPv6.15.17//NONSGML v1.0//EN
CALSCALE:GREGORIAN
METHOD:PUBLISH
X-WR-CALNAME:Thames Yacht Club
X-ORIGINAL-URL:https://thamesyc.org
X-WR-CALDESC:Events for Thames Yacht Club
REFRESH-INTERVAL;VALUE=DURATION:PT1H
X-Robots-Tag:noindex
X-PUBLISHED-TTL:PT1H
BEGIN:VTIMEZONE
TZID:America/New_York
BEGIN:DAYLIGHT
TZOFFSETFROM:-0500
TZOFFSETTO:-0400
TZNAME:EDT
DTSTART:20150308T070000
END:DAYLIGHT
BEGIN:STANDARD
TZOFFSETFROM:-0400
TZOFFSETTO:-0500
TZNAME:EST
DTSTART:20151101T060000
END:STANDARD
BEGIN:DAYLIGHT
TZOFFSETFROM:-0500
TZOFFSETTO:-0400
TZNAME:EDT
DTSTART:20160313T070000
END:DAYLIGHT
BEGIN:STANDARD
TZOFFSETFROM:-0400
TZOFFSETTO:-0500
TZNAME:EST
DTSTART:20161106T060000
END:STANDARD
BEGIN:DAYLIGHT
TZOFFSETFROM:-0500
TZOFFSETTO:-0400
TZNAME:EDT
DTSTART:20170312T070000
END:DAYLIGHT
BEGIN:STANDARD
TZOFFSETFROM:-0400
TZOFFSETTO:-0500
TZNAME:EST
DTSTART:20171105T060000
END:STANDARD
BEGIN:DAYLIGHT
TZOFFSETFROM:-0500
TZOFFSETTO:-0400
TZNAME:EDT
DTSTART:20180311T070000
END:DAYLIGHT
BEGIN:STANDARD
TZOFFSETFROM:-0400
TZOFFSETTO:-0500
TZNAME:EST
DTSTART:20181104T060000
END:STANDARD
BEGIN:DAYLIGHT
TZOFFSETFROM:-0500
TZOFFSETTO:-0400
TZNAME:EDT
DTSTART:20190310T070000
END:DAYLIGHT
BEGIN:STANDARD
TZOFFSETFROM:-0400
TZOFFSETTO:-0500
TZNAME:EST
DTSTART:20191103T060000
END:STANDARD
END:VTIMEZONE
BEGIN:VEVENT
DTSTART;TZID=America/New_York:20180803T204500
DTEND;TZID=America/New_York:20180803T230000
DTSTAMP:20260424T132545
CREATED:20180712T060222Z
LAST-MODIFIED:20180721T044201Z
UID:10034241-1533329100-1533337200@thamesyc.org
SUMMARY:Movie Night at the Beach - The Princess Bride
DESCRIPTION:
URL:https://thamesyc.org/event/movie-night-at-the-beach-the-princess-bride/
LOCATION:Thames Yacht Club\, 396 Pequot Avenue\, New London\, CT\, 06320\, United States
CATEGORIES:Club Wide Event
GEO:41.3308391;-72.0946565
X-APPLE-STRUCTURED-LOCATION;VALUE=URI;X-ADDRESS=Thames Yacht Club 396 Pequot Avenue New London CT 06320 United States;X-APPLE-RADIUS=500;X-TITLE=396 Pequot Avenue:geo:-72.0946565,41.3308391
END:VEVENT
BEGIN:VEVENT
DTSTART;TZID=America/New_York:20180727T204500
DTEND;TZID=America/New_York:20180727T230000
DTSTAMP:20260424T132545
CREATED:20180712T024441Z
LAST-MODIFIED:20180712T024441Z
UID:10034239-1532724300-1532732400@thamesyc.org
SUMMARY:Movie Night at the Beach - Rear Window
DESCRIPTION:
URL:https://thamesyc.org/event/movie-night-at-the-beach-rear-window/
LOCATION:Thames Yacht Club\, 396 Pequot Avenue\, New London\, CT\, 06320\, United States
CATEGORIES:Club Wide Event
GEO:41.3308391;-72.0946565
X-APPLE-STRUCTURED-LOCATION;VALUE=URI;X-ADDRESS=Thames Yacht Club 396 Pequot Avenue New London CT 06320 United States;X-APPLE-RADIUS=500;X-TITLE=396 Pequot Avenue:geo:-72.0946565,41.3308391
END:VEVENT
BEGIN:VEVENT
DTSTART;TZID=America/New_York:20180720T204500
DTEND;TZID=America/New_York:20180720T230000
DTSTAMP:20260424T132545
CREATED:20180712T013702Z
LAST-MODIFIED:20180712T013702Z
UID:10034237-1532119500-1532127600@thamesyc.org
SUMMARY:TYC Movie Night at the Beach - Ferdinand
DESCRIPTION:
URL:https://thamesyc.org/event/tyc-movie-night-at-the-beach-ferdinand/
LOCATION:Thames Yacht Club\, 396 Pequot Avenue\, New London\, CT\, 06320\, United States
CATEGORIES:Club Wide Event
GEO:41.3308391;-72.0946565
X-APPLE-STRUCTURED-LOCATION;VALUE=URI;X-ADDRESS=Thames Yacht Club 396 Pequot Avenue New London CT 06320 United States;X-APPLE-RADIUS=500;X-TITLE=396 Pequot Avenue:geo:-72.0946565,41.3308391
END:VEVENT
BEGIN:VEVENT
DTSTART;TZID=America/New_York:20180713T204500
DTEND;TZID=America/New_York:20180713T230000
DTSTAMP:20260424T132545
CREATED:20180712T013311Z
LAST-MODIFIED:20180712T013311Z
UID:10034235-1531514700-1531522800@thamesyc.org
SUMMARY:TYC Movie Night at the Beach - Psycho
DESCRIPTION:
URL:https://thamesyc.org/event/tyc-movie-night-at-the-beach-psycho/
LOCATION:Thames Yacht Club\, 396 Pequot Avenue\, New London\, CT\, 06320\, United States
CATEGORIES:Club Wide Event
GEO:41.3308391;-72.0946565
X-APPLE-STRUCTURED-LOCATION;VALUE=URI;X-ADDRESS=Thames Yacht Club 396 Pequot Avenue New London CT 06320 United States;X-APPLE-RADIUS=500;X-TITLE=396 Pequot Avenue:geo:-72.0946565,41.3308391
END:VEVENT
BEGIN:VEVENT
DTSTART;TZID=America/New_York:20180428T100000
DTEND;TZID=America/New_York:20180428T200000
DTSTAMP:20260424T132545
CREATED:20180415T173712Z
LAST-MODIFIED:20180422T122452Z
UID:10034194-1524909600-1524945600@thamesyc.org
SUMMARY:Cleanup starts at 10am\, Happy Hour starts at 3pm\, General membership Meeting starts at 4pm
DESCRIPTION:
URL:https://thamesyc.org/event/cleanup-starts-at-10am-happy-hour-starts-at-3pm-general-membership-meeting-starts-at-4pm/
LOCATION:CT
CATEGORIES:Club Wide Event,Party,Work Party Event
END:VEVENT
BEGIN:VEVENT
DTSTART;TZID=America/New_York:20180428T100000
DTEND;TZID=America/New_York:20180428T180000
DTSTAMP:20260424T132545
CREATED:20180410T141329Z
LAST-MODIFIED:20180411T000230Z
UID:10034144-1524909600-1524938400@thamesyc.org
SUMMARY:Clean up day!
DESCRIPTION:Please join us.  Here is our to do list: \nOutside \n\nClean beach\nMove picnic tables\nMove / install dock walkway\nRepair dinghy / kayak racks\nClean and plug in ice box\nMove launch float\nWash / wax launch & skiff\nLaunch Drag Queen\nHook up outside water hoses\nCut 1/2” Chain to 25′ length & store\nAdd bumper to launch\nSpread mulch in front yard\nMove & clean outdoor grille\nOutside Shower Valve\nSpray cracks with Roundup\nAttach ceiling fan blades\nRemove snow fence\n\nHouse \n\nWash Windows\nFlush & Clean kegerator\n\nKitchen \n\nClean kitchen\nClean galley grill\nClean refrigerator\n\nFirst Floor Restrooms \n\nClean Men’s\nClean Women’s\n\nUpper Restrooms \n\nClean Men’s\nClean Women’s\n\nSenior Lounge \n\nWipe / polish walls\nWash ledges\, bar floor\, counter\n\nUpper Deck \n\nMolding & grill plates to dumpster\nRepair / reinstall flagpoles\nMount ensign on flagpole\nInstall windvane\nAttic vent\nRemaining Work\n\nGrading Beach \n\nUpstairs molding\nInstall belt louver fan\nAwning install\nPower wash decking\nRailing caps\nScrape and prime gutters\nMove boats to beach\nPrime north side railing\nUncover East-side vent\nRe-glaze deck railing
URL:https://thamesyc.org/event/clean-up-day-2/
LOCATION:Thames Yacht Club\, 396 Pequot Avenue\, New London\, CT\, 06320\, United States
CATEGORIES:Club Wide Event
GEO:41.3308391;-72.0946565
X-APPLE-STRUCTURED-LOCATION;VALUE=URI;X-ADDRESS=Thames Yacht Club 396 Pequot Avenue New London CT 06320 United States;X-APPLE-RADIUS=500;X-TITLE=396 Pequot Avenue:geo:-72.0946565,41.3308391
END:VEVENT
BEGIN:VEVENT
DTSTART;TZID=America/New_York:20171216T173000
DTEND;TZID=America/New_York:20171216T230000
DTSTAMP:20260424T132545
CREATED:20161228T004808Z
LAST-MODIFIED:20171107T000144Z
UID:10033958-1513445400-1513465200@thamesyc.org
SUMMARY:Christmas in New England Party
DESCRIPTION:
URL:https://thamesyc.org/event/christmas-party-2/
LOCATION:CT
CATEGORIES:Club Wide Event,Party
END:VEVENT
BEGIN:VEVENT
DTSTART;TZID=America/New_York:20171118T170000
DTEND;TZID=America/New_York:20171118T220000
DTSTAMP:20260424T132545
CREATED:20161228T004511Z
LAST-MODIFIED:20161228T004641Z
UID:10033956-1511024400-1511042400@thamesyc.org
SUMMARY:Annual General Membership Meeting/Potluck
DESCRIPTION:
URL:https://thamesyc.org/event/fall-cleanup/
LOCATION:CT
CATEGORIES:Club Wide Event,Work Party Event
END:VEVENT
BEGIN:VEVENT
DTSTART;TZID=America/New_York:20171028T180000
DTEND;TZID=America/New_York:20171028T220000
DTSTAMP:20260424T132545
CREATED:20171006T200111Z
LAST-MODIFIED:20171006T200111Z
UID:10033808-1509213600-1509228000@thamesyc.org
SUMMARY:Monster Mash
DESCRIPTION:
URL:https://thamesyc.org/event/monster-mash/
LOCATION:Thames Yacht Club\, 396 Pequot Avenue\, New London\, CT\, 06320\, United States
CATEGORIES:Club Wide Event
GEO:41.3308391;-72.0946565
X-APPLE-STRUCTURED-LOCATION;VALUE=URI;X-ADDRESS=Thames Yacht Club 396 Pequot Avenue New London CT 06320 United States;X-APPLE-RADIUS=500;X-TITLE=396 Pequot Avenue:geo:-72.0946565,41.3308391
END:VEVENT
BEGIN:VEVENT
DTSTART;TZID=America/New_York:20171028T180000
DTEND;TZID=America/New_York:20171028T203000
DTSTAMP:20260424T132545
CREATED:20170922T130946Z
LAST-MODIFIED:20170922T130946Z
UID:10033806-1509213600-1509222600@thamesyc.org
SUMMARY:Movie Night Above the Beach
DESCRIPTION:
URL:https://thamesyc.org/event/movie-night-above-the-beach/2017-10-28/
LOCATION:CT
CATEGORIES:Club Wide Event
END:VEVENT
BEGIN:VEVENT
DTSTART;TZID=America/New_York:20171021T180000
DTEND;TZID=America/New_York:20171021T203000
DTSTAMP:20260424T132545
CREATED:20170922T130946Z
LAST-MODIFIED:20170922T130946Z
UID:10033805-1508608800-1508617800@thamesyc.org
SUMMARY:Movie Night Above the Beach
DESCRIPTION:
URL:https://thamesyc.org/event/movie-night-above-the-beach/2017-10-21/
LOCATION:CT
CATEGORIES:Club Wide Event
END:VEVENT
BEGIN:VEVENT
DTSTART;TZID=America/New_York:20171014T180000
DTEND;TZID=America/New_York:20171014T203000
DTSTAMP:20260424T132545
CREATED:20170922T130946Z
LAST-MODIFIED:20170922T130946Z
UID:10033804-1508004000-1508013000@thamesyc.org
SUMMARY:Movie Night Above the Beach
DESCRIPTION:
URL:https://thamesyc.org/event/movie-night-above-the-beach/2017-10-14/
LOCATION:CT
CATEGORIES:Club Wide Event
END:VEVENT
BEGIN:VEVENT
DTSTART;TZID=America/New_York:20170930T180000
DTEND;TZID=America/New_York:20170930T203000
DTSTAMP:20260424T132545
CREATED:20170922T130946Z
LAST-MODIFIED:20170922T130946Z
UID:10033803-1506794400-1506803400@thamesyc.org
SUMMARY:Movie Night Above the Beach
DESCRIPTION:
URL:https://thamesyc.org/event/movie-night-above-the-beach/2017-09-30/
LOCATION:CT
CATEGORIES:Club Wide Event
END:VEVENT
BEGIN:VEVENT
DTSTART;TZID=America/New_York:20170923T180000
DTEND;TZID=America/New_York:20170923T203000
DTSTAMP:20260424T132545
CREATED:20170922T130946Z
LAST-MODIFIED:20170922T130946Z
UID:10033802-1506189600-1506198600@thamesyc.org
SUMMARY:Movie Night Above the Beach
DESCRIPTION:
URL:https://thamesyc.org/event/movie-night-above-the-beach/2017-09-23/
LOCATION:CT
CATEGORIES:Club Wide Event
END:VEVENT
BEGIN:VEVENT
DTSTART;TZID=America/New_York:20170820T170000
DTEND;TZID=America/New_York:20170820T190000
DTSTAMP:20260424T132545
CREATED:20170815T191944Z
LAST-MODIFIED:20170815T191944Z
UID:10033800-1503248400-1503255600@thamesyc.org
SUMMARY:The Jay Johnson Trio on the Deck!
DESCRIPTION:John from the Galley has booked The Jay Johnson Trio to play at the Club on Sunday\, August 20th\, between 5:00 and 7:00PM. We hope to see you there!
URL:https://thamesyc.org/event/the-jay-johnson-trio-on-the-deck/
LOCATION:Thames Yacht Club\, 396 Pequot Avenue\, New London\, CT\, 06320\, United States
CATEGORIES:Club Wide Event
GEO:41.3308391;-72.0946565
X-APPLE-STRUCTURED-LOCATION;VALUE=URI;X-ADDRESS=Thames Yacht Club 396 Pequot Avenue New London CT 06320 United States;X-APPLE-RADIUS=500;X-TITLE=396 Pequot Avenue:geo:-72.0946565,41.3308391
END:VEVENT
BEGIN:VEVENT
DTSTART;TZID=America/New_York:20170812T080000
DTEND;TZID=America/New_York:20170812T170000
DTSTAMP:20260424T132545
CREATED:20161228T003444Z
LAST-MODIFIED:20161228T003444Z
UID:10033949-1502524800-1502557200@thamesyc.org
SUMMARY:Oscar Kerman Series - TBA
DESCRIPTION:
URL:https://thamesyc.org/event/oscar-kerman-series-tba/
LOCATION:CT
CATEGORIES:Club Wide Event,Racing
END:VEVENT
BEGIN:VEVENT
DTSTART;TZID=America/New_York:20170811T180000
DTEND;TZID=America/New_York:20170813T170000
DTSTAMP:20260424T132545
CREATED:20161228T003051Z
LAST-MODIFIED:20161228T003303Z
UID:10033948-1502474400-1502643600@thamesyc.org
SUMMARY:Member's Weekend
DESCRIPTION:
URL:https://thamesyc.org/event/membership-weekend/
LOCATION:CT
CATEGORIES:Club Wide Event,Party
END:VEVENT
BEGIN:VEVENT
DTSTART;TZID=America/New_York:20170721T210000
DTEND;TZID=America/New_York:20170721T230000
DTSTAMP:20260424T132545
CREATED:20170717T154947Z
LAST-MODIFIED:20170719T024330Z
UID:10034139-1500670800-1500678000@thamesyc.org
SUMMARY:TYC Movie Night on the Beach! - Sahara
DESCRIPTION:
URL:https://thamesyc.org/event/tyc-movie-night-on-the-beach/
LOCATION:Thames Yacht Club\, 396 Pequot Avenue\, New London\, CT\, 06320\, United States
CATEGORIES:Club Wide Event
GEO:41.3308391;-72.0946565
X-APPLE-STRUCTURED-LOCATION;VALUE=URI;X-ADDRESS=Thames Yacht Club 396 Pequot Avenue New London CT 06320 United States;X-APPLE-RADIUS=500;X-TITLE=396 Pequot Avenue:geo:-72.0946565,41.3308391
END:VEVENT
BEGIN:VEVENT
DTSTART;TZID=America/New_York:20170709T160000
DTEND;TZID=America/New_York:20170709T200000
DTSTAMP:20260424T132545
CREATED:20161228T002717Z
LAST-MODIFIED:20161228T002717Z
UID:10033946-1499616000-1499630400@thamesyc.org
SUMMARY:General Membership Meeting/Potluck
DESCRIPTION:
URL:https://thamesyc.org/event/general-membership-meetingpotluck/
LOCATION:CT
CATEGORIES:Club Wide Event,Party
END:VEVENT
BEGIN:VEVENT
DTSTART;VALUE=DATE:20170708
DTEND;VALUE=DATE:20170709
DTSTAMP:20260424T132545
CREATED:20161228T002538Z
LAST-MODIFIED:20161228T002538Z
UID:10033945-1499472000-1499558399@thamesyc.org
SUMMARY:New London Fireworks/Sailfest
DESCRIPTION:
URL:https://thamesyc.org/event/new-london-fireworkssailfest/
LOCATION:CT
CATEGORIES:Club Wide Event,Party
END:VEVENT
BEGIN:VEVENT
DTSTART;TZID=America/New_York:20170520T173000
DTEND;TZID=America/New_York:20170520T220000
DTSTAMP:20260424T132545
CREATED:20161228T000349Z
LAST-MODIFIED:20170513T233015Z
UID:10033941-1495301400-1495317600@thamesyc.org
SUMMARY:Commissioning Day
DESCRIPTION:
URL:https://thamesyc.org/event/commissioning-day-3/
LOCATION:CT
CATEGORIES:Club Wide Event,Party
END:VEVENT
BEGIN:VEVENT
DTSTART;TZID=America/New_York:20170513T100000
DTEND;TZID=America/New_York:20170513T160000
DTSTAMP:20260424T132545
CREATED:20161227T235916Z
LAST-MODIFIED:20161227T235916Z
UID:10033939-1494669600-1494691200@thamesyc.org
SUMMARY:Marine Tag/Craft Sale and Open House
DESCRIPTION:
URL:https://thamesyc.org/event/marine-tagcraft-sale-and-open-house/
LOCATION:CT
CATEGORIES:Club Wide Event
END:VEVENT
BEGIN:VEVENT
DTSTART;TZID=America/New_York:20170415T170000
DTEND;TZID=America/New_York:20170415T220000
DTSTAMP:20260424T132545
CREATED:20170409T191035Z
LAST-MODIFIED:20170409T191035Z
UID:10034102-1492275600-1492293600@thamesyc.org
SUMMARY:Membership Meeting and Welcome to Spring!
DESCRIPTION:
URL:https://thamesyc.org/event/membership-meeting-and-welcome-to-spring/
LOCATION:Thames Yacht Club\, 396 Pequot Avenue\, New London\, CT\, 06320\, United States
CATEGORIES:Club Wide Event
GEO:41.3308391;-72.0946565
X-APPLE-STRUCTURED-LOCATION;VALUE=URI;X-ADDRESS=Thames Yacht Club 396 Pequot Avenue New London CT 06320 United States;X-APPLE-RADIUS=500;X-TITLE=396 Pequot Avenue:geo:-72.0946565,41.3308391
END:VEVENT
BEGIN:VEVENT
DTSTART;TZID=America/New_York:20161210T190000
DTEND;TZID=America/New_York:20161210T230000
DTSTAMP:20260424T132545
CREATED:20161114T003654Z
LAST-MODIFIED:20161114T003654Z
UID:10033925-1481396400-1481410800@thamesyc.org
SUMMARY:TYC Christmas Party
DESCRIPTION:
URL:https://thamesyc.org/event/tyc-christmas-party/
LOCATION:CT
CATEGORIES:Club Wide Event,Party
END:VEVENT
BEGIN:VEVENT
DTSTART;TZID=America/New_York:20161112T180000
DTEND;TZID=America/New_York:20161112T230000
DTSTAMP:20260424T132545
CREATED:20161027T234633Z
LAST-MODIFIED:20161027T234801Z
UID:10033923-1478973600-1478991600@thamesyc.org
SUMMARY:Skippers Night
DESCRIPTION:Skippers Night -6pm \nDinner – 6:45 \nAwards ceremony following dinner
URL:https://thamesyc.org/event/skippers-night-2/
LOCATION:CT
CATEGORIES:Club Wide Event,Party,Racing
END:VEVENT
BEGIN:VEVENT
DTSTART;TZID=America/New_York:20161112T160000
DTEND;TZID=America/New_York:20161112T173000
DTSTAMP:20260424T132545
CREATED:20161024T234934Z
LAST-MODIFIED:20161024T234934Z
UID:10033850-1478966400-1478971800@thamesyc.org
SUMMARY:Membership Planning Meeting
DESCRIPTION:Open to ALL members.  Bring your ideas to discuss and plan a strategy for a Fall and Winter Membership Drive.
URL:https://thamesyc.org/event/membership-planning-meeting/
LOCATION:CT
CATEGORIES:Club Wide Event
END:VEVENT
BEGIN:VEVENT
DTSTART;TZID=America/New_York:20161105T180000
DTEND;TZID=America/New_York:20161105T210000
DTSTAMP:20260424T132545
CREATED:20161025T231103Z
LAST-MODIFIED:20161025T231103Z
UID:10033856-1478368800-1478379600@thamesyc.org
SUMMARY:General Membership Meeting
DESCRIPTION:Pot Luck Dinner at 6:00 PM \nfollowed by  \nGeneral Membership Meeting at 7:00 PM \nAgenda: 2017 Dues/Charges Proposal \n                Proposed By-Law Change. \n                 Election of Officers.
URL:https://thamesyc.org/event/general-membership-meeting-7/
LOCATION:CT
CATEGORIES:Club Wide Event
END:VEVENT
BEGIN:VEVENT
DTSTART;TZID=America/New_York:20161029T190000
DTEND;TZID=America/New_York:20161029T220000
DTSTAMP:20260424T132545
CREATED:20161021T000123Z
LAST-MODIFIED:20161021T000123Z
UID:10033849-1477767600-1477778400@thamesyc.org
SUMMARY:Movies Above the Beach - Sleepy Hollow
DESCRIPTION:  \n\n 
URL:https://thamesyc.org/event/movies-above-the-beach-sleepy-hollow/
LOCATION:CT
CATEGORIES:Club Wide Event
END:VEVENT
BEGIN:VEVENT
DTSTART;TZID=America/New_York:20160826T203000
DTEND;TZID=America/New_York:20160826T230000
DTSTAMP:20260424T132545
CREATED:20160814T234602Z
LAST-MODIFIED:20160814T234602Z
UID:10033818-1472243400-1472252400@thamesyc.org
SUMMARY:Movie on the Beach - "The Bee Movie"
DESCRIPTION:
URL:https://thamesyc.org/event/movie-beach-bee-movie/
LOCATION:CT
CATEGORIES:Club Wide Event
END:VEVENT
BEGIN:VEVENT
DTSTART;TZID=America/New_York:20160819T200000
DTEND;TZID=America/New_York:20160819T230000
DTSTAMP:20260424T132545
CREATED:20160814T234424Z
LAST-MODIFIED:20160814T234710Z
UID:10033817-1471636800-1471647600@thamesyc.org
SUMMARY:Movie on Beach - "Ghostbusters"
DESCRIPTION:
URL:https://thamesyc.org/event/movie-beach-ghostbusters/
LOCATION:CT
CATEGORIES:Club Wide Event
END:VEVENT
END:VCALENDAR