BEGIN:VCALENDAR
VERSION:2.0
PRODID:-//Thames Yacht Club - ECPv6.15.17//NONSGML v1.0//EN
CALSCALE:GREGORIAN
METHOD:PUBLISH
X-ORIGINAL-URL:https://thamesyc.org
X-WR-CALDESC:Events for Thames Yacht Club
REFRESH-INTERVAL;VALUE=DURATION:PT1H
X-Robots-Tag:noindex
X-PUBLISHED-TTL:PT1H
BEGIN:VTIMEZONE
TZID:America/New_York
BEGIN:DAYLIGHT
TZOFFSETFROM:-0500
TZOFFSETTO:-0400
TZNAME:EDT
DTSTART:20240310T070000
END:DAYLIGHT
BEGIN:STANDARD
TZOFFSETFROM:-0400
TZOFFSETTO:-0500
TZNAME:EST
DTSTART:20241103T060000
END:STANDARD
BEGIN:DAYLIGHT
TZOFFSETFROM:-0500
TZOFFSETTO:-0400
TZNAME:EDT
DTSTART:20250309T070000
END:DAYLIGHT
BEGIN:STANDARD
TZOFFSETFROM:-0400
TZOFFSETTO:-0500
TZNAME:EST
DTSTART:20251102T060000
END:STANDARD
BEGIN:DAYLIGHT
TZOFFSETFROM:-0500
TZOFFSETTO:-0400
TZNAME:EDT
DTSTART:20260308T070000
END:DAYLIGHT
BEGIN:STANDARD
TZOFFSETFROM:-0400
TZOFFSETTO:-0500
TZNAME:EST
DTSTART:20261101T060000
END:STANDARD
BEGIN:DAYLIGHT
TZOFFSETFROM:-0500
TZOFFSETTO:-0400
TZNAME:EDT
DTSTART:20270314T070000
END:DAYLIGHT
BEGIN:STANDARD
TZOFFSETFROM:-0400
TZOFFSETTO:-0500
TZNAME:EST
DTSTART:20271107T060000
END:STANDARD
END:VTIMEZONE
BEGIN:VEVENT
DTSTART;TZID=America/New_York:20260419T150000
DTEND;TZID=America/New_York:20260419T160000
DTSTAMP:20260423T143546
CREATED:20260111T194651Z
LAST-MODIFIED:20260111T194651Z
UID:10039484-1776610800-1776614400@thamesyc.org
SUMMARY:General Membership Meeting
DESCRIPTION:
URL:https://thamesyc.org/event/general-membership-meeting-17/
CATEGORIES:Club Wide Event
END:VEVENT
BEGIN:VEVENT
DTSTART;VALUE=DATE:20251122
DTEND;VALUE=DATE:20251123
DTSTAMP:20260423T143546
CREATED:20250127T020356Z
LAST-MODIFIED:20250930T141300Z
UID:10039238-1763769600-1763855999@thamesyc.org
SUMMARY:HOLIDAY PARTY - Time TBA
DESCRIPTION:
URL:https://thamesyc.org/event/holiday-party-time-tba/
CATEGORIES:Club Wide Event,Party
END:VEVENT
BEGIN:VEVENT
DTSTART;TZID=America/New_York:20251116T160000
DTEND;TZID=America/New_York:20251116T180000
DTSTAMP:20260423T143546
CREATED:20250127T014322Z
LAST-MODIFIED:20250127T015035Z
UID:10039233-1763308800-1763316000@thamesyc.org
SUMMARY:General Membership vote on Elections\, Budget\, Dues and Assessments
DESCRIPTION:
URL:https://thamesyc.org/event/general-membership-vote-on-elections-budget-dues-and-assessments/
CATEGORIES:Club Wide Event
END:VEVENT
BEGIN:VEVENT
DTSTART;TZID=America/New_York:20251116T150000
DTEND;TZID=America/New_York:20251116T180000
DTSTAMP:20260423T143546
CREATED:20250127T010256Z
LAST-MODIFIED:20250127T010256Z
UID:10039220-1763305200-1763316000@thamesyc.org
SUMMARY:GENERAL MEMBERSHIP MEETING
DESCRIPTION:
URL:https://thamesyc.org/event/general-membership-meeting-16/
CATEGORIES:Club Wide Event
END:VEVENT
BEGIN:VEVENT
DTSTART;VALUE=DATE:20251115
DTEND;VALUE=DATE:20251116
DTSTAMP:20260423T143546
CREATED:20250127T020237Z
LAST-MODIFIED:20250127T020237Z
UID:10039237-1763164800-1763251199@thamesyc.org
SUMMARY:FALL CLEANUP DAY - Time TBA
DESCRIPTION:
URL:https://thamesyc.org/event/fall-cleanup-day-time-tba/
CATEGORIES:Club Wide Event,Work Party Event
END:VEVENT
BEGIN:VEVENT
DTSTART;VALUE=DATE:20251030
DTEND;VALUE=DATE:20251031
DTSTAMP:20260423T143546
CREATED:20250127T204359Z
LAST-MODIFIED:20250127T204359Z
UID:10039250-1761782400-1761868799@thamesyc.org
SUMMARY:DEADLINE: Removal of Summer Marks
DESCRIPTION:
URL:https://thamesyc.org/event/deadline-removal-of-summer-marks-2/
CATEGORIES:Club Wide Event
END:VEVENT
BEGIN:VEVENT
DTSTART;VALUE=DATE:20251017
DTEND;VALUE=DATE:20251018
DTSTAMP:20260423T143546
CREATED:20250127T013822Z
LAST-MODIFIED:20250127T013822Z
UID:10039231-1760659200-1760745599@thamesyc.org
SUMMARY:Deadline for Nomination Petitions Due to Secretary "Prior to October 18th"
DESCRIPTION:
URL:https://thamesyc.org/event/deadline-for-nomination-petitions-due-to-secretary-prior-to-october-18th/
CATEGORIES:Club Wide Event
END:VEVENT
BEGIN:VEVENT
DTSTART;VALUE=DATE:20251007
DTEND;VALUE=DATE:20251008
DTSTAMP:20260423T143546
CREATED:20250127T013328Z
LAST-MODIFIED:20250127T013328Z
UID:10039229-1759795200-1759881599@thamesyc.org
SUMMARY:Deadline to Email Candidates to General Membership
DESCRIPTION:
URL:https://thamesyc.org/event/deadline-to-email-candidates-to-general-membership/
CATEGORIES:Club Wide Event
END:VEVENT
BEGIN:VEVENT
DTSTART;VALUE=DATE:20251001
DTEND;VALUE=DATE:20251002
DTSTAMP:20260423T143546
CREATED:20250127T013203Z
LAST-MODIFIED:20250127T013203Z
UID:10039228-1759276800-1759363199@thamesyc.org
SUMMARY:Deadline to Email Secretary Candidates for Nominations
DESCRIPTION:
URL:https://thamesyc.org/event/deadline-to-email-secretary-candidates-for-nominations/
CATEGORIES:Club Wide Event
END:VEVENT
BEGIN:VEVENT
DTSTART;VALUE=DATE:20250912
DTEND;VALUE=DATE:20250913
DTSTAMP:20260423T143546
CREATED:20250127T013044Z
LAST-MODIFIED:20250916T150016Z
UID:10039227-1757635200-1757721599@thamesyc.org
SUMMARY:Budget Info from Chairs due to Treasurer
DESCRIPTION:
URL:https://thamesyc.org/event/budget-info-from-chairs-due-to-treasurer/
CATEGORIES:Club Wide Event
END:VEVENT
BEGIN:VEVENT
DTSTART;VALUE=DATE:20250907
DTEND;VALUE=DATE:20250908
DTSTAMP:20260423T143546
CREATED:20250127T223309Z
LAST-MODIFIED:20250127T223309Z
UID:10039289-1757203200-1757289599@thamesyc.org
SUMMARY:ECSA: COMMODORE'S TROPHY RACE
DESCRIPTION:
URL:https://thamesyc.org/event/ecsa-commodores-trophy-race/
CATEGORIES:Club Wide Event,Party,Racing
END:VEVENT
BEGIN:VEVENT
DTSTART;TZID=America/New_York:20250905T210000
DTEND;TZID=America/New_York:20250905T230000
DTSTAMP:20260423T143546
CREATED:20250715T135941Z
LAST-MODIFIED:20250729T163025Z
UID:10039403-1757106000-1757113200@thamesyc.org
SUMMARY:Movie Night on the Beach
DESCRIPTION:
URL:https://thamesyc.org/event/movie-night-on-the-beach-3/2025-09-05/
CATEGORIES:Club Wide Event
END:VEVENT
BEGIN:VEVENT
DTSTART;VALUE=DATE:20250901
DTEND;VALUE=DATE:20250902
DTSTAMP:20260423T143546
CREATED:20250127T012414Z
LAST-MODIFIED:20250127T012414Z
UID:10039224-1756684800-1756771199@thamesyc.org
SUMMARY:Deadline for Master Mariner Letters
DESCRIPTION:
URL:https://thamesyc.org/event/deadline-for-master-mariner-letters/
CATEGORIES:Club Wide Event
END:VEVENT
BEGIN:VEVENT
DTSTART;TZID=America/New_York:20250829T210000
DTEND;TZID=America/New_York:20250829T230000
DTSTAMP:20260423T143546
CREATED:20250715T135941Z
LAST-MODIFIED:20250729T163025Z
UID:10039402-1756501200-1756508400@thamesyc.org
SUMMARY:Movie Night on the Beach
DESCRIPTION:
URL:https://thamesyc.org/event/movie-night-on-the-beach-3/2025-08-29/
CATEGORIES:Club Wide Event
END:VEVENT
BEGIN:VEVENT
DTSTART;TZID=America/New_York:20250822T210000
DTEND;TZID=America/New_York:20250822T230000
DTSTAMP:20260423T143546
CREATED:20250715T135941Z
LAST-MODIFIED:20250729T163025Z
UID:10039401-1755896400-1755903600@thamesyc.org
SUMMARY:Movie Night on the Beach
DESCRIPTION:
URL:https://thamesyc.org/event/movie-night-on-the-beach-3/2025-08-22/
CATEGORIES:Club Wide Event
END:VEVENT
BEGIN:VEVENT
DTSTART;TZID=America/New_York:20250815T210000
DTEND;TZID=America/New_York:20250815T230000
DTSTAMP:20260423T143546
CREATED:20250715T135941Z
LAST-MODIFIED:20250729T163025Z
UID:10039400-1755291600-1755298800@thamesyc.org
SUMMARY:Movie Night on the Beach
DESCRIPTION:
URL:https://thamesyc.org/event/movie-night-on-the-beach-3/2025-08-15/
CATEGORIES:Club Wide Event
END:VEVENT
BEGIN:VEVENT
DTSTART;VALUE=DATE:20250809
DTEND;VALUE=DATE:20250810
DTSTAMP:20260423T143546
CREATED:20250127T223153Z
LAST-MODIFIED:20250127T223153Z
UID:10039288-1754697600-1754783999@thamesyc.org
SUMMARY:OSCAR KERMAN FUN RACE SERIES - TWO RACES ON SAME DAY
DESCRIPTION:
URL:https://thamesyc.org/event/oscar-kerman-fun-race-series-two-races-on-same-day/
CATEGORIES:Club Wide Event,Party,Racing
END:VEVENT
BEGIN:VEVENT
DTSTART;TZID=America/New_York:20250808T210000
DTEND;TZID=America/New_York:20250808T230000
DTSTAMP:20260423T143546
CREATED:20250715T135941Z
LAST-MODIFIED:20250729T163025Z
UID:10039399-1754686800-1754694000@thamesyc.org
SUMMARY:Movie Night on the Beach
DESCRIPTION:
URL:https://thamesyc.org/event/movie-night-on-the-beach-3/2025-08-08/
CATEGORIES:Club Wide Event
END:VEVENT
BEGIN:VEVENT
DTSTART;VALUE=DATE:20250808
DTEND;VALUE=DATE:20250811
DTSTAMP:20260423T143546
CREATED:20250127T020101Z
LAST-MODIFIED:20250127T020101Z
UID:10039236-1754611200-1754870399@thamesyc.org
SUMMARY:MEMBERS WEEKEND
DESCRIPTION:
URL:https://thamesyc.org/event/members-weekend-7/
CATEGORIES:Club Wide Event,Party
END:VEVENT
BEGIN:VEVENT
DTSTART;TZID=America/New_York:20250801T210000
DTEND;TZID=America/New_York:20250801T230000
DTSTAMP:20260423T143546
CREATED:20250715T135941Z
LAST-MODIFIED:20250729T163025Z
UID:10039398-1754082000-1754089200@thamesyc.org
SUMMARY:Movie Night on the Beach
DESCRIPTION:
URL:https://thamesyc.org/event/movie-night-on-the-beach-3/2025-08-01/
CATEGORIES:Club Wide Event
END:VEVENT
BEGIN:VEVENT
DTSTART;TZID=America/New_York:20250725T210000
DTEND;TZID=America/New_York:20250725T230000
DTSTAMP:20260423T143546
CREATED:20250715T135941Z
LAST-MODIFIED:20250729T163025Z
UID:10039397-1753477200-1753484400@thamesyc.org
SUMMARY:Movie Night on the Beach
DESCRIPTION:
URL:https://thamesyc.org/event/movie-night-on-the-beach-3/2025-07-25/
CATEGORIES:Club Wide Event
END:VEVENT
BEGIN:VEVENT
DTSTART;TZID=America/New_York:20250720T170000
DTEND;TZID=America/New_York:20250720T200000
DTSTAMP:20260423T143546
CREATED:20250127T010040Z
LAST-MODIFIED:20250127T010040Z
UID:10039219-1753030800-1753041600@thamesyc.org
SUMMARY:GENERAL MEMBERSHIP MEETING
DESCRIPTION:
URL:https://thamesyc.org/event/general-membership-meeting-15/
CATEGORIES:Club Wide Event
END:VEVENT
BEGIN:VEVENT
DTSTART;TZID=America/New_York:20250718T210000
DTEND;TZID=America/New_York:20250718T230000
DTSTAMP:20260423T143546
CREATED:20250715T135941Z
LAST-MODIFIED:20250729T163025Z
UID:10039396-1752872400-1752879600@thamesyc.org
SUMMARY:Movie Night on the Beach
DESCRIPTION:
URL:https://thamesyc.org/event/movie-night-on-the-beach-3/2025-07-18/
CATEGORIES:Club Wide Event
END:VEVENT
BEGIN:VEVENT
DTSTART;VALUE=DATE:20250715
DTEND;VALUE=DATE:20250716
DTSTAMP:20260423T143546
CREATED:20250127T202148Z
LAST-MODIFIED:20250127T202148Z
UID:10039242-1752537600-1752623999@thamesyc.org
SUMMARY:DEADLINE: Mooring Application to New London Harbormaster
DESCRIPTION:
URL:https://thamesyc.org/event/deadline-mooring-application-to-new-london-harbormaster/
CATEGORIES:Club Wide Event
END:VEVENT
BEGIN:VEVENT
DTSTART;VALUE=DATE:20250704
DTEND;VALUE=DATE:20250705
DTSTAMP:20260423T143546
CREATED:20250127T222927Z
LAST-MODIFIED:20250127T222927Z
UID:10039287-1751587200-1751673599@thamesyc.org
SUMMARY:FRANCIS T BRADBURY MEMORIAL LONG DISTANCE RACE
DESCRIPTION:
URL:https://thamesyc.org/event/francis-t-bradbury-memorial-long-distance-race-6/
CATEGORIES:Club Wide Event,Party,Racing
END:VEVENT
BEGIN:VEVENT
DTSTART;VALUE=DATE:20250628
DTEND;VALUE=DATE:20250629
DTSTAMP:20260423T143546
CREATED:20250127T222741Z
LAST-MODIFIED:20250127T225955Z
UID:10039286-1751068800-1751155199@thamesyc.org
SUMMARY:ECSA: CAL BROUWER MEMORIAL SHORTHANDED CHALLENGE
DESCRIPTION:
URL:https://thamesyc.org/event/cal-brouwer-memorial-shorthanded-challenge/
CATEGORIES:Club Wide Event,Party,Racing
END:VEVENT
BEGIN:VEVENT
DTSTART;VALUE=DATE:20250615
DTEND;VALUE=DATE:20250616
DTSTAMP:20260423T143546
CREATED:20250127T202019Z
LAST-MODIFIED:20250127T202019Z
UID:10039241-1749945600-1750031999@thamesyc.org
SUMMARY:DEADLINE: Winter Mark Removal
DESCRIPTION:
URL:https://thamesyc.org/event/deadline-winter-mark-removal-2/
CATEGORIES:Club Wide Event
END:VEVENT
BEGIN:VEVENT
DTSTART;VALUE=DATE:20250517
DTEND;VALUE=DATE:20250518
DTSTAMP:20260423T143546
CREATED:20250127T015635Z
LAST-MODIFIED:20250127T015635Z
UID:10039235-1747440000-1747526399@thamesyc.org
SUMMARY:Commissioning Day Ceremony - Time TBA
DESCRIPTION:
URL:https://thamesyc.org/event/commissioning-day-ceremony-time-tba/
CATEGORIES:Club Wide Event
END:VEVENT
BEGIN:VEVENT
DTSTART;TZID=America/New_York:20250413T160000
DTEND;TZID=America/New_York:20250413T180000
DTSTAMP:20260423T143546
CREATED:20250127T011833Z
LAST-MODIFIED:20250127T011833Z
UID:10039222-1744560000-1744567200@thamesyc.org
SUMMARY:GM Votes on Honorary Members
DESCRIPTION:
URL:https://thamesyc.org/event/gm-votes-on-honorary-members/
CATEGORIES:Club Wide Event
END:VEVENT
BEGIN:VEVENT
DTSTART;TZID=America/New_York:20250413T150000
DTEND;TZID=America/New_York:20250413T180000
DTSTAMP:20260423T143546
CREATED:20250127T005735Z
LAST-MODIFIED:20250127T005735Z
UID:10039218-1744556400-1744567200@thamesyc.org
SUMMARY:GENERAL MEMBERSHIP MEETING
DESCRIPTION:3pm Potluck/4pm meeting
URL:https://thamesyc.org/event/general-membership-meeting-14/
CATEGORIES:Club Wide Event
END:VEVENT
END:VCALENDAR