BEGIN:VCALENDAR
VERSION:2.0
PRODID:-//Thames Yacht Club - ECPv6.15.17//NONSGML v1.0//EN
CALSCALE:GREGORIAN
METHOD:PUBLISH
X-WR-CALNAME:Thames Yacht Club
X-ORIGINAL-URL:https://thamesyc.org
X-WR-CALDESC:Events for Thames Yacht Club
REFRESH-INTERVAL;VALUE=DURATION:PT1H
X-Robots-Tag:noindex
X-PUBLISHED-TTL:PT1H
BEGIN:VTIMEZONE
TZID:America/New_York
BEGIN:DAYLIGHT
TZOFFSETFROM:-0500
TZOFFSETTO:-0400
TZNAME:EDT
DTSTART:20190310T070000
END:DAYLIGHT
BEGIN:STANDARD
TZOFFSETFROM:-0400
TZOFFSETTO:-0500
TZNAME:EST
DTSTART:20191103T060000
END:STANDARD
BEGIN:DAYLIGHT
TZOFFSETFROM:-0500
TZOFFSETTO:-0400
TZNAME:EDT
DTSTART:20200308T070000
END:DAYLIGHT
BEGIN:STANDARD
TZOFFSETFROM:-0400
TZOFFSETTO:-0500
TZNAME:EST
DTSTART:20201101T060000
END:STANDARD
BEGIN:DAYLIGHT
TZOFFSETFROM:-0500
TZOFFSETTO:-0400
TZNAME:EDT
DTSTART:20210314T070000
END:DAYLIGHT
BEGIN:STANDARD
TZOFFSETFROM:-0400
TZOFFSETTO:-0500
TZNAME:EST
DTSTART:20211107T060000
END:STANDARD
BEGIN:DAYLIGHT
TZOFFSETFROM:-0500
TZOFFSETTO:-0400
TZNAME:EDT
DTSTART:20220313T070000
END:DAYLIGHT
BEGIN:STANDARD
TZOFFSETFROM:-0400
TZOFFSETTO:-0500
TZNAME:EST
DTSTART:20221106T060000
END:STANDARD
BEGIN:DAYLIGHT
TZOFFSETFROM:-0500
TZOFFSETTO:-0400
TZNAME:EDT
DTSTART:20230312T070000
END:DAYLIGHT
BEGIN:STANDARD
TZOFFSETFROM:-0400
TZOFFSETTO:-0500
TZNAME:EST
DTSTART:20231105T060000
END:STANDARD
END:VTIMEZONE
BEGIN:VEVENT
DTSTART;VALUE=DATE:20220710
DTEND;VALUE=DATE:20220713
DTSTAMP:20260424T003831
CREATED:20220301T155321Z
LAST-MODIFIED:20220301T155321Z
UID:10034779-1657411200-1657670399@thamesyc.org
SUMMARY:Block Island Mooring Reserved for S/V Blue Note and Billerina
DESCRIPTION:
URL:https://thamesyc.org/event/block-island-mooring-reserved-for-s-v-blue-note-and-billerina/
CATEGORIES:Block Island Mooring Reservation.
END:VEVENT
BEGIN:VEVENT
DTSTART;VALUE=DATE:20220708
DTEND;VALUE=DATE:20220710
DTSTAMP:20260424T003831
CREATED:20220606T123848Z
LAST-MODIFIED:20220606T123848Z
UID:10034784-1657238400-1657411199@thamesyc.org
SUMMARY:S/V VEGA on Block Island Mooring
DESCRIPTION:
URL:https://thamesyc.org/event/s-v-vega-on-block-island-mooring-2/
CATEGORIES:Block Island Mooring Reservation.
END:VEVENT
BEGIN:VEVENT
DTSTART;TZID=America/New_York:20220701T080000
DTEND;TZID=America/New_York:20220707T170000
DTSTAMP:20260424T003831
CREATED:20220116T224117Z
LAST-MODIFIED:20220116T224117Z
UID:10034675-1656662400-1657213200@thamesyc.org
SUMMARY:BI Mooring Reserved for S/V ARIES
DESCRIPTION:
URL:https://thamesyc.org/event/bi-mooring-reserved-for-s-v-aries/
CATEGORIES:Block Island Mooring Reservation.
END:VEVENT
BEGIN:VEVENT
DTSTART;TZID=America/New_York:20220701T080000
DTEND;TZID=America/New_York:20220705T170000
DTSTAMP:20260424T003831
CREATED:20220625T143753Z
LAST-MODIFIED:20220625T143753Z
UID:10034794-1656662400-1657040400@thamesyc.org
SUMMARY:Block Island Mooring Reserved for S/V VAMANOS
DESCRIPTION:
URL:https://thamesyc.org/event/block-island-mooring-reserved-for-s-v-vamanos/
CATEGORIES:Block Island Mooring Reservation.
END:VEVENT
BEGIN:VEVENT
DTSTART;VALUE=DATE:20220630
DTEND;VALUE=DATE:20220701
DTSTAMP:20260424T003831
CREATED:20220628T193934Z
LAST-MODIFIED:20220628T193934Z
UID:10034796-1656547200-1656633599@thamesyc.org
SUMMARY:Block Island Mooring Reserved for S/V ADELINE
DESCRIPTION:
URL:https://thamesyc.org/event/block-island-mooring-reserved-for-s-v-adeline-4/
CATEGORIES:Block Island Mooring Reservation.
END:VEVENT
BEGIN:VEVENT
DTSTART;VALUE=DATE:20220623
DTEND;VALUE=DATE:20220626
DTSTAMP:20260424T003831
CREATED:20220606T123647Z
LAST-MODIFIED:20220606T123647Z
UID:10034415-1655942400-1656201599@thamesyc.org
SUMMARY:S/V VEGA on Block Island Mooring
DESCRIPTION:
URL:https://thamesyc.org/event/s-v-vega-on-block-island-mooring/
CATEGORIES:Block Island Mooring Reservation.
END:VEVENT
BEGIN:VEVENT
DTSTART;VALUE=DATE:20220617
DTEND;VALUE=DATE:20220619
DTSTAMP:20260424T003831
CREATED:20220502T165705Z
LAST-MODIFIED:20220502T165705Z
UID:10034396-1655424000-1655596799@thamesyc.org
SUMMARY:Block Island Mooring Reserved for S/V SEE M.o II
DESCRIPTION:
URL:https://thamesyc.org/event/block-island-mooring-reserved-for-s-v-see-m-o-ii/
CATEGORIES:Block Island Mooring Reservation.
END:VEVENT
BEGIN:VEVENT
DTSTART;VALUE=DATE:20220610
DTEND;VALUE=DATE:20220612
DTSTAMP:20260424T003831
CREATED:20220527T224635Z
LAST-MODIFIED:20220527T224635Z
UID:10034405-1654819200-1654991999@thamesyc.org
SUMMARY:Block Island Mooring Reserved for S/V HERON
DESCRIPTION:
URL:https://thamesyc.org/event/block-island-mooring-reserved-for-s-v-heron/
CATEGORIES:Block Island Mooring Reservation.
END:VEVENT
BEGIN:VEVENT
DTSTART;TZID=America/New_York:20210919T080000
DTEND;TZID=America/New_York:20210920T170000
DTSTAMP:20260424T003831
CREATED:20210902T210151Z
LAST-MODIFIED:20210902T210151Z
UID:10034592-1632038400-1632157200@thamesyc.org
SUMMARY:Block Island Mooring Reserved for S/V Blue Note
DESCRIPTION:
URL:https://thamesyc.org/event/block-island-mooring-reserved-for-s-v-blue-note/
CATEGORIES:Block Island Mooring Reservation.
END:VEVENT
BEGIN:VEVENT
DTSTART;TZID=America/New_York:20210918T080000
DTEND;TZID=America/New_York:20210919T170000
DTSTAMP:20260424T003831
CREATED:20210831T222101Z
LAST-MODIFIED:20210831T222153Z
UID:10034591-1631952000-1632070800@thamesyc.org
SUMMARY:Block Island Mooring Reserved for S/V Adeline
DESCRIPTION:
URL:https://thamesyc.org/event/block-island-mooring-reserved-for-s-v-adeline-3/
CATEGORIES:Block Island Mooring Reservation.
END:VEVENT
BEGIN:VEVENT
DTSTART;TZID=America/New_York:20210903T080000
DTEND;TZID=America/New_York:20210907T170000
DTSTAMP:20260424T003831
CREATED:20210827T160516Z
LAST-MODIFIED:20210909T123515Z
UID:10034590-1630656000-1631034000@thamesyc.org
SUMMARY:Block Island Mooring Reserved for S/V Ledgelight and Making Waves
DESCRIPTION:
URL:https://thamesyc.org/event/block-island-mooring-reserved-for-s-v-ledgelight-and-making-waves/
CATEGORIES:Block Island Mooring Reservation.
END:VEVENT
BEGIN:VEVENT
DTSTART;TZID=America/New_York:20210825T080000
DTEND;TZID=America/New_York:20210829T170000
DTSTAMP:20260424T003831
CREATED:20210805T145740Z
LAST-MODIFIED:20210805T145740Z
UID:10034589-1629878400-1630256400@thamesyc.org
SUMMARY:Block Island Mooring Reserved for S/V Tequila
DESCRIPTION:
URL:https://thamesyc.org/event/block-island-mooring-reserved-for-s-v-tequila-3/
CATEGORIES:Block Island Mooring Reservation.
END:VEVENT
BEGIN:VEVENT
DTSTART;TZID=America/New_York:20210820T080000
DTEND;TZID=America/New_York:20210822T170000
DTSTAMP:20260424T003831
CREATED:20210601T130900Z
LAST-MODIFIED:20210601T131118Z
UID:10034556-1629446400-1629651600@thamesyc.org
SUMMARY:Block Island Mooring Reserved For S/V ADELINE
DESCRIPTION:
URL:https://thamesyc.org/event/block-island-mooring-reserved-for-s-v-adeline-2/
CATEGORIES:Block Island Mooring Reservation.
END:VEVENT
BEGIN:VEVENT
DTSTART;VALUE=DATE:20210807
DTEND;VALUE=DATE:20210815
DTSTAMP:20260424T003831
CREATED:20210726T144848Z
LAST-MODIFIED:20210727T232935Z
UID:10034586-1628294400-1628985599@thamesyc.org
SUMMARY:Block Island Mooring Reserved for S/V IDEMO
DESCRIPTION:
URL:https://thamesyc.org/event/block-island-mooring-reserved-for-s-v-idemo/
CATEGORIES:Block Island Mooring Reservation.
END:VEVENT
BEGIN:VEVENT
DTSTART;VALUE=DATE:20210730
DTEND;VALUE=DATE:20210802
DTSTAMP:20260424T003831
CREATED:20210727T233037Z
LAST-MODIFIED:20210727T233037Z
UID:10034587-1627603200-1627862399@thamesyc.org
SUMMARY:Block Island Mooring Reserved for S/V Born To Run
DESCRIPTION:
URL:https://thamesyc.org/event/block-island-mooring-reserved-for-s-v-born-to-run-2/
CATEGORIES:Block Island Mooring Reservation.
END:VEVENT
BEGIN:VEVENT
DTSTART;TZID=America/New_York:20210722T080000
DTEND;TZID=America/New_York:20210727T170000
DTSTAMP:20260424T003831
CREATED:20210726T144756Z
LAST-MODIFIED:20210726T144756Z
UID:10034585-1626940800-1627405200@thamesyc.org
SUMMARY:Block Island Mooring Reserved for S/V Blue Knight
DESCRIPTION:
URL:https://thamesyc.org/event/block-island-mooring-reserved-for-s-v-blue-knight/
CATEGORIES:Block Island Mooring Reservation.
END:VEVENT
BEGIN:VEVENT
DTSTART;VALUE=DATE:20210706
DTEND;VALUE=DATE:20210711
DTSTAMP:20260424T003831
CREATED:20210427T220124Z
LAST-MODIFIED:20210502T000732Z
UID:10034554-1625529600-1625961599@thamesyc.org
SUMMARY:Block Island Mooring Reserved for S/V TEQUILA
DESCRIPTION:
URL:https://thamesyc.org/event/block-island-mooring-reserved-for-s-v-tequila-2/
CATEGORIES:Block Island Mooring Reservation.
END:VEVENT
BEGIN:VEVENT
DTSTART;TZID=America/New_York:20210703T080000
DTEND;TZID=America/New_York:20210705T170000
DTSTAMP:20260424T003831
CREATED:20210316T220246Z
LAST-MODIFIED:20210316T220246Z
UID:10034514-1625299200-1625504400@thamesyc.org
SUMMARY:Block Island Mooring Jib and Tonic
DESCRIPTION:
URL:https://thamesyc.org/event/block-island-mooring-jib-and-tonic/
CATEGORIES:Block Island Mooring Reservation.
END:VEVENT
BEGIN:VEVENT
DTSTART;VALUE=DATE:20210703
DTEND;VALUE=DATE:20210706
DTSTAMP:20260424T003831
CREATED:20210315T003730Z
LAST-MODIFIED:20210315T003730Z
UID:10034513-1625270400-1625529599@thamesyc.org
SUMMARY:BI MOORING RESERVED FOR SV  LEDGELIGHT
DESCRIPTION:
URL:https://thamesyc.org/event/bi-mooring-reserved-for-sv-ledgelight/
CATEGORIES:Block Island Mooring Reservation.
END:VEVENT
BEGIN:VEVENT
DTSTART;TZID=America/New_York:20210701T080000
DTEND;TZID=America/New_York:20210702T170000
DTSTAMP:20260424T003831
CREATED:20210622T222646Z
LAST-MODIFIED:20210622T222646Z
UID:10034573-1625126400-1625245200@thamesyc.org
SUMMARY:Block Island Mooring Reserved for S/V Two Hours
DESCRIPTION:
URL:https://thamesyc.org/event/block-island-mooring-reserved-for-s-v-two-hours/
CATEGORIES:Block Island Mooring Reservation.
END:VEVENT
BEGIN:VEVENT
DTSTART;TZID=America/New_York:20210620T080000
DTEND;TZID=America/New_York:20210620T170000
DTSTAMP:20260424T003831
CREATED:20210622T222825Z
LAST-MODIFIED:20210622T222825Z
UID:10034574-1624176000-1624208400@thamesyc.org
SUMMARY:Block Island Mooring Reserved for S/V Ombre Rose
DESCRIPTION:
URL:https://thamesyc.org/event/block-island-mooring-reserved-for-s-v-ombre-rose/
CATEGORIES:Block Island Mooring Reservation.
END:VEVENT
BEGIN:VEVENT
DTSTART;VALUE=DATE:20200926
DTEND;VALUE=DATE:20200927
DTSTAMP:20260424T003831
CREATED:20200917T225354Z
LAST-MODIFIED:20200925T110336Z
UID:10034510-1601078400-1601164799@thamesyc.org
SUMMARY:Block Island Mooring Reserved for S/V TRILOGY
DESCRIPTION:
URL:https://thamesyc.org/event/block-island-mooring-reserved-for-s-v-trilogy/
CATEGORIES:Block Island Mooring Reservation.
END:VEVENT
BEGIN:VEVENT
DTSTART;VALUE=DATE:20200924
DTEND;VALUE=DATE:20200926
DTSTAMP:20260424T003831
CREATED:20200925T110512Z
LAST-MODIFIED:20200925T110512Z
UID:10034511-1600905600-1601078399@thamesyc.org
SUMMARY:Block Island Mooring Reserved for S/V REALITY
DESCRIPTION:
URL:https://thamesyc.org/event/block-island-mooring-reserved-for-s-v-reality-4/
CATEGORIES:Block Island Mooring Reservation.
END:VEVENT
BEGIN:VEVENT
DTSTART;VALUE=DATE:20200914
DTEND;VALUE=DATE:20200917
DTSTAMP:20260424T003831
CREATED:20200910T213328Z
LAST-MODIFIED:20200917T225035Z
UID:10034509-1600041600-1600300799@thamesyc.org
SUMMARY:Block Island Mooring Reserved for S/V LEDGELIGHT
DESCRIPTION:
URL:https://thamesyc.org/event/block-island-mooring-reserved-for-s-v-ledgelight/
CATEGORIES:Block Island Mooring Reservation.
END:VEVENT
BEGIN:VEVENT
DTSTART;VALUE=DATE:20200905
DTEND;VALUE=DATE:20200907
DTSTAMP:20260424T003831
CREATED:20200831T215426Z
LAST-MODIFIED:20200831T215426Z
UID:10034165-1599264000-1599436799@thamesyc.org
SUMMARY:Block Island Mooring Reserved for S/V AERIE
DESCRIPTION:
URL:https://thamesyc.org/event/block-island-mooring-reserved-for-s-v-aerie-2/
CATEGORIES:Block Island Mooring Reservation.
END:VEVENT
BEGIN:VEVENT
DTSTART;TZID=America/New_York:20200828T080000
DTEND;TZID=America/New_York:20200829T170000
DTSTAMP:20260424T003831
CREATED:20200729T101124Z
LAST-MODIFIED:20200729T101124Z
UID:10034161-1598601600-1598720400@thamesyc.org
SUMMARY:Block Island Mooring Reserved for S/V MAKING WAVES
DESCRIPTION:
URL:https://thamesyc.org/event/block-island-mooring-reserved-for-s-v-making-waves/
CATEGORIES:Block Island Mooring Reservation.
END:VEVENT
BEGIN:VEVENT
DTSTART;TZID=America/New_York:20200815T080000
DTEND;TZID=America/New_York:20200816T233000
DTSTAMP:20260424T003831
CREATED:20200729T232937Z
LAST-MODIFIED:20200729T233205Z
UID:10034163-1597478400-1597620600@thamesyc.org
SUMMARY:Block Island Mooring Reserved for S/V VOYAGER
DESCRIPTION:
URL:https://thamesyc.org/event/block-island-mooring-reserved-for-s-v-voyager-2/
CATEGORIES:Block Island Mooring Reservation.
END:VEVENT
BEGIN:VEVENT
DTSTART;TZID=America/New_York:20200809T080000
DTEND;TZID=America/New_York:20200809T170000
DTSTAMP:20260424T003831
CREATED:20200627T133943Z
LAST-MODIFIED:20200627T133943Z
UID:10034488-1596960000-1596992400@thamesyc.org
SUMMARY:Block Island Mooring reserved for S/V  AERIE
DESCRIPTION:
URL:https://thamesyc.org/event/block-island-mooring-reserved-for-s-v-aerie/
CATEGORIES:Block Island Mooring Reservation.
END:VEVENT
BEGIN:VEVENT
DTSTART;VALUE=DATE:20200807
DTEND;VALUE=DATE:20200808
DTSTAMP:20260424T003831
CREATED:20200807T114252Z
LAST-MODIFIED:20200807T114252Z
UID:10034164-1596758400-1596844799@thamesyc.org
SUMMARY:Block Island Mooring Reserved for S/V VOYAGER
DESCRIPTION:
URL:https://thamesyc.org/event/block-island-mooring-reserved-for-s-v-voyager-3/
CATEGORIES:Block Island Mooring Reservation.
END:VEVENT
BEGIN:VEVENT
DTSTART;TZID=America/New_York:20200805T080000
DTEND;TZID=America/New_York:20200806T233000
DTSTAMP:20260424T003831
CREATED:20200729T232852Z
LAST-MODIFIED:20200729T232852Z
UID:10034162-1596614400-1596756600@thamesyc.org
SUMMARY:Block Island Mooring Reserved for S/V VOYAGER
DESCRIPTION:
URL:https://thamesyc.org/event/block-island-mooring-reserved-for-s-v-voyager/
CATEGORIES:Block Island Mooring Reservation.
END:VEVENT
END:VCALENDAR