BEGIN:VCALENDAR
VERSION:2.0
PRODID:-//Thames Yacht Club - ECPv6.15.17//NONSGML v1.0//EN
CALSCALE:GREGORIAN
METHOD:PUBLISH
X-WR-CALNAME:Thames Yacht Club
X-ORIGINAL-URL:https://thamesyc.org
X-WR-CALDESC:Events for Thames Yacht Club
REFRESH-INTERVAL;VALUE=DURATION:PT1H
X-Robots-Tag:noindex
X-PUBLISHED-TTL:PT1H
BEGIN:VTIMEZONE
TZID:America/New_York
BEGIN:DAYLIGHT
TZOFFSETFROM:-0500
TZOFFSETTO:-0400
TZNAME:EDT
DTSTART:20220313T070000
END:DAYLIGHT
BEGIN:STANDARD
TZOFFSETFROM:-0400
TZOFFSETTO:-0500
TZNAME:EST
DTSTART:20221106T060000
END:STANDARD
BEGIN:DAYLIGHT
TZOFFSETFROM:-0500
TZOFFSETTO:-0400
TZNAME:EDT
DTSTART:20230312T070000
END:DAYLIGHT
BEGIN:STANDARD
TZOFFSETFROM:-0400
TZOFFSETTO:-0500
TZNAME:EST
DTSTART:20231105T060000
END:STANDARD
BEGIN:DAYLIGHT
TZOFFSETFROM:-0500
TZOFFSETTO:-0400
TZNAME:EDT
DTSTART:20240310T070000
END:DAYLIGHT
BEGIN:STANDARD
TZOFFSETFROM:-0400
TZOFFSETTO:-0500
TZNAME:EST
DTSTART:20241103T060000
END:STANDARD
BEGIN:DAYLIGHT
TZOFFSETFROM:-0500
TZOFFSETTO:-0400
TZNAME:EDT
DTSTART:20250309T070000
END:DAYLIGHT
BEGIN:STANDARD
TZOFFSETFROM:-0400
TZOFFSETTO:-0500
TZNAME:EST
DTSTART:20251102T060000
END:STANDARD
BEGIN:DAYLIGHT
TZOFFSETFROM:-0500
TZOFFSETTO:-0400
TZNAME:EDT
DTSTART:20260308T070000
END:DAYLIGHT
BEGIN:STANDARD
TZOFFSETFROM:-0400
TZOFFSETTO:-0500
TZNAME:EST
DTSTART:20261101T060000
END:STANDARD
END:VTIMEZONE
BEGIN:VEVENT
DTSTART;VALUE=DATE:20250621
DTEND;VALUE=DATE:20250623
DTSTAMP:20260423T180636
CREATED:20250624T234044Z
LAST-MODIFIED:20250624T234044Z
UID:10039392-1750464000-1750636799@thamesyc.org
SUMMARY:BI Mooring - Adeline
DESCRIPTION:
URL:https://thamesyc.org/event/bi-mooring-adeline-2/
CATEGORIES:Block Island Mooring Reservation.
END:VEVENT
BEGIN:VEVENT
DTSTART;TZID=America/New_York:20250613T080000
DTEND;TZID=America/New_York:20250614T170000
DTSTAMP:20260423T180636
CREATED:20250302T201429Z
LAST-MODIFIED:20250302T201429Z
UID:10039312-1749801600-1749920400@thamesyc.org
SUMMARY:Adamson
DESCRIPTION:
URL:https://thamesyc.org/event/adamson/
CATEGORIES:Block Island Mooring Reservation.
END:VEVENT
BEGIN:VEVENT
DTSTART;VALUE=DATE:20240825
DTEND;VALUE=DATE:20240831
DTSTAMP:20260423T180636
CREATED:20240715T214331Z
LAST-MODIFIED:20240715T214331Z
UID:10038820-1724544000-1725062399@thamesyc.org
SUMMARY:Block Island Mooring Reserved for S/V Ledgelight
DESCRIPTION:
URL:https://thamesyc.org/event/block-island-mooring-reserved-for-s-v-ledgelight-6/
CATEGORIES:Block Island Mooring Reservation.
END:VEVENT
BEGIN:VEVENT
DTSTART;VALUE=DATE:20240808
DTEND;VALUE=DATE:20240818
DTSTAMP:20260423T180636
CREATED:20240724T221159Z
LAST-MODIFIED:20240724T221159Z
UID:10038822-1723075200-1723939199@thamesyc.org
SUMMARY:Block Island Mooring Reserved for S/V ADELINE
DESCRIPTION:
URL:https://thamesyc.org/event/block-island-mooring-reserved-for-s-v-adeline-7/
CATEGORIES:Block Island Mooring Reservation.
END:VEVENT
BEGIN:VEVENT
DTSTART;VALUE=DATE:20240723
DTEND;VALUE=DATE:20240725
DTSTAMP:20260423T180636
CREATED:20240628T024336Z
LAST-MODIFIED:20240628T024336Z
UID:10038488-1721692800-1721865599@thamesyc.org
SUMMARY:Block Island Mooring Reserved for S/V BILLERINA and JIB and TONIC
DESCRIPTION:
URL:https://thamesyc.org/event/block-island-mooring-reserved-for-s-v-billerina-and-jib-and-tonic/
CATEGORIES:Block Island Mooring Reservation.
END:VEVENT
BEGIN:VEVENT
DTSTART;VALUE=DATE:20240719
DTEND;VALUE=DATE:20240721
DTSTAMP:20260423T180636
CREATED:20240711T133418Z
LAST-MODIFIED:20240716T205046Z
UID:10038819-1721347200-1721519999@thamesyc.org
SUMMARY:Block Island Mooring Reserved for S/V TILLER the HUN and VEGA
DESCRIPTION:
URL:https://thamesyc.org/event/block-island-mooring-reserved-for-s-v-tiller-the-hun-and-vega/
CATEGORIES:Block Island Mooring Reservation.
END:VEVENT
BEGIN:VEVENT
DTSTART;VALUE=DATE:20240714
DTEND;VALUE=DATE:20240719
DTSTAMP:20260423T180636
CREATED:20240716T205202Z
LAST-MODIFIED:20240716T205202Z
UID:10038821-1720915200-1721347199@thamesyc.org
SUMMARY:Block Island Mooring Reserved for S/V VEGA
DESCRIPTION:
URL:https://thamesyc.org/event/block-island-mooring-reserved-for-s-v-vega-4/
CATEGORIES:Block Island Mooring Reservation.
END:VEVENT
BEGIN:VEVENT
DTSTART;VALUE=DATE:20240710
DTEND;VALUE=DATE:20240715
DTSTAMP:20260423T180636
CREATED:20240711T133255Z
LAST-MODIFIED:20240711T133255Z
UID:10038818-1720569600-1721001599@thamesyc.org
SUMMARY:Block Island Mooring Reserved for S/V OMBRE ROSE
DESCRIPTION:
URL:https://thamesyc.org/event/block-island-mooring-reserved-for-s-v-ombre-rose-2/
CATEGORIES:Block Island Mooring Reservation.
END:VEVENT
BEGIN:VEVENT
DTSTART;VALUE=DATE:20240704
DTEND;VALUE=DATE:20240705
DTSTAMP:20260423T180636
CREATED:20240515T222503Z
LAST-MODIFIED:20240515T222503Z
UID:10036801-1720051200-1720137599@thamesyc.org
SUMMARY:Block Island Mooring Reserved for S/V VEGA 2nd boat on mooring
DESCRIPTION:
URL:https://thamesyc.org/event/block-island-mooring-reserved-for-s-v-vega-2nd-boat-on-mooring/
CATEGORIES:Block Island Mooring Reservation.
END:VEVENT
BEGIN:VEVENT
DTSTART;VALUE=DATE:20240701
DTEND;VALUE=DATE:20240707
DTSTAMP:20260423T180636
CREATED:20240422T231940Z
LAST-MODIFIED:20240422T232204Z
UID:10036797-1719792000-1720310399@thamesyc.org
SUMMARY:Block Island Mooring Reserved for S/V TAYLOR MARIE
DESCRIPTION:
URL:https://thamesyc.org/event/block-island-mooring-reserved-for-s-v-taylor-marie/
CATEGORIES:Block Island Mooring Reservation.
END:VEVENT
BEGIN:VEVENT
DTSTART;VALUE=DATE:20240629
DTEND;VALUE=DATE:20240704
DTSTAMP:20260423T180636
CREATED:20240422T232116Z
LAST-MODIFIED:20240422T232116Z
UID:10036798-1719619200-1720051199@thamesyc.org
SUMMARY:Block Island Mooring Reserved for S/V VEGA
DESCRIPTION:
URL:https://thamesyc.org/event/block-island-mooring-reserved-for-s-v-vega-3/
CATEGORIES:Block Island Mooring Reservation.
END:VEVENT
BEGIN:VEVENT
DTSTART;VALUE=DATE:20240628
DTEND;VALUE=DATE:20240701
DTSTAMP:20260423T180636
CREATED:20240618T212702Z
LAST-MODIFIED:20240618T212702Z
UID:10038487-1719532800-1719791999@thamesyc.org
SUMMARY:Block Island Mooring Reserved for S/V SLO MO II
DESCRIPTION:
URL:https://thamesyc.org/event/block-island-mooring-reserved-for-s-v-slo-mo-ii/
CATEGORIES:Block Island Mooring Reservation.
END:VEVENT
BEGIN:VEVENT
DTSTART;VALUE=DATE:20240614
DTEND;VALUE=DATE:20240616
DTSTAMP:20260423T180636
CREATED:20240615T214639Z
LAST-MODIFIED:20240615T214639Z
UID:10038486-1718323200-1718495999@thamesyc.org
SUMMARY:Block Island Mooring reserved for S/V ADELINE
DESCRIPTION:
URL:https://thamesyc.org/event/block-island-mooring-reserved-for-s-v-adeline-8/
CATEGORIES:Block Island Mooring Reservation.
END:VEVENT
BEGIN:VEVENT
DTSTART;VALUE=DATE:20240607
DTEND;VALUE=DATE:20240611
DTSTAMP:20260423T180636
CREATED:20240121T154726Z
LAST-MODIFIED:20240604T142220Z
UID:10036786-1717718400-1718063999@thamesyc.org
SUMMARY:Block Island Mooring Reserved for S/V ARIES
DESCRIPTION:
URL:https://thamesyc.org/event/block-island-mooring-reserved-for-s-v-aries-2/
CATEGORIES:Block Island Mooring Reservation.
END:VEVENT
BEGIN:VEVENT
DTSTART;VALUE=DATE:20240606
DTEND;VALUE=DATE:20240608
DTSTAMP:20260423T180636
CREATED:20240422T212810Z
LAST-MODIFIED:20240422T230826Z
UID:10036796-1717632000-1717804799@thamesyc.org
SUMMARY:Block Island Mooring Reserved for S/V FRIENDSHIP
DESCRIPTION:
URL:https://thamesyc.org/event/block-island-mooring-reserved-for-s-v-roy-a/
CATEGORIES:Block Island Mooring Reservation.
END:VEVENT
BEGIN:VEVENT
DTSTART;VALUE=DATE:20240524
DTEND;VALUE=DATE:20240525
DTSTAMP:20260423T180636
CREATED:20240528T132858Z
LAST-MODIFIED:20240528T132944Z
UID:10036805-1716508800-1716595199@thamesyc.org
SUMMARY:Block Island Mooring Reserved for S/V Born To Run
DESCRIPTION:
URL:https://thamesyc.org/event/block-island-mooring-reserved-for-s-v-born-to-run-4/
CATEGORIES:Block Island Mooring Reservation.
END:VEVENT
BEGIN:VEVENT
DTSTART;VALUE=DATE:20230917
DTEND;VALUE=DATE:20230922
DTSTAMP:20260423T180636
CREATED:20230509T222504Z
LAST-MODIFIED:20230509T222504Z
UID:10035787-1694908800-1695340799@thamesyc.org
SUMMARY:Block Island Mooring Reserved for S/V LEDGELIGHT
DESCRIPTION:
URL:https://thamesyc.org/event/block-island-mooring-reserved-for-s-v-ledgelight-4/
CATEGORIES:Block Island Mooring Reservation.
END:VEVENT
BEGIN:VEVENT
DTSTART;VALUE=DATE:20230828
DTEND;VALUE=DATE:20230903
DTSTAMP:20260423T180636
CREATED:20230829T142245Z
LAST-MODIFIED:20230829T142245Z
UID:10036291-1693180800-1693699199@thamesyc.org
SUMMARY:Block Island Mooring Reserved for S/V BORN TO RUN
DESCRIPTION:
URL:https://thamesyc.org/event/block-island-mooring-reserved-for-s-v-born-to-run-3/
CATEGORIES:Block Island Mooring Reservation.
END:VEVENT
BEGIN:VEVENT
DTSTART;VALUE=DATE:20230825
DTEND;VALUE=DATE:20230827
DTSTAMP:20260423T180636
CREATED:20230826T144335Z
LAST-MODIFIED:20230826T144335Z
UID:10036290-1692921600-1693094399@thamesyc.org
SUMMARY:Block Island Mooring  - Jib & Tonic
DESCRIPTION:
URL:https://thamesyc.org/event/block-island-mooring-jib-tonic/
CATEGORIES:Block Island Mooring Reservation.
END:VEVENT
BEGIN:VEVENT
DTSTART;VALUE=DATE:20230820
DTEND;VALUE=DATE:20230827
DTSTAMP:20260423T180636
CREATED:20230722T165650Z
LAST-MODIFIED:20230722T165650Z
UID:10036283-1692489600-1693094399@thamesyc.org
SUMMARY:Block Island Mooring Reserved for S/V IDEMO
DESCRIPTION:
URL:https://thamesyc.org/event/block-island-mooring-reserved-for-s-v-idemo-2/
CATEGORIES:Block Island Mooring Reservation.
END:VEVENT
BEGIN:VEVENT
DTSTART;VALUE=DATE:20230817
DTEND;VALUE=DATE:20230824
DTSTAMP:20260423T180636
CREATED:20230731T155526Z
LAST-MODIFIED:20230731T155526Z
UID:10036286-1692230400-1692835199@thamesyc.org
SUMMARY:Block Island Mooring Reserved for S/V Making Waves
DESCRIPTION:
URL:https://thamesyc.org/event/block-island-mooring-reserved-for-s-v-making-waves-3/
CATEGORIES:Block Island Mooring Reservation.
END:VEVENT
BEGIN:VEVENT
DTSTART;VALUE=DATE:20230808
DTEND;VALUE=DATE:20230812
DTSTAMP:20260423T180636
CREATED:20230625T213439Z
LAST-MODIFIED:20230706T205753Z
UID:10036272-1691452800-1691798399@thamesyc.org
SUMMARY:Block Island Mooring Reserved for S/V LEDGELIGHT S/V Blue Note will be rafting
DESCRIPTION:
URL:https://thamesyc.org/event/block-island-mooring-reserved-for-s-v-ledgelight-5/
CATEGORIES:Block Island Mooring Reservation.
END:VEVENT
BEGIN:VEVENT
DTSTART;VALUE=DATE:20230804
DTEND;VALUE=DATE:20230806
DTSTAMP:20260423T180636
CREATED:20230803T172406Z
LAST-MODIFIED:20230803T172406Z
UID:10036288-1691107200-1691279999@thamesyc.org
SUMMARY:Block Island Mooring reserved for S/V XCELLENT
DESCRIPTION:
URL:https://thamesyc.org/event/block-island-mooring-reserved-for-s-v-xcellent/
CATEGORIES:Block Island Mooring Reservation.
END:VEVENT
BEGIN:VEVENT
DTSTART;VALUE=DATE:20230801
DTEND;VALUE=DATE:20230802
DTSTAMP:20260423T180636
CREATED:20230801T122537Z
LAST-MODIFIED:20230801T122537Z
UID:10036287-1690848000-1690934399@thamesyc.org
SUMMARY:Block Island Mooring Resevered for S/V VEGA
DESCRIPTION:
URL:https://thamesyc.org/event/block-island-mooring-resevered-for-s-v-vega/
CATEGORIES:Block Island Mooring Reservation.
END:VEVENT
BEGIN:VEVENT
DTSTART;VALUE=DATE:20230728
DTEND;VALUE=DATE:20230730
DTSTAMP:20260423T180636
CREATED:20230726T151423Z
LAST-MODIFIED:20230726T151423Z
UID:10036285-1690502400-1690675199@thamesyc.org
SUMMARY:Block Island Mooring Reserved for S/V SEA MO II
DESCRIPTION:
URL:https://thamesyc.org/event/block-island-mooring-reserved-for-s-v-sea-mo-ii-2/
CATEGORIES:Block Island Mooring Reservation.
END:VEVENT
BEGIN:VEVENT
DTSTART;VALUE=DATE:20230719
DTEND;VALUE=DATE:20230723
DTSTAMP:20260423T180636
CREATED:20230722T165526Z
LAST-MODIFIED:20230722T165526Z
UID:10036282-1689724800-1690070399@thamesyc.org
SUMMARY:Block Island Mooring Reserved for S/V Vega
DESCRIPTION:
URL:https://thamesyc.org/event/block-island-mooring-reserved-for-s-v-vega-2/
CATEGORIES:Block Island Mooring Reservation.
END:VEVENT
BEGIN:VEVENT
DTSTART;VALUE=DATE:20230714
DTEND;VALUE=DATE:20230716
DTSTAMP:20260423T180636
CREATED:20230701T235836Z
LAST-MODIFIED:20230701T235836Z
UID:10036273-1689292800-1689465599@thamesyc.org
SUMMARY:Block Island Mooring Reserved for S/V ADELINE
DESCRIPTION:
URL:https://thamesyc.org/event/block-island-mooring-reserved-for-s-v-adeline-6/
CATEGORIES:Block Island Mooring Reservation.
END:VEVENT
BEGIN:VEVENT
DTSTART;VALUE=DATE:20230703
DTEND;VALUE=DATE:20230705
DTSTAMP:20260423T180636
CREATED:20230422T113350Z
LAST-MODIFIED:20230422T113350Z
UID:10035783-1688342400-1688515199@thamesyc.org
SUMMARY:Block Island Mooring Rsvd for SV BILLERINA and BLUE NOTE
DESCRIPTION:
URL:https://thamesyc.org/event/block-island-mooring-rsvd-for-sv-billerina-and-blue-note/
CATEGORIES:Block Island Mooring Reservation.
END:VEVENT
BEGIN:VEVENT
DTSTART;VALUE=DATE:20230609
DTEND;VALUE=DATE:20230612
DTSTAMP:20260423T180636
CREATED:20230422T113020Z
LAST-MODIFIED:20230523T203425Z
UID:10035781-1686268800-1686527999@thamesyc.org
SUMMARY:Block Island Mooring Rsvd for SV ARIES
DESCRIPTION:
URL:https://thamesyc.org/event/block-island-mooring-rsvd-for-sv-aries/
CATEGORIES:Block Island Mooring Reservation.
END:VEVENT
BEGIN:VEVENT
DTSTART;VALUE=DATE:20230609
DTEND;VALUE=DATE:20230611
DTSTAMP:20260423T180636
CREATED:20230422T113152Z
LAST-MODIFIED:20230422T113152Z
UID:10035782-1686268800-1686441599@thamesyc.org
SUMMARY:Block Island Mooring Rsvd for SV FRIENDSHIP
DESCRIPTION:
URL:https://thamesyc.org/event/block-island-mooring-rsvd-for-sv-friendship/
CATEGORIES:Block Island Mooring Reservation.
END:VEVENT
END:VCALENDAR