BEGIN:VCALENDAR
VERSION:2.0
PRODID:-//Thames Yacht Club - ECPv6.15.17//NONSGML v1.0//EN
CALSCALE:GREGORIAN
METHOD:PUBLISH
X-WR-CALNAME:Thames Yacht Club
X-ORIGINAL-URL:https://thamesyc.org
X-WR-CALDESC:Events for Thames Yacht Club
REFRESH-INTERVAL;VALUE=DURATION:PT1H
X-Robots-Tag:noindex
X-PUBLISHED-TTL:PT1H
BEGIN:VTIMEZONE
TZID:America/New_York
BEGIN:DAYLIGHT
TZOFFSETFROM:-0500
TZOFFSETTO:-0400
TZNAME:EDT
DTSTART:20150308T070000
END:DAYLIGHT
BEGIN:STANDARD
TZOFFSETFROM:-0400
TZOFFSETTO:-0500
TZNAME:EST
DTSTART:20151101T060000
END:STANDARD
BEGIN:DAYLIGHT
TZOFFSETFROM:-0500
TZOFFSETTO:-0400
TZNAME:EDT
DTSTART:20160313T070000
END:DAYLIGHT
BEGIN:STANDARD
TZOFFSETFROM:-0400
TZOFFSETTO:-0500
TZNAME:EST
DTSTART:20161106T060000
END:STANDARD
BEGIN:DAYLIGHT
TZOFFSETFROM:-0500
TZOFFSETTO:-0400
TZNAME:EDT
DTSTART:20170312T070000
END:DAYLIGHT
BEGIN:STANDARD
TZOFFSETFROM:-0400
TZOFFSETTO:-0500
TZNAME:EST
DTSTART:20171105T060000
END:STANDARD
BEGIN:DAYLIGHT
TZOFFSETFROM:-0500
TZOFFSETTO:-0400
TZNAME:EDT
DTSTART:20180311T070000
END:DAYLIGHT
BEGIN:STANDARD
TZOFFSETFROM:-0400
TZOFFSETTO:-0500
TZNAME:EST
DTSTART:20181104T060000
END:STANDARD
BEGIN:DAYLIGHT
TZOFFSETFROM:-0500
TZOFFSETTO:-0400
TZNAME:EDT
DTSTART:20190310T070000
END:DAYLIGHT
BEGIN:STANDARD
TZOFFSETFROM:-0400
TZOFFSETTO:-0500
TZNAME:EST
DTSTART:20191103T060000
END:STANDARD
END:VTIMEZONE
BEGIN:VEVENT
DTSTART;TZID=America/New_York:20181031T080000
DTEND;TZID=America/New_York:20181031T170000
DTSTAMP:20260424T084957
CREATED:20180414T223938Z
LAST-MODIFIED:20180414T223938Z
UID:10034127-1540972800-1541005200@thamesyc.org
SUMMARY:xxx
DESCRIPTION:
URL:https://thamesyc.org/event/xxx/
CATEGORIES:Block Island Mooring Reservation.
END:VEVENT
BEGIN:VEVENT
DTSTART;TZID=America/New_York:20180617T080000
DTEND;TZID=America/New_York:20180622T170000
DTSTAMP:20260424T084957
CREATED:20180412T145216Z
LAST-MODIFIED:20180412T145216Z
UID:10034192-1529222400-1529686800@thamesyc.org
SUMMARY:Block Island Mooring - David Knect
DESCRIPTION:
URL:https://thamesyc.org/event/block-island-mooring-david-knect/
LOCATION:Block Island\, 40 Center Road\, Block Island\, RI\, 02807\, United States
CATEGORIES:Block Island Mooring Reservation.
GEO:41.1713756;-71.5794856
X-APPLE-STRUCTURED-LOCATION;VALUE=URI;X-ADDRESS=Block Island 40 Center Road Block Island RI 02807 United States;X-APPLE-RADIUS=500;X-TITLE=40 Center Road:geo:-71.5794856,41.1713756
END:VEVENT
BEGIN:VEVENT
DTSTART;VALUE=DATE:20180608
DTEND;VALUE=DATE:20180610
DTSTAMP:20260424T084957
CREATED:20180312T194941Z
LAST-MODIFIED:20180312T194941Z
UID:10034143-1528416000-1528588799@thamesyc.org
SUMMARY:Block Island Mooring Reserved - Ted Paulsen
DESCRIPTION:Block Island Mooring Reserved for Ted Paulsen
URL:https://thamesyc.org/event/block-island-mooring-reserved-ted-paulsen/
LOCATION:Block Island\, 40 Center Road\, Block Island\, RI\, 02807\, United States
CATEGORIES:Block Island Mooring Reservation.
GEO:41.1713756;-71.5794856
X-APPLE-STRUCTURED-LOCATION;VALUE=URI;X-ADDRESS=Block Island 40 Center Road Block Island RI 02807 United States;X-APPLE-RADIUS=500;X-TITLE=40 Center Road:geo:-71.5794856,41.1713756
END:VEVENT
BEGIN:VEVENT
DTSTART;VALUE=DATE:20170923
DTEND;VALUE=DATE:20170925
DTSTAMP:20260424T084957
CREATED:20170805T222148Z
LAST-MODIFIED:20170813T221120Z
UID:10033794-1506124800-1506297599@thamesyc.org
SUMMARY:Block Island Mooring Reserved for S/V CAPER
DESCRIPTION:
URL:https://thamesyc.org/event/block-island-mooring-reserved-for-sv-caper/
CATEGORIES:Block Island Mooring Reservation.
END:VEVENT
BEGIN:VEVENT
DTSTART;VALUE=DATE:20170922
DTEND;VALUE=DATE:20170924
DTSTAMP:20260424T084957
CREATED:20170522T212905Z
LAST-MODIFIED:20170522T212905Z
UID:10034113-1506038400-1506211199@thamesyc.org
SUMMARY:Block Island Mooring reserved for S/V ATALANTA
DESCRIPTION:
URL:https://thamesyc.org/event/block-island-mooring-reserved-for-sv-atalanta/
CATEGORIES:Block Island Mooring Reservation.
END:VEVENT
BEGIN:VEVENT
DTSTART;VALUE=DATE:20170901
DTEND;VALUE=DATE:20170904
DTSTAMP:20260424T084957
CREATED:20170527T151617Z
LAST-MODIFIED:20170527T151617Z
UID:10034125-1504224000-1504483199@thamesyc.org
SUMMARY:Block Island Mooring reserved for S/V AVANTI
DESCRIPTION:
URL:https://thamesyc.org/event/block-island-mooring-reserved-for-sv-avanti-2/
CATEGORIES:Block Island Mooring Reservation.
END:VEVENT
BEGIN:VEVENT
DTSTART;VALUE=DATE:20170826
DTEND;VALUE=DATE:20170828
DTSTAMP:20260424T084957
CREATED:20170117T144832Z
LAST-MODIFIED:20170825T123835Z
UID:10033960-1503705600-1503878399@thamesyc.org
SUMMARY:Block Island Mooring Reserved for S/V RYAN's LUCK
DESCRIPTION:
URL:https://thamesyc.org/event/block-island-mooring-reserved-for-the-tyc-annual-cruise/
CATEGORIES:Block Island Mooring Reservation.
END:VEVENT
BEGIN:VEVENT
DTSTART;TZID=America/New_York:20170819T080000
DTEND;TZID=America/New_York:20170820T170000
DTSTAMP:20260424T084957
CREATED:20170719T211549Z
LAST-MODIFIED:20170719T211549Z
UID:10034140-1503129600-1503248400@thamesyc.org
SUMMARY:Block Island Mooring Reserved for S/V ADELINE
DESCRIPTION:
URL:https://thamesyc.org/event/block-island-mooring-reserved-for-sv-adeline-2/
CATEGORIES:Block Island Mooring Reservation.
END:VEVENT
BEGIN:VEVENT
DTSTART;VALUE=DATE:20170808
DTEND;VALUE=DATE:20170811
DTSTAMP:20260424T084957
CREATED:20170810T184033Z
LAST-MODIFIED:20170810T184033Z
UID:10033796-1502150400-1502409599@thamesyc.org
SUMMARY:Block Island Mooring Reserved for S/V VAMANOS
DESCRIPTION:
URL:https://thamesyc.org/event/block-island-mooring-reserved-for-sv-vamanos/
CATEGORIES:Block Island Mooring Reservation.
END:VEVENT
BEGIN:VEVENT
DTSTART;TZID=America/New_York:20170804T080000
DTEND;TZID=America/New_York:20170805T170000
DTSTAMP:20260424T084957
CREATED:20170301T152804Z
LAST-MODIFIED:20170301T152804Z
UID:10033749-1501833600-1501952400@thamesyc.org
SUMMARY:Block Island Mooring reserved for S/V TWO HOURS
DESCRIPTION:
URL:https://thamesyc.org/event/block-island-mooring-reserved-for-sv-two-hours/
CATEGORIES:Block Island Mooring Reservation.
END:VEVENT
BEGIN:VEVENT
DTSTART;VALUE=DATE:20170728
DTEND;VALUE=DATE:20170730
DTSTAMP:20260424T084957
CREATED:20170628T211826Z
LAST-MODIFIED:20170628T211826Z
UID:10034137-1501200000-1501372799@thamesyc.org
SUMMARY:Block Island Mooring Reserved for S/V VOYAGER
DESCRIPTION:
URL:https://thamesyc.org/event/block-island-mooring-reserved-for-sv-voyager-4/
CATEGORIES:Block Island Mooring Reservation.
END:VEVENT
BEGIN:VEVENT
DTSTART;VALUE=DATE:20170727
DTEND;VALUE=DATE:20170728
DTSTAMP:20260424T084957
CREATED:20170722T115204Z
LAST-MODIFIED:20170722T115204Z
UID:10034141-1501113600-1501199999@thamesyc.org
SUMMARY:Block Island Mooring Reserved S/V LOLA
DESCRIPTION:
URL:https://thamesyc.org/event/block-island-mooring-reserved-sv-lola-2/
CATEGORIES:Block Island Mooring Reservation.
END:VEVENT
BEGIN:VEVENT
DTSTART;VALUE=DATE:20170725
DTEND;VALUE=DATE:20170727
DTSTAMP:20260424T084957
CREATED:20170722T115958Z
LAST-MODIFIED:20170722T115958Z
UID:10034142-1500940800-1501113599@thamesyc.org
SUMMARY:Block Island Mooring Reserved for S/V THRASHER
DESCRIPTION:
URL:https://thamesyc.org/event/block-island-mooring-reserved-for-sv-thrasher/
CATEGORIES:Block Island Mooring Reservation.
END:VEVENT
BEGIN:VEVENT
DTSTART;VALUE=DATE:20170720
DTEND;VALUE=DATE:20170723
DTSTAMP:20260424T084957
CREATED:20170712T004911Z
LAST-MODIFIED:20170712T004911Z
UID:10034138-1500508800-1500767999@thamesyc.org
SUMMARY:Block Island Mooring Reserved for S/V La Barca
DESCRIPTION:
URL:https://thamesyc.org/event/block-island-mooring-reserved-for-sv-la-barca/
CATEGORIES:Block Island Mooring Reservation.
END:VEVENT
BEGIN:VEVENT
DTSTART;TZID=America/New_York:20170716T080000
DTEND;TZID=America/New_York:20170718T170000
DTSTAMP:20260424T084957
CREATED:20170516T223848Z
LAST-MODIFIED:20170516T223848Z
UID:10034111-1500192000-1500397200@thamesyc.org
SUMMARY:Block Island mooring reserved for S/V Pinga
DESCRIPTION:
URL:https://thamesyc.org/event/block-island-mooring-reserved-for-sv-pinga/
CATEGORIES:Block Island Mooring Reservation.
END:VEVENT
BEGIN:VEVENT
DTSTART;VALUE=DATE:20170714
DTEND;VALUE=DATE:20170716
DTSTAMP:20260424T084957
CREATED:20170527T151436Z
LAST-MODIFIED:20170527T151436Z
UID:10034123-1499990400-1500163199@thamesyc.org
SUMMARY:Block Island Mooring reserved for S/V AVANTI
DESCRIPTION:
URL:https://thamesyc.org/event/block-island-mooring-reserved-for-sv-avanti/
CATEGORIES:Block Island Mooring Reservation.
END:VEVENT
BEGIN:VEVENT
DTSTART;TZID=America/New_York:20170709T080000
DTEND;TZID=America/New_York:20170710T170000
DTSTAMP:20260424T084957
CREATED:20170614T210013Z
LAST-MODIFIED:20170620T195630Z
UID:10034132-1499587200-1499706000@thamesyc.org
SUMMARY:Block Island Mooring Reserved for S/V PALLAS CAT
DESCRIPTION:
URL:https://thamesyc.org/event/block-island-mooring-reserved-for-sv-palacat/
CATEGORIES:Block Island Mooring Reservation.
END:VEVENT
BEGIN:VEVENT
DTSTART;VALUE=DATE:20170707
DTEND;VALUE=DATE:20170709
DTSTAMP:20260424T084957
CREATED:20170513T173813Z
LAST-MODIFIED:20170513T173813Z
UID:10034109-1499385600-1499558399@thamesyc.org
SUMMARY:Block Island Mooring reserved for SV Matou
DESCRIPTION:
URL:https://thamesyc.org/event/block-island-mooring-reserved-for-sv-matou/
CATEGORIES:Block Island Mooring Reservation.
END:VEVENT
BEGIN:VEVENT
DTSTART;VALUE=DATE:20170701
DTEND;VALUE=DATE:20170706
DTSTAMP:20260424T084957
CREATED:20170301T152528Z
LAST-MODIFIED:20170302T112708Z
UID:10033747-1498867200-1499299199@thamesyc.org
SUMMARY:Block Island Mooring reserved for S/V VOYAGER
DESCRIPTION:
URL:https://thamesyc.org/event/block-island-mooring-reserved-for-sv-voyager-2/
CATEGORIES:Block Island Mooring Reservation.
END:VEVENT
BEGIN:VEVENT
DTSTART;VALUE=DATE:20170630
DTEND;VALUE=DATE:20170701
DTSTAMP:20260424T084957
CREATED:20170530T194422Z
LAST-MODIFIED:20170530T194422Z
UID:10034126-1498780800-1498867199@thamesyc.org
SUMMARY:Block Island Mooring reserved for S/V TILLER THE HUN
DESCRIPTION:
URL:https://thamesyc.org/event/block-island-mooring-reserved-for-sv-tiller-the-hun/
CATEGORIES:Block Island Mooring Reservation.
END:VEVENT
BEGIN:VEVENT
DTSTART;VALUE=DATE:20170628
DTEND;VALUE=DATE:20170630
DTSTAMP:20260424T084957
CREATED:20170626T083517Z
LAST-MODIFIED:20170626T083517Z
UID:10034136-1498608000-1498780799@thamesyc.org
SUMMARY:Block Island Mooring reserved S/V ADELINE
DESCRIPTION:
URL:https://thamesyc.org/event/block-island-mooring-reserved-sv-adeline/
CATEGORIES:Block Island Mooring Reservation.
END:VEVENT
BEGIN:VEVENT
DTSTART;TZID=America/New_York:20170623T080000
DTEND;TZID=America/New_York:20170624T170000
DTSTAMP:20260424T084957
CREATED:20170620T194403Z
LAST-MODIFIED:20170620T194403Z
UID:10034134-1498204800-1498323600@thamesyc.org
SUMMARY:Block Island Mooring reserved for S/V MALHALO
DESCRIPTION:
URL:https://thamesyc.org/event/block-island-mooring-reserved-for-sv-malhalo/
CATEGORIES:Block Island Mooring Reservation.
END:VEVENT
BEGIN:VEVENT
DTSTART;VALUE=DATE:20170611
DTEND;VALUE=DATE:20170612
DTSTAMP:20260424T084957
CREATED:20170302T113026Z
LAST-MODIFIED:20170302T113026Z
UID:10033751-1497139200-1497225599@thamesyc.org
SUMMARY:Block Island Mooring reserved for S/V VOYAGER
DESCRIPTION:
URL:https://thamesyc.org/event/block-island-mooring-reserved-for-sv-voyager-3/
CATEGORIES:Block Island Mooring Reservation.
END:VEVENT
BEGIN:VEVENT
DTSTART;VALUE=DATE:20170609
DTEND;VALUE=DATE:20170611
DTSTAMP:20260424T084957
CREATED:20170301T152402Z
LAST-MODIFIED:20170301T152402Z
UID:10033745-1496966400-1497139199@thamesyc.org
SUMMARY:Block Island Mooring reserved for S/V SUGAREE
DESCRIPTION:
URL:https://thamesyc.org/event/block-island-mooring-reserved-for-sv-sugaree/
CATEGORIES:Block Island Mooring Reservation.
END:VEVENT
BEGIN:VEVENT
DTSTART;TZID=America/New_York:20160919T080000
DTEND;TZID=America/New_York:20160924T170000
DTSTAMP:20260424T084957
CREATED:20160731T202632Z
LAST-MODIFIED:20160731T202632Z
UID:10033807-1474272000-1474736400@thamesyc.org
SUMMARY:Block Island Mooring Reserved - S/V Ledgelight
DESCRIPTION:
URL:https://thamesyc.org/event/block-island-mooring-reserved-sv-ledgelight-3/
CATEGORIES:Block Island Mooring Reservation.
END:VEVENT
BEGIN:VEVENT
DTSTART;VALUE=DATE:20160902
DTEND;VALUE=DATE:20160904
DTSTAMP:20260424T084957
CREATED:20160612T233943Z
LAST-MODIFIED:20160612T233943Z
UID:10033789-1472774400-1472947199@thamesyc.org
SUMMARY:Block Island Mooring Reserved for S/V Pallas Cat
DESCRIPTION:
URL:https://thamesyc.org/event/block-island-mooring-reserved-sv-pallas-cat/
CATEGORIES:Block Island Mooring Reservation.
END:VEVENT
BEGIN:VEVENT
DTSTART;VALUE=DATE:20160812
DTEND;VALUE=DATE:20160814
DTSTAMP:20260424T084957
CREATED:20160710T132044Z
LAST-MODIFIED:20160711T153604Z
UID:10033795-1470960000-1471132799@thamesyc.org
SUMMARY:Block Island Mooring Reserved for S/V TRILOGY
DESCRIPTION:
URL:https://thamesyc.org/event/block-island-mooring-reserved-sv-trilogy/
CATEGORIES:Block Island Mooring Reservation.
END:VEVENT
BEGIN:VEVENT
DTSTART;VALUE=DATE:20160809
DTEND;VALUE=DATE:20160812
DTSTAMP:20260424T084957
CREATED:20160809T194820Z
LAST-MODIFIED:20160809T194820Z
UID:10033815-1470700800-1470959999@thamesyc.org
SUMMARY:Block Island Mooring Reserved for S/V BORN TO RUN
DESCRIPTION:
URL:https://thamesyc.org/event/block-island-mooring-reserved-sv-born-run/
CATEGORIES:Block Island Mooring Reservation.
END:VEVENT
BEGIN:VEVENT
DTSTART;TZID=America/New_York:20160807T080000
DTEND;TZID=America/New_York:20160808T170000
DTSTAMP:20260424T084957
CREATED:20160709T200848Z
LAST-MODIFIED:20160709T200848Z
UID:10033793-1470556800-1470675600@thamesyc.org
SUMMARY:Block Island Mooring Reserved for S/V Caper
DESCRIPTION:
URL:https://thamesyc.org/event/block-island-mooring-reserved-sv-caper/
CATEGORIES:Block Island Mooring Reservation.
END:VEVENT
BEGIN:VEVENT
DTSTART;TZID=America/New_York:20160804T080000
DTEND;TZID=America/New_York:20160806T170000
DTSTAMP:20260424T084957
CREATED:20160322T201510Z
LAST-MODIFIED:20160322T201510Z
UID:10033765-1470297600-1470502800@thamesyc.org
SUMMARY:Block Island Mooring reserved S/V Two Hours
DESCRIPTION:
URL:https://thamesyc.org/event/block-island-mooring-reserved-sv-two-hours-2/
CATEGORIES:Block Island Mooring Reservation.
END:VEVENT
END:VCALENDAR