BEGIN:VCALENDAR
VERSION:2.0
PRODID:-//Thames Yacht Club - ECPv6.15.17//NONSGML v1.0//EN
CALSCALE:GREGORIAN
METHOD:PUBLISH
X-WR-CALNAME:Thames Yacht Club
X-ORIGINAL-URL:https://thamesyc.org
X-WR-CALDESC:Events for Thames Yacht Club
REFRESH-INTERVAL;VALUE=DURATION:PT1H
X-Robots-Tag:noindex
X-PUBLISHED-TTL:PT1H
BEGIN:VTIMEZONE
TZID:America/New_York
BEGIN:DAYLIGHT
TZOFFSETFROM:-0500
TZOFFSETTO:-0400
TZNAME:EDT
DTSTART:20250309T070000
END:DAYLIGHT
BEGIN:STANDARD
TZOFFSETFROM:-0400
TZOFFSETTO:-0500
TZNAME:EST
DTSTART:20251102T060000
END:STANDARD
BEGIN:DAYLIGHT
TZOFFSETFROM:-0500
TZOFFSETTO:-0400
TZNAME:EDT
DTSTART:20260308T070000
END:DAYLIGHT
BEGIN:STANDARD
TZOFFSETFROM:-0400
TZOFFSETTO:-0500
TZNAME:EST
DTSTART:20261101T060000
END:STANDARD
BEGIN:DAYLIGHT
TZOFFSETFROM:-0500
TZOFFSETTO:-0400
TZNAME:EDT
DTSTART:20270314T070000
END:DAYLIGHT
BEGIN:STANDARD
TZOFFSETFROM:-0400
TZOFFSETTO:-0500
TZNAME:EST
DTSTART:20271107T060000
END:STANDARD
END:VTIMEZONE
BEGIN:VEVENT
DTSTART;VALUE=DATE:20260605
DTEND;VALUE=DATE:20260606
DTSTAMP:20260423T132837
CREATED:20260115T181013Z
LAST-MODIFIED:20260115T181529Z
UID:10039488-1780617600-1780703999@thamesyc.org
SUMMARY:Block Island Mooring - S/V Heron
DESCRIPTION:
URL:https://thamesyc.org/event/block-island-mooring-s-v-heron/
CATEGORIES:Block Island Mooring Reservation.
END:VEVENT
BEGIN:VEVENT
DTSTART;VALUE=DATE:20260605
DTEND;VALUE=DATE:20260608
DTSTAMP:20260423T132837
CREATED:20260115T180235Z
LAST-MODIFIED:20260115T180246Z
UID:10039487-1780617600-1780876799@thamesyc.org
SUMMARY:Block Island Mooring - S/V Aries
DESCRIPTION:
URL:https://thamesyc.org/event/block-island-mooring-s-v-aries/
CATEGORIES:Block Island Mooring Reservation.
END:VEVENT
BEGIN:VEVENT
DTSTART;VALUE=DATE:20260720
DTEND;VALUE=DATE:20260721
DTSTAMP:20260423T132837
CREATED:20260421T012508Z
LAST-MODIFIED:20260421T012549Z
UID:10039743-1784505600-1784591999@thamesyc.org
SUMMARY:Block Island Mooring - S/V Blue Note
DESCRIPTION:
URL:https://thamesyc.org/event/block-island-mooring-s-v-blue-note/
CATEGORIES:Block Island Mooring Reservation.
END:VEVENT
BEGIN:VEVENT
DTSTART;VALUE=DATE:20260721
DTEND;VALUE=DATE:20260722
DTSTAMP:20260423T132837
CREATED:20260421T012623Z
LAST-MODIFIED:20260421T012623Z
UID:10039744-1784592000-1784678399@thamesyc.org
SUMMARY:Block Island Mooring - S/V Blue Note
DESCRIPTION:
URL:https://thamesyc.org/event/block-island-mooring-s-v-blue-note-2/
CATEGORIES:Block Island Mooring Reservation.
END:VEVENT
BEGIN:VEVENT
DTSTART;VALUE=DATE:20260722
DTEND;VALUE=DATE:20260723
DTSTAMP:20260423T132837
CREATED:20260421T012650Z
LAST-MODIFIED:20260421T012658Z
UID:10039745-1784678400-1784764799@thamesyc.org
SUMMARY:Block Island Mooring - S/V Blue Note
DESCRIPTION:
URL:https://thamesyc.org/event/block-island-mooring-s-v-blue-note-3/
CATEGORIES:Block Island Mooring Reservation.
END:VEVENT
BEGIN:VEVENT
DTSTART;VALUE=DATE:20260723
DTEND;VALUE=DATE:20260724
DTSTAMP:20260423T132837
CREATED:20260421T012727Z
LAST-MODIFIED:20260421T012727Z
UID:10039746-1784764800-1784851199@thamesyc.org
SUMMARY:Block Island Mooring - S/V Blue Note
DESCRIPTION:
URL:https://thamesyc.org/event/block-island-mooring-s-v-blue-note-4/
CATEGORIES:Block Island Mooring Reservation.
END:VEVENT
BEGIN:VEVENT
DTSTART;VALUE=DATE:20260724
DTEND;VALUE=DATE:20260725
DTSTAMP:20260423T132837
CREATED:20260421T012823Z
LAST-MODIFIED:20260421T012835Z
UID:10039747-1784851200-1784937599@thamesyc.org
SUMMARY:Block Island Mooring - S/V Blue Note
DESCRIPTION:
URL:https://thamesyc.org/event/block-island-mooring-s-v-blue-note-5/
CATEGORIES:Block Island Mooring Reservation.
END:VEVENT
BEGIN:VEVENT
DTSTART;VALUE=DATE:20260725
DTEND;VALUE=DATE:20260726
DTSTAMP:20260423T132837
CREATED:20260421T012920Z
LAST-MODIFIED:20260421T012920Z
UID:10039748-1784937600-1785023999@thamesyc.org
SUMMARY:Block Island Mooring - S/V Blue Note
DESCRIPTION:
URL:https://thamesyc.org/event/block-island-mooring-s-v-blue-note-6/
CATEGORIES:Block Island Mooring Reservation.
END:VEVENT
BEGIN:VEVENT
DTSTART;VALUE=DATE:20260731
DTEND;VALUE=DATE:20260801
DTSTAMP:20260423T132837
CREATED:20260407T181609Z
LAST-MODIFIED:20260407T181609Z
UID:10039550-1785456000-1785542399@thamesyc.org
SUMMARY:Block Island Mooring - S/V Ledgelight
DESCRIPTION:
URL:https://thamesyc.org/event/block-island-mooring-s-v-ledgelight/
CATEGORIES:Block Island Mooring Reservation.
END:VEVENT
BEGIN:VEVENT
DTSTART;VALUE=DATE:20260731
DTEND;VALUE=DATE:20260801
DTSTAMP:20260423T132837
CREATED:20260421T013010Z
LAST-MODIFIED:20260421T013010Z
UID:10039749-1785456000-1785542399@thamesyc.org
SUMMARY:Block Island Mooring - S/V Sebago
DESCRIPTION:
URL:https://thamesyc.org/event/block-island-mooring-s-v-sebago/
CATEGORIES:Block Island Mooring Reservation.
END:VEVENT
BEGIN:VEVENT
DTSTART;VALUE=DATE:20260801
DTEND;VALUE=DATE:20260802
DTSTAMP:20260423T132837
CREATED:20260407T181712Z
LAST-MODIFIED:20260407T181712Z
UID:10039551-1785542400-1785628799@thamesyc.org
SUMMARY:Block Island Mooring - S/V Ledgelight
DESCRIPTION:
URL:https://thamesyc.org/event/block-island-mooring-s-v-ledgelight-2/
CATEGORIES:Block Island Mooring Reservation.
END:VEVENT
BEGIN:VEVENT
DTSTART;VALUE=DATE:20260801
DTEND;VALUE=DATE:20260802
DTSTAMP:20260423T132837
CREATED:20260421T013057Z
LAST-MODIFIED:20260421T013057Z
UID:10039750-1785542400-1785628799@thamesyc.org
SUMMARY:Block Island Mooring - S/V Sebago
DESCRIPTION:
URL:https://thamesyc.org/event/block-island-mooring-s-v-sebago-2/
CATEGORIES:Block Island Mooring Reservation.
END:VEVENT
BEGIN:VEVENT
DTSTART;VALUE=DATE:20260802
DTEND;VALUE=DATE:20260803
DTSTAMP:20260423T132837
CREATED:20260407T181742Z
LAST-MODIFIED:20260407T181742Z
UID:10039552-1785628800-1785715199@thamesyc.org
SUMMARY:Block Island Mooring - S/V Ledgelight
DESCRIPTION:
URL:https://thamesyc.org/event/block-island-mooring-s-v-ledgelight-3/
CATEGORIES:Block Island Mooring Reservation.
END:VEVENT
BEGIN:VEVENT
DTSTART;VALUE=DATE:20260802
DTEND;VALUE=DATE:20260803
DTSTAMP:20260423T132837
CREATED:20260421T013135Z
LAST-MODIFIED:20260421T013135Z
UID:10039751-1785628800-1785715199@thamesyc.org
SUMMARY:Block Island Mooring - S/V Sebago
DESCRIPTION:
URL:https://thamesyc.org/event/block-island-mooring-s-v-sebago-3/
CATEGORIES:Block Island Mooring Reservation.
END:VEVENT
BEGIN:VEVENT
DTSTART;VALUE=DATE:20260803
DTEND;VALUE=DATE:20260804
DTSTAMP:20260423T132837
CREATED:20260407T181812Z
LAST-MODIFIED:20260407T181812Z
UID:10039553-1785715200-1785801599@thamesyc.org
SUMMARY:Block Island Mooring - S/V Ledgelight
DESCRIPTION:
URL:https://thamesyc.org/event/block-island-mooring-s-v-ledgelight-4/
CATEGORIES:Block Island Mooring Reservation.
END:VEVENT
BEGIN:VEVENT
DTSTART;VALUE=DATE:20260804
DTEND;VALUE=DATE:20260805
DTSTAMP:20260423T132837
CREATED:20260407T181845Z
LAST-MODIFIED:20260407T181845Z
UID:10039554-1785801600-1785887999@thamesyc.org
SUMMARY:Block Island Mooring - S/V Ledgelight
DESCRIPTION:
URL:https://thamesyc.org/event/block-island-mooring-s-v-ledgelight-5/
CATEGORIES:Block Island Mooring Reservation.
END:VEVENT
BEGIN:VEVENT
DTSTART;VALUE=DATE:20260805
DTEND;VALUE=DATE:20260806
DTSTAMP:20260423T132837
CREATED:20260407T181939Z
LAST-MODIFIED:20260407T181955Z
UID:10039555-1785888000-1785974399@thamesyc.org
SUMMARY:Block Island Mooring - S/V Ledgelight
DESCRIPTION:
URL:https://thamesyc.org/event/block-island-mooring-s-v-ledgelight-6/
CATEGORIES:Block Island Mooring Reservation.
END:VEVENT
END:VCALENDAR