BEGIN:VCALENDAR
VERSION:2.0
PRODID:-//Thames Yacht Club - ECPv6.15.17//NONSGML v1.0//EN
CALSCALE:GREGORIAN
METHOD:PUBLISH
X-ORIGINAL-URL:https://thamesyc.org
X-WR-CALDESC:Events for Thames Yacht Club
REFRESH-INTERVAL;VALUE=DURATION:PT1H
X-Robots-Tag:noindex
X-PUBLISHED-TTL:PT1H
BEGIN:VTIMEZONE
TZID:America/New_York
BEGIN:DAYLIGHT
TZOFFSETFROM:-0500
TZOFFSETTO:-0400
TZNAME:EDT
DTSTART:20240310T070000
END:DAYLIGHT
BEGIN:STANDARD
TZOFFSETFROM:-0400
TZOFFSETTO:-0500
TZNAME:EST
DTSTART:20241103T060000
END:STANDARD
BEGIN:DAYLIGHT
TZOFFSETFROM:-0500
TZOFFSETTO:-0400
TZNAME:EDT
DTSTART:20250309T070000
END:DAYLIGHT
BEGIN:STANDARD
TZOFFSETFROM:-0400
TZOFFSETTO:-0500
TZNAME:EST
DTSTART:20251102T060000
END:STANDARD
BEGIN:DAYLIGHT
TZOFFSETFROM:-0500
TZOFFSETTO:-0400
TZNAME:EDT
DTSTART:20260308T070000
END:DAYLIGHT
BEGIN:STANDARD
TZOFFSETFROM:-0400
TZOFFSETTO:-0500
TZNAME:EST
DTSTART:20261101T060000
END:STANDARD
END:VTIMEZONE
BEGIN:VEVENT
DTSTART;VALUE=DATE:20250628
DTEND;VALUE=DATE:20250707
DTSTAMP:20260424T070143
CREATED:20250624T233615Z
LAST-MODIFIED:20250624T233615Z
UID:10039390-1751068800-1751846399@thamesyc.org
SUMMARY:BI Mooring - Max Satti
DESCRIPTION:
URL:https://thamesyc.org/event/bi-mooring-max-satti/
CATEGORIES:Block Island Mooring Reservation.
END:VEVENT
BEGIN:VEVENT
DTSTART;TZID=America/New_York:20250702T080000
DTEND;TZID=America/New_York:20250707T170000
DTSTAMP:20260424T070143
CREATED:20250615T223504Z
LAST-MODIFIED:20250615T223504Z
UID:10039378-1751443200-1751907600@thamesyc.org
SUMMARY:BI Mooring - Tiller the Hun
DESCRIPTION:
URL:https://thamesyc.org/event/bi-mooring-tiller-the-hun/
CATEGORIES:Block Island Mooring Reservation.
END:VEVENT
BEGIN:VEVENT
DTSTART;VALUE=DATE:20250717
DTEND;VALUE=DATE:20250719
DTSTAMP:20260424T070143
CREATED:20250717T230008Z
LAST-MODIFIED:20250717T230008Z
UID:10039404-1752710400-1752883199@thamesyc.org
SUMMARY:BI Mooring - s/v Blue Night
DESCRIPTION:
URL:https://thamesyc.org/event/bi-mooring-s-v-blue-night/
CATEGORIES:Block Island Mooring Reservation.
END:VEVENT
BEGIN:VEVENT
DTSTART;VALUE=DATE:20250718
DTEND;VALUE=DATE:20250719
DTSTAMP:20260424T070143
CREATED:20250717T230202Z
LAST-MODIFIED:20250717T230202Z
UID:10039405-1752796800-1752883199@thamesyc.org
SUMMARY:BI Mooring - s/v Free and Easy
DESCRIPTION:
URL:https://thamesyc.org/event/bi-mooring-s-v-free-and-easy/
CATEGORIES:Block Island Mooring Reservation.
END:VEVENT
BEGIN:VEVENT
DTSTART;VALUE=DATE:20250722
DTEND;VALUE=DATE:20250723
DTSTAMP:20260424T070143
CREATED:20250722T001408Z
LAST-MODIFIED:20250722T001408Z
UID:10039408-1753142400-1753228799@thamesyc.org
SUMMARY:BI Mooring - s/v Vega
DESCRIPTION:
URL:https://thamesyc.org/event/bi-mooring-s-v-vega/
CATEGORIES:Block Island Mooring Reservation.
END:VEVENT
BEGIN:VEVENT
DTSTART;VALUE=DATE:20250723
DTEND;VALUE=DATE:20250724
DTSTAMP:20260424T070143
CREATED:20250722T001542Z
LAST-MODIFIED:20250722T001542Z
UID:10039409-1753228800-1753315199@thamesyc.org
SUMMARY:BI Mooring - s/v Born to Run
DESCRIPTION:
URL:https://thamesyc.org/event/bi-mooring-s-v-born-to-run/
CATEGORIES:Block Island Mooring Reservation.
END:VEVENT
BEGIN:VEVENT
DTSTART;VALUE=DATE:20250725
DTEND;VALUE=DATE:20250727
DTSTAMP:20260424T070143
CREATED:20250718T203007Z
LAST-MODIFIED:20250718T203007Z
UID:10039406-1753401600-1753574399@thamesyc.org
SUMMARY:BI Mooring - s/v Risky Business
DESCRIPTION:
URL:https://thamesyc.org/event/bi-mooring-s-v-risky-business/
CATEGORIES:Block Island Mooring Reservation.
END:VEVENT
BEGIN:VEVENT
DTSTART;VALUE=DATE:20250728
DTEND;VALUE=DATE:20250729
DTSTAMP:20260424T070143
CREATED:20250731T154010Z
LAST-MODIFIED:20250731T154010Z
UID:10039415-1753660800-1753747199@thamesyc.org
SUMMARY:BI Mooring S/V Tiller the Hun
DESCRIPTION:
URL:https://thamesyc.org/event/bi-mooring-s-v-tiller-the-hun/
CATEGORIES:Block Island Mooring Reservation.
END:VEVENT
BEGIN:VEVENT
DTSTART;VALUE=DATE:20250731
DTEND;VALUE=DATE:20250802
DTSTAMP:20260424T070143
CREATED:20250731T153500Z
LAST-MODIFIED:20250731T153500Z
UID:10039413-1753920000-1754092799@thamesyc.org
SUMMARY:BI Mooring S/V Zenora
DESCRIPTION:
URL:https://thamesyc.org/event/bi-mooring-s-v-zenora/
CATEGORIES:Block Island Mooring Reservation.
END:VEVENT
END:VCALENDAR